{"text_format":"1","workbook":"xlsx","n_sheets":6,"sheets":["4 вариант 15.02","Раздел I","Раздел 2","Раздел 3","Раздел 4","cвод"],"not_rendered":{"charts":0,"images":0,"macros":0,"external_links":1,"defined_names":19,"comments":1,"pivot_tables":0},"unopened":[],"bounds":{"document_bytes":16777216,"sheet_cells":100000,"rows_first":2000,"rows_last":500,"rows_between":2000,"halvings":0,"cell_chars":16384,"cell_head_chars":4096},"cells_cut":0,"cells_raw":0,"read":"whole","date_system":"1900"}

{"sheet":"4 вариант 15.02","index":0,"n_rows":937,"n_cols":26,"rows_kept":937,"cut":false,"hidden":true,"merged":[[2,25,4,25],[0,0,0,25],[1,0,5,0],[1,1,5,1],[1,2,4,2],[1,3,1,25],[2,3,2,8],[2,23,4,23],[2,9,4,10],[2,11,4,12],[3,3,4,3],[3,4,3,8],[2,13,4,14],[2,15,4,16],[24,0,24,1],[25,0,25,1],[2,17,4,18],[2,19,4,20],[2,21,4,22],[7,0,7,24],[8,0,8,19],[2,24,4,24]]}
["IV. Реестр многоквартирных домов, которые подлежат капитальному ремонту в 2018 году, с учетом мер государственной поддержки"]
["№ п\\п","Адрес МКД","Стоимость капитального ремонта ВСЕГО","Виды работ"]
[null,null,null,"Ремонт внутридомовых инженерных систем",null,null,null,null,null,"Ремонт или замена лифтового оборудования",null,"Ремонт крыши",null,"Ремонт подвальных помещений",null,"Ремонт фасада",null,"Ремонт фундамента",null,"Ремонт подъездов",null,"Утепление  фасадов",null,"Установка коллектив-ных (общедо-мовых) ПУ и УУ","Проект-ные работы","Работы по предпроектной подготовке"]
[null,null,null,"Всего работ по инженерным системам","в том числе"]
[null,null,null,null,"Ремонт сетей электроснабжения","Ремонт сетей теплоснабжения","Ремонт сетей холодного водоснабжения","Ремонт сетей горячего водоснабжения","Ремонт систем водоотведения"]
[null,null,"руб.","руб.","руб.","руб.","руб.","руб.","руб.","ед.","руб.","кв.м.","руб.","кв.м.","руб.","кв.м.","руб.","куб.м.","руб.","куб.м.","руб.","кв.м.","руб.","руб.","руб.","руб."]
[1,2,3,4,5,6,7,8,9,10,11,12,13,14,15,16,17,18,19,20,21,22,23,24,25,24]
["Объекты культурного наследия по г. Выборгу"]
["Муниципальное образование \"Город Выборг\""]
[1,"г. Выборг, просп. Ленина, д. 6",{"$f":"M10+Q10","v":49775695.930000007},{"$f":"E10+F10+G10+H10+I10","v":0},null,null,null,null,null,null,null,998,10968656.84,null,null,3425,38807039.090000004]
[{"$f":"A10+1","v":2},"г. Выборг, ул. Железнодорожная, д. 2",{"$f":"M11+Q11","v":71246479.390000001},0,null,null,null,null,null,null,null,2373,27524999,null,null,5336,43721480.390000001]
[{"$f":"A11+1","v":3},"г. Выборг, ул. Железнодорожная, д. 4",32678707.010000002,0,null,null,null,null,null,null,null,872,11984761.140000001,null,null,2144,20693945.870000001]
[4,"г. Выборг, ул. Крепостная, д. 37",35893316.079999998,0,null,null,null,null,null,null,null,null,null,null,null,3816,35893316.079999998]
[5,"г. Выборг, просп. Ленина, д. 20",41972672.829999998,0,null,null,null,null,null,null,null,1343,15061442.029999999,null,null,3979,26911230.800000001]
[6,"г. Выборг, просп. Ленина, д. 18",59578132.510000005,0,null,null,null,null,null,null,null,2045,24228789.09,null,null,6152,35349343.420000002]
[7,"г. Выборг, просп. Суворова, д. 25",45928527.659999996,0,null,null,null,null,null,null,null,844,10966897.220000001,null,null,2501,34961630.439999998]
[8,"г. Выборг, ул. Северная, д. 8",51170285.810000002,0,null,null,null,null,null,null,null,null,null,null,null,6460,51170285.810000002]
[9,"г. Выборг, ул. Северная, д. 10",60495179.119999997,0,null,null,null,null,null,null,null,null,null,null,null,4160,60495179.119999997]
[10,"г. Выборг, Ленинградский пр., д. 14",26008913.349999998,0,null,null,null,null,null,null,null,540,7099248.0599999996,null,null,2623,18909665.289999999]
[11,"г. Выборг, Ленинградский пр., д. 16",26073352.199999999,0,null,null,null,null,null,null,null,760,8877863.9499999993,null,null,1116,17195488.25]
[12,"г. Выборг, Ленинградский пр., д. 31",64195351.770000003,0,null,null,null,null,null,null,null,1598,15544550,null,null,5534,48650801.770000003]
[13,"г. Выборг, Ленинградское ш., д. 1",96318597.449999988,0,null,null,null,null,null,null,null,2280,22581195.350000001,null,null,6423,73737402.099999994]
["Итого по муниципальному образованию",null,{"$f":"SUM(C10:C22)","v":661335211.1099999},{"$f":"SUM(D10:D22)","v":0},0,0,0,0,0,0,0,13653,{"$f":"SUM(M10:M22)","v":154838402.68000001},0,0,53669,506496808.43000007,0,0,0,0,0,0,0,0]
["ИТОГО по Ленинградской области",null,{"$f":"C23","v":661335211.1099999},{"$f":"D23","v":0},0,0,0,0,0,0,0,13653,154838402.68000001,0,0,53669,506496808.43000007,0,0,0,0,0,0,0,0]
["Осуществление строительного контроля",null,{"$f":"C24*0.0214","v":14152573.517753998}]
["Итого по Ленинградской области со строительным контролем",null,{"$f":"C24+C25","v":675487784.62775385}]
[]
[]
[]
[]
[]
[]
[]
[]
[]
[]
[]
[]
[]
[]
[]
[null,null,null,null,null,null,null,null,null,null,null,null,null,null,null,null,null,null,null,null,null,null,null,null,null,{"$f":"SUM(Z24:Z41)","v":0}]
[]
[]
[]
[]
[null,null,null,null,null,null,null,null,null,null,null,null,null,null,null,null,null,null,null,null,null,null,null,null,null,{"$f":"SUM(Z44:Z46)","v":0}]
[null,null,null,null,null,null,null,null,null,null,null,null,null,null,null,null,null,null,null,null,null,null,null,null,null,{"$f":"Z42+#REF!+Z47+#REF!","v":{"$error":"#REF!"}}]
[]
[]
[]
[]
[]
[]
[]
[]
[]
[]
[]
[]
[]
[]
[]
[]
[]
[]
[]
[]
[]
[]
[]
[]
[]
[]
[]
[]
[]
[]
[]
[]
[]
[]
[]
[]
[]
[]
[]
[]
[]
[]
[]
[]
[]
[]
[]
[]
[]
[]
[]
[null,null,null,null,null,null,null,null,null,null,null,null,null,null,null,null,null,null,null,null,null,null,null,null,null,{"$f":"SUM(Z87:Z99)","v":0}]
[]
[]
[]
[]
[]
[]
[]
[]
[]
[]
[]
[]
[]
[]
[]
[]
[]
[]
[]
[]
[]
[]
[null,null,null,null,null,null,null,null,null,null,null,null,null,null,null,null,null,null,null,null,null,null,null,null,null,{"$f":"SUM(Z105:Z122)","v":0}]
[]
[]
[]
[]
[]
[]
[]
[]
[]
[]
[null,null,null,null,null,null,null,null,null,null,null,null,null,null,null,null,null,null,null,null,null,null,null,null,null,{"$f":"SUM(Z128:Z133)","v":0}]
[]
[]
[]
[]
[]
[]
[]
[null,null,null,null,null,null,null,null,null,null,null,null,null,null,null,null,null,null,null,null,null,null,null,null,null,{"$f":"SUM(Z136:Z141)","v":0}]
[]
[]
[]
[]
[]
[null,null,null,null,null,null,null,null,null,null,null,null,null,null,null,null,null,null,null,null,null,null,null,null,null,{"$f":"SUM(Z144:Z146)","v":0}]
[null,null,null,null,null,null,null,null,null,null,null,null,null,null,null,null,null,null,null,null,null,null,null,null,null,{"$f":"Z100+Z123+Z134+Z148+Z142+Z126","v":0}]
[]
[]
[]
[]
[]
[]
[null,null,null,null,null,null,null,null,null,null,null,null,null,null,null,null,null,null,null,null,null,null,null,null,null,{"$f":"SUM(Z152:Z155)","v":0}]
[]
[]
[]
[]
[]
[]
[]
[]
[]
[]
[]
[]
[]
[]
[]
[]
[]
[]
[]
[]
[]
[]
[]
[]
[]
[]
[]
[]
[]
[]
[]
[]
[]
[]
[]
[]
[]
[]
[]
[]
[]
[]
[]
[]
[]
[]
[]
[]
[]
[]
[]
[]
[]
[]
[]
[]
[]
[]
[]
[]
[]
[]
[]
[null,null,null,null,null,null,null,null,null,null,null,null,null,null,null,null,null,null,null,null,null,null,null,null,null,{"$f":"SUM(Z161:Z219)","v":0}]
[]
[]
[]
[]
[]
[]
[null,null,null,null,null,null,null,null,null,null,null,null,null,null,null,null,null,null,null,null,null,null,null,null,null,{"$f":"SUM(Z226)","v":0}]
[]
[]
[]
[]
[]
[]
[null,null,null,null,null,null,null,null,null,null,null,null,null,null,null,null,null,null,null,null,null,null,null,null,null,{"$f":"Z156+Z220+Z227","v":0}]
[]
[]
[]
[]
[]
[]
[]
[]
[]
[]
[]
[]
[]
[]
[null,null,null,null,null,null,null,null,null,null,null,null,null,null,null,null,null,null,null,null,null,null,null,null,null,{"$f":"SUM(Z237:Z248)","v":0}]
[]
[]
[]
[]
[null,null,null,null,null,null,null,null,null,null,null,null,null,null,null,null,null,null,null,null,null,null,null,null,null,{"$f":"SUM(Z251:Z253)","v":0}]
[null,null,null,null,null,null,null,null,null,null,null,null,null,null,null,null,null,null,null,null,null,null,null,null,null,{"$f":"Z249+Z254","v":0}]
[]
[]
[]
[]
[]
[]
[]
[]
[]
[]
[]
[]
[]
[]
[]
[]
[]
[]
[]
[]
[]
[]
[]
[]
[]
[]
[]
[]
[]
[null,null,null,null,null,null,null,null,null,null,null,null,null,null,null,null,null,null,null,null,null,null,null,null,null,{"$f":"SUM(Z258:Z284)","v":0}]
[]
[]
[]
[]
[null,null,null,null,null,null,null,null,null,null,null,null,null,null,null,null,null,null,null,null,null,null,null,null,null,{"$f":"SUM(Z287:Z289)","v":0}]
[]
[]
[]
[null,null,null,null,null,null,null,null,null,null,null,null,null,null,null,null,null,null,null,null,null,null,null,null,null,{"$f":"SUM(Z292:Z293)","v":0}]
[null,null,null,null,null,null,null,null,null,null,null,null,null,null,null,null,null,null,null,null,null,null,null,null,null,{"$f":"Z285+Z294+Z290","v":0}]
[]
[]
[]
[]
[]
[]
[]
[]
[]
[]
[]
[]
[]
[]
[]
[]
[]
[]
[]
[]
[]
[]
[]
[]
[]
[]
[null,null,null,null,null,null,null,null,null,null,null,null,null,null,null,null,null,null,null,null,null,null,null,null,null,{"$f":"SUM(Z298:Z321)","v":0}]
[]
[]
[]
[]
[]
[]
[]
[]
[]
[]
[]
[]
[]
[]
[]
[]
[null,null,null,null,null,null,null,null,null,null,null,null,null,null,null,null,null,null,null,null,null,null,null,null,null,{"$f":"SUM(Z324:Z338)","v":0}]
[]
[]
[]
[]
[]
[]
[null,null,null,null,null,null,null,null,null,null,null,null,null,null,null,null,null,null,null,null,null,null,null,null,null,{"$f":"SUM(Z341:Z345)","v":0}]
[]
[]
[null,null,null,null,null,null,null,null,null,null,null,null,null,null,null,null,null,null,null,null,null,null,null,null,null,{"$f":"SUM(Z348:Z348)","v":0}]
[]
[]
[]
[]
[]
[]
[]
[null,null,null,null,null,null,null,null,null,null,null,null,null,null,null,null,null,null,null,null,null,null,null,null,null,{"$f":"SUM(Z351:Z356)","v":0}]
[]
[]
[]
[]
[]
[]
[]
[null,null,null,null,null,null,null,null,null,null,null,null,null,null,null,null,null,null,null,null,null,null,null,null,null,{"$f":"SUM(Z359:Z364)","v":0}]
[null,null,null,null,null,null,null,null,null,null,null,null,null,null,null,null,null,null,null,null,null,null,null,null,null,{"$f":"E366+F366+G366+H366+I366+K366+M366+O366+Q366+S366+U366+V366+W366+X366","v":0}]
[null,null,null,null,null,null,null,null,null,null,null,null,null,null,null,null,null,null,null,null,null,null,null,null,null,{"$f":"E367+F367+G367+H367+I367+K367+M367+O367+Q367+S367+U367+V367+W367+X367","v":0}]
[null,null,null,null,null,null,null,null,null,null,null,null,null,null,null,null,null,null,null,null,null,null,null,null,null,{"$f":"E368+F368+G368+H368+I368+K368+M368+O368+Q368+S368+U368+V368+W368+X368","v":0}]
[null,null,null,null,null,null,null,null,null,null,null,null,null,null,null,null,null,null,null,null,null,null,null,null,null,{"$f":"E369+F369+G369+H369+I369+K369+M369+O369+Q369+S369+U369+V369+W369+X369","v":0}]
[null,null,null,null,null,null,null,null,null,null,null,null,null,null,null,null,null,null,null,null,null,null,null,null,null,{"$f":"E370+F370+G370+H370+I370+K370+M370+O370+Q370+S370+U370+V370+W370+X370","v":0}]
[]
[]
[]
[]
[]
[]
[]
[]
[]
[]
[]
[]
[]
[]
[]
[]
[]
[]
[]
[]
[]
[]
[]
[]
[]
[null,null,null,null,null,null,null,null,null,null,null,null,null,null,null,null,null,null,null,null,null,null,null,null,null,{"$f":"SUM(Z372:Z395)","v":0}]
[null,null,null,null,null,null,null,null,null,null,null,null,null,null,null,null,null,null,null,null,null,null,null,null,null,{"$f":"SUM(Z396+Z365+Z357+Z349+Z346+Z339+Z322)","v":0}]
[]
[]
[]
[]
[]
[]
[]
[]
[]
[]
[]
[]
[]
[]
[]
[]
[]
[]
[]
[]
[]
[]
[]
[]
[]
[]
[]
[]
[]
[]
[]
[]
[]
[]
[]
[null,null,null,null,null,null,null,null,null,null,null,null,null,null,null,null,null,null,null,null,null,null,null,null,null,{"$f":"SUM(Z400:Z432)","v":0}]
[null,null,null,null,null,null,null,null,null,null,null,null,null,null,null,null,null,null,null,null,null,null,null,null,null,{"$f":"Z433","v":0}]
[]
[]
[]
[]
[]
[]
[]
[]
[null,null,null,null,null,null,null,null,null,null,null,null,null,null,null,null,null,null,null,null,null,null,null,null,null,{"$f":"SUM(Z437:Z440)","v":0}]
[]
[]
[null,null,null,null,null,null,null,null,null,null,null,null,null,null,null,null,null,null,null,null,null,null,null,null,null,{"$f":"SUM(Z445:Z445)","v":0}]
[]
[]
[]
[]
[null,null,null,null,null,null,null,null,null,null,null,null,null,null,null,null,null,null,null,null,null,null,null,null,null,{"$f":"SUM(Z448:Z450)","v":0}]
[]
[]
[]
[]
[]
[null,null,null,null,null,null,null,null,null,null,null,null,null,null,null,null,null,null,null,null,null,null,null,null,null,{"$f":"SUM(Z453:Z456)","v":0}]
[]
[]
[]
[]
[]
[null,null,null,null,null,null,null,null,null,null,null,null,null,null,null,null,null,null,null,null,null,null,null,null,null,{"$f":"SUM(Z459:Z462)","v":0}]
[]
[]
[]
[null,null,null,null,null,null,null,null,null,null,null,null,null,null,null,null,null,null,null,null,null,null,null,null,null,{"$f":"SUM(Z465:Z466)","v":0}]
[]
[]
[]
[]
[]
[null,null,null,null,null,null,null,null,null,null,null,null,null,null,null,null,null,null,null,null,null,null,null,null,null,{"$f":"SUM(Z469:Z472)","v":0}]
[null,null,null,null,null,null,null,null,null,null,null,null,null,null,null,null,null,null,null,null,null,null,null,null,null,{"$f":"Z451+Z443+Z446+Z473+Z467+Z457+Z463","v":0}]
[]
[]
[]
[]
[null,null,null,null,null,null,null,null,null,null,null,null,null,null,null,null,null,null,null,null,null,null,null,null,null,{"$f":"SUM(Z477:Z478)","v":0}]
[]
[]
[]
[]
[]
[]
[]
[]
[]
[]
[]
[]
[]
[]
[]
[]
[]
[]
[]
[]
[]
[]
[null,null,null,null,null,null,null,null,null,null,null,null,null,null,null,null,null,null,null,null,null,null,null,null,null,{"$f":"SUM(Z493:Z501)","v":0}]
[]
[]
[]
[null,null,null,null,null,null,null,null,null,null,null,null,null,null,null,null,null,null,null,null,null,null,null,null,null,{"$f":"SUM(Z504:Z505)","v":0}]
[]
[]
[null,null,null,null,null,null,null,null,null,null,null,null,null,null,null,null,null,null,null,null,null,null,null,null,null,{"$f":"SUM(Z508:Z508)","v":0}]
[]
[]
[]
[]
[]
[]
[]
[]
[null,null,null,null,null,null,null,null,null,null,null,null,null,null,null,null,null,null,null,null,null,null,null,null,null,{"$f":"SUM(Z511:Z517)","v":0}]
[]
[]
[]
[]
[]
[]
[]
[null,null,null,null,null,null,null,null,null,null,null,null,null,null,null,null,null,null,null,null,null,null,null,null,null,{"$f":"SUM(Z520:Z525)","v":0}]
[]
[]
[null,null,null,null,null,null,null,null,null,null,null,null,null,null,null,null,null,null,null,null,null,null,null,null,null,{"$f":"SUM(Z528:Z528)","v":0}]
[]
[]
[null,null,null,null,null,null,null,null,null,null,null,null,null,null,null,null,null,null,null,null,null,null,null,null,null,{"$f":"SUM(Z531)","v":0}]
[]
[]
[]
[]
[]
[]
[null,null,null,null,null,null,null,null,null,null,null,null,null,null,null,null,null,null,null,null,null,null,null,null,null,{"$f":"Z479+Z502+Z506+Z509+Z518+Z526+Z529+Z532+Z538","v":0}]
[]
[]
[]
[]
[]
[]
[]
[]
[]
[]
[null,null,null,null,null,null,null,null,null,null,null,null,null,null,null,null,null,null,null,null,null,null,null,null,null,{"$f":"SUM(Z542:Z549)","v":0}]
[null,null,null,null,null,null,null,null,null,null,null,null,null,null,null,null,null,null,null,null,null,null,null,null,null,{"$f":"Z550","v":0}]
[]
[]
[]
[]
[]
[]
[]
[null,null,null,null,null,null,null,null,null,null,null,null,null,null,null,null,null,null,null,null,null,null,null,null,null,{"$f":"SUM(Z554:Z558)","v":0}]
[]
[]
[]
[]
[]
[null,null,null,null,null,null,null,null,null,null,null,null,null,null,null,null,null,null,null,null,null,null,null,null,null,{"$f":"SUM(Z561:Z564)","v":0}]
[]
[]
[]
[]
[null,null,null,null,null,null,null,null,null,null,null,null,null,null,null,null,null,null,null,null,null,null,null,null,null,{"$f":"SUM(Z567:Z569)","v":0}]
[]
[]
[]
[]
[]
[null,null,null,null,null,null,null,null,null,null,null,null,null,null,null,null,null,null,null,null,null,null,null,null,null,{"$f":"SUM(Z572:Z575)","v":0}]
[]
[]
[]
[null,null,null,null,null,null,null,null,null,null,null,null,null,null,null,null,null,null,null,null,null,null,null,null,null,{"$f":"SUM(Z578:Z579)","v":0}]
[]
[]
[]
[]
[]
[]
[]
[null,null,null,null,null,null,null,null,null,null,null,null,null,null,null,null,null,null,null,null,null,null,null,null,null,{"$f":"Z586+Z587","v":0}]
[null,null,null,null,null,null,null,null,null,null,null,null,null,null,null,null,null,null,null,null,null,null,null,null,null,{"$f":"Z559+Z565+Z570+Z576+Z580","v":0}]
[]
[]
[]
[null,null,null,null,null,null,null,null,null,null,null,null,null,null,null,null,null,null,null,null,null,null,null,null,null,{"$f":"SUM(Z592:Z592)","v":0}]
[]
[]
[null,null,null,null,null,null,null,null,null,null,null,null,null,null,null,null,null,null,null,null,null,null,null,null,null,{"$f":"SUM(Z595)","v":0}]
[]
[]
[]
[]
[]
[]
[]
[]
[]
[]
[]
[]
[]
[]
[]
[]
[]
[]
[]
[]
[]
[]
[]
[]
[]
[]
[]
[]
[]
[]
[]
[]
[]
[]
[]
[]
[]
[null,null,null,null,null,null,null,null,null,null,null,null,null,null,null,null,null,null,null,null,null,null,null,null,null,{"$f":"SUM(Z598:Z633)","v":0}]
[null,null,null,null,null,null,null,null,null,null,null,null,null,null,null,null,null,null,null,null,null,null,null,null,null,{"$f":"Z634+Z596+Z593","v":0}]
[]
[]
[]
[]
[]
[]
[]
[]
[]
[]
[]
[]
[]
[]
[]
[]
[]
[]
[]
[]
[]
[]
[]
[]
[]
[]
[]
[]
[]
[]
[]
[]
[]
[]
[]
[]
[]
[]
[]
[]
[]
[]
[]
[]
[]
[]
[]
[]
[]
[]
[]
[]
[]
[]
[]
[]
[]
[]
[]
[]
[]
[]
[]
[]
[]
[]
[]
[]
[]
[]
[]
[]
[]
[]
[]
[]
[]
[]
[]
[]
[]
[]
[]
[]
[]
[]
[]
[]
[]
[]
[]
[]
[]
[]
[]
[]
[]
[]
[]
[]
[]
[]
[]
[]
[]
[]
[]
[]
[]
[]
[]
[]
[]
[]
[]
[]
[]
[]
[]
[]
[null,null,null,null,null,null,null,null,null,null,null,null,null,null,null,null,null,null,null,null,null,null,null,null,null,{"$f":"SUM(Z637:Z755)","v":0}]
[]
[]
[]
[]
[]
[]
[]
[]
[]
[]
[]
[]
[]
[]
[]
[]
[]
[]
[]
[]
[]
[]
[]
[]
[]
[]
[]
[]
[]
[]
[]
[]
[]
[]
[]
[]
[]
[]
[]
[]
[]
[]
[]
[]
[]
[]
[]
[]
[]
[]
[]
[]
[]
[]
[]
[]
[]
[]
[]
[]
[]
[]
[]
[]
[]
[]
[]
[]
[]
[]
[]
[]
[]
[]
[]
[]
[]
[]
[]
[]
[]
[]
[]
[]
[]
[]
[]
[]
[]
[]
[]
[]
[]
[]
[]
[]
[]
[]
[]
[]
[]
[]
[]
[]
[]
[]
[]
[]
[]
[]
[]
[null,null,null,null,null,null,null,null,null,null,null,null,null,null,null,null,null,null,null,null,null,null,null,null,null,{"$f":"SUM(Z764:Z867)","v":0}]
[]
[]
[]
[]
[]
[]
[]
[]
[]
[]
[]
[]
[]
[]
[]
[]
[]
[]
[]
[null,null,null,null,null,null,null,null,null,null,null,null,null,null,null,null,null,null,null,null,null,null,null,null,null,{"$f":"SUM(Z870:Z887)","v":0}]
[null,null,null,null,null,null,null,null,null,null,null,null,null,null,null,null,null,null,null,null,null,null,null,null,null,{"$f":"Z868+Z888","v":0}]
[]
[]
[]
[null,null,null,null,null,null,null,null,null,null,null,null,null,null,null,null,null,null,null,null,null,null,null,null,null,{"$f":"SUM(Z892:Z892)","v":0}]
[]
[]
[]
[]
[]
[]
[]
[null,null,null,null,null,null,null,null,null,null,null,null,null,null,null,null,null,null,null,null,null,null,null,null,null,{"$f":"SUM(Z895:Z900)","v":0}]
[]
[]
[null,null,null,null,null,null,null,null,null,null,null,null,null,null,null,null,null,null,null,null,null,null,null,null,null,{"$f":"SUM(Z903:Z903)","v":0}]
[]
[]
[]
[]
[]
[]
[]
[]
[]
[]
[]
[]
[]
[]
[]
[]
[]
[]
[]
[null,null,null,null,null,null,null,null,null,null,null,null,null,null,null,null,null,null,null,null,null,null,null,null,null,{"$f":"SUM(Z906:Z923)","v":0}]
[]
[]
[null,null,null,null,null,null,null,null,null,null,null,null,null,null,null,null,null,null,null,null,null,null,null,null,null,{"$f":"SUM(Z926:Z926)","v":0}]
[]
[]
[null,null,null,null,null,null,null,null,null,null,null,null,null,null,null,null,null,null,null,null,null,null,null,null,null,{"$f":"SUM(Z929)","v":0}]
[null,null,null,null,null,null,null,null,null,null,null,null,null,null,null,null,null,null,null,null,null,null,null,null,null,{"$f":"Z901+Z904+Z927+Z924+Z893+Z930","v":0}]
[]
[null,null,null,null,null,null,null,null,null,null,null,null,null,null,null,null,null,null,null,null,null,null,null,null,{"$f":"#REF!-#REF!","v":{"$error":"#REF!"}}]
[null,null,null,null,null,null,null,null,null,null,null,null,null,null,null,null,null,null,null,null,null,null,null,null,{"$f":"#REF!-Y933","v":{"$error":"#REF!"}}]
[]
[null,null,null,null,null,null,null,null,null,null,null,null,null,null,null,null,null,null,null,null,null,null,null,null,80325165.219999999]
[null,null,null,null,null,null,null,null,null,null,null,null,null,null,null,null,null,null,null,null,null,null,null,null,{"$f":"Y933-Y936","v":{"$error":"#REF!"}}]

{"sheet":"Раздел I","index":1,"n_rows":911,"n_cols":25,"rows_kept":911,"cut":false,"hidden":false,"merged":[[8,0,8,18],[10,16,12,16],[10,7,13,7],[11,13,12,13],[9,0,9,18],[10,0,13,0],[10,17,13,17],[10,9,10,10],[181,0,181,1],[10,4,13,4],[15,0,15,18],[10,6,13,6],[167,0,167,18],[174,0,174,18],[10,5,13,5],[11,15,12,15],[11,2,13,2],[10,18,13,18],[11,12,12,12],[11,10,12,10],[10,8,12,8],[10,1,13,1],[10,11,12,11],[11,14,12,14],[182,0,182,1],[10,12,10,15],[10,2,10,3],[11,9,12,9],[11,3,13,3],[91,0,91,1],[20,0,20,18],[44,0,44,18],[73,0,73,18],[90,0,90,18],[107,0,107,18],[125,0,125,18],[138,0,138,18],[143,0,143,18],[154,0,154,18],[162,0,162,18]]}
[null,null,null,null,null,null,null,null,null,null,null,null,null,null,null,null,"УТВЕРЖДЕН"]
[null,null,null,null,null,null,null,null,null,null,null,null,null,null,null,null,"постановлением Правительства"]
[null,null,null,null,null,null,null,null,null,null,null,null,null,null,null,null,"Ленинградской области"]
[null,null,null,null,null,null,null,null,null,null,null,null,null,null,null,null,"от 23 июля 2019 года N 345"]
[null,null,null,null,null,null,null,null,null,null,null,null,null,null,null,null,"(в редакции постановления"]
[null,null,null,null,null,null,null,null,null,null,null,null,null,null,null,null,"  Правительства Ленинградской области  "]
[null,null,null,null,null,null,null,null,null,null,null,null,null,null,null,null,"от 26 октября 2020 года N 690"]
[null,null,null,null,null,null,null,null,null,null,null,null,null,null,null,null,"(приложение 2)"]
["Краткосрочный план реализации в 2020-2022 годах Региональной программы капитального ремонта общего имущества в многоквартирных домах, расположенных на территории Ленинградской области"]
["Раздел I. Перечень многоквартирных домов, в которых будет проводиться капитальный ремонт лифтового оборудования в период 2020-2022, за счет средств собственников"]
["№ п\\п","Адрес МКД","Год",null,"Материал стен","Количество этажей","Количество лифтов","Количество подъездов","общая площадь МКД, всего","Площадь помещений МКД:",null,"Количество жителей, зарегистрированных в МКД","Стоимость капитального ремонта",null,null,null,"Стоимость капитального ремонта за счет средств собственников помещений в МКД","Плановая дата завершения работ","способ формирования фонда капитального ремонта"]
[null,null,"ввода в эксплуатацию","завершение последнего капитального ремонта",null,null,null,null,null,"всего:","в том числе жилых помещений, находящихся в собственности граждан",null,"всего:","федеральный бюджет","областной бюджет","за счет средств местного бюджета"]
[]
[null,null,null,null,null,null,null,null,"кв.м","кв.м","кв.м","чел.","руб.",null,null,"руб."]
[1,2,3,4,5,6,7,8,9,10,11,12,13,14,15,16,13,14,15,20,21,22,23,24,25]
["Волховский муниципальный район"]
["Муниципальное образование Город Волхов"]
[1,"Г. Волхов, просп. Волховский, д. 57",1994,null,"кирпич",9,1,1,3238.7,2407,2047,111,{"$f":"Q18","v":2735709.46},0,0,0,{"$f":"SUMIF('Раздел 2'!B:B,B18,'Раздел 2'!C:C)+SUMIF('Раздел 3'!B:B,B18,'Раздел 3'!C:C)+SUMIF('Раздел 4'!B:B,B18,'Раздел 4'!C:C)","v":2735709.46},"2022-12-30","РО"]
["Итого по муниципальному образованию",null,"х","х","х","х",{"$f":"SUM(G18)","v":1},"х",{"$f":"SUM(I18)","v":3238.7},{"$f":"SUM(J18)","v":2407},2047,111,{"$f":"M18","v":2735709.46},{"$f":"N18","v":0},0,0,2735709.46,"х","х"]
["Итого по Волховскому муниципальному району",null,"х","х","х","х",{"$f":"SUM(G19)","v":1},"х",{"$f":"SUM(I19)","v":3238.7},2407,2047,111,{"$f":"M19","v":2735709.46},0,0,0,2735709.46,"х","х",{"$f":"Q20-'Раздел 3'!C9-'Раздел 4'!C10","v":0}]
["Всеволожский муниципальный район"]
["Муниципальное образование  Город Всеволожск "]
[{"$f":"A18+1","v":2},"Г. Всеволожск, ул. Александровская, д. 81, корп. 3  ",1996,null,null,8,2,2,4215.1000000000004,4215.1000000000004,2782,170,{"$f":"Q23","v":5276630.92},0,0,0,{"$f":"SUMIF('Раздел 2'!B:B,B23,'Раздел 2'!C:C)+SUMIF('Раздел 3'!B:B,B23,'Раздел 3'!C:C)+SUMIF('Раздел 4'!B:B,B23,'Раздел 4'!C:C)","v":5276630.92},"2022-12-30","РО"]
[{"$f":"A23+1","v":3},"Г. Всеволожск, ул. Балашова, д. 8/3  ",1995,null,null,9,2,2,4768.2,4768.2,2407,154,5276630.92,0,0,0,{"$f":"SUMIF('Раздел 2'!B:B,B24,'Раздел 2'!C:C)+SUMIF('Раздел 3'!B:B,B24,'Раздел 3'!C:C)+SUMIF('Раздел 4'!B:B,B24,'Раздел 4'!C:C)","v":5276630.92},"2022-12-30","РО"]
[{"$f":"A24+1","v":4},"Г. Всеволожск, ул. Василеозерская, д. 5  ",1995,null,null,10,2,2,5400.9,5400.9,2392,141,5276630.92,0,0,0,{"$f":"SUMIF('Раздел 2'!B:B,B25,'Раздел 2'!C:C)+SUMIF('Раздел 3'!B:B,B25,'Раздел 3'!C:C)+SUMIF('Раздел 4'!B:B,B25,'Раздел 4'!C:C)","v":5276630.92},"2022-12-30","РО"]
[{"$f":"A25+1","v":5},"Г. Всеволожск, ул. Василеозерская, д. 7  ",1996,null,null,10,2,2,5786.9,5786.9,3645,205,5471418.9199999999,0,0,0,{"$f":"SUMIF('Раздел 2'!B:B,B26,'Раздел 2'!C:C)+SUMIF('Раздел 3'!B:B,B26,'Раздел 3'!C:C)+SUMIF('Раздел 4'!B:B,B26,'Раздел 4'!C:C)","v":5471418.9199999999},"2022-12-30","РО"]
[6,"Г. Всеволожск, ул. Вокка, д. 3  ",1991,null,null,9,2,2,4954.1000000000004,4954.1000000000004,3450,190.5,5471418.9199999999,0,0,0,{"$f":"SUMIF('Раздел 2'!B:B,B27,'Раздел 2'!C:C)+SUMIF('Раздел 3'!B:B,B27,'Раздел 3'!C:C)+SUMIF('Раздел 4'!B:B,B27,'Раздел 4'!C:C)","v":5471418.9199999999},"2022-12-30","РО"]
[7,"Г. Всеволожск, ул. Ленинградская, д. 24/84 ",1994,null,null,10,5,5,13448.5,13448.5,3707.4,199.7,27136455.219999999,0,0,0,{"$f":"SUMIF('Раздел 2'!B:B,B28,'Раздел 2'!C:C)+SUMIF('Раздел 3'!B:B,B28,'Раздел 3'!C:C)+SUMIF('Раздел 4'!B:B,B28,'Раздел 4'!C:C)","v":27136455.219999999},"2022-12-30","РО"]
[8,"Г. Всеволожск, ул. Ленинградская, д. 30, корп. 1 ",1993,null,null,9,1,3,6885.1,6885.1,3964.8,208.9,2735709.46,0,0,0,{"$f":"SUMIF('Раздел 2'!B:B,B29,'Раздел 2'!C:C)+SUMIF('Раздел 3'!B:B,B29,'Раздел 3'!C:C)+SUMIF('Раздел 4'!B:B,B29,'Раздел 4'!C:C)","v":2735709.46},"2022-12-30","РО"]
["Итого по муниципальному образованию",null,"x","x","x","x",{"$f":"SUM(G23:G29)","v":16},"x",{"$f":"SUM(I23:I29)","v":45458.799999999996},45458.799999999996,22348.2,1269.1000000000001,56644895.280000001,0,0,0,{"$f":"SUM(Q23:Q29)","v":56644895.280000001},"x","x",{"$f":"Q30-'Раздел 2'!C11-'Раздел 3'!C19-'Раздел 4'!C16","v":0},{"$f":"M30-'Раздел 2'!C11-'Раздел 3'!C19-'Раздел 4'!C16","v":0}]
["Муниципальное образование Муринское городское поселение"]
[{"$f":"A29+1","v":9},"Пос. Мурино, ул. Оборонная, д. 12  ",1992,null,"кирпич",9,2,2,5334,4507,2782,170,{"$f":"Q32","v":5276630.92},0,0,0,{"$f":"SUMIF('Раздел 2'!B:B,B32,'Раздел 2'!C:C)+SUMIF('Раздел 3'!B:B,B32,'Раздел 3'!C:C)+SUMIF('Раздел 4'!B:B,B32,'Раздел 4'!C:C)","v":5276630.92},"2022-12-30","РО"]
[{"$f":"A32+1","v":10},"Пос. Мурино, ул. Оборонная, д. 22  ",1993,null,"Ж/б панели",10,1,2,5436,4484,2392,141,{"$f":"Q33","v":2638315.46},0,0,0,{"$f":"SUMIF('Раздел 2'!B:B,B33,'Раздел 2'!C:C)+SUMIF('Раздел 3'!B:B,B33,'Раздел 3'!C:C)+SUMIF('Раздел 4'!B:B,B33,'Раздел 4'!C:C)","v":2638315.46},"2022-12-30","РО",null,{"$f":"M35-'Раздел 2'!C16-'Раздел 3'!C24","v":0}]
[{"$f":"A33+1","v":11},"Пос. Мурино, ул. Оборонная, д. 24  ",1994,null,"Ж/б панели",10,3,3,8215,6784,3645,205,{"$f":"Q34","v":7914946.3799999999},0,0,0,{"$f":"SUMIF('Раздел 2'!B:B,B34,'Раздел 2'!C:C)+SUMIF('Раздел 3'!B:B,B34,'Раздел 3'!C:C)+SUMIF('Раздел 4'!B:B,B34,'Раздел 4'!C:C)","v":7914946.3799999999},"2022-12-30","РО"]
["Итого по муниципальному образованию",null,"x","x","x","x",{"$f":"SUM(G32:G34)","v":6},"x",{"$f":"SUM(I32:I34)","v":18985},15775,8819,516,15829892.76,0,0,0,{"$f":"SUM(Q32:Q34)","v":15829892.76},"x","x",{"$f":"Q35-'Раздел 2'!C16-'Раздел 3'!C24","v":0}]
["Муниципальное образование Свердловское городское поселение"]
[{"$f":"A34+1","v":12},"Пос. им. Свердлова, микрорайон 1, д. 8",1994,null,"Ж/б панели ",9,4,4,8231.7000000000007,8202.2999999999993,8132.9,273,{"$f":"Q37","v":10553261.84},0,0,0,{"$f":"SUMIF('Раздел 2'!B:B,B37,'Раздел 2'!C:C)+SUMIF('Раздел 3'!B:B,B37,'Раздел 3'!C:C)+SUMIF('Раздел 4'!B:B,B37,'Раздел 4'!C:C)","v":10553261.84},"2022-12-30","РО"]
["Итого по муниципальному образованию",null,"x","x","x","x",{"$f":"G37","v":4},{"$f":"SUM(H37)","v":4},{"$f":"SUM(I37)","v":8231.7000000000007},{"$f":"SUM(J37)","v":8202.2999999999993},8132.9,273,{"$f":"M37","v":10553261.84},{"$f":"N37","v":0},0,0,{"$f":"Q37","v":10553261.84},"x","x"]
["Муниципальное образование  Сертолово "]
[{"$f":"A37+1","v":13},"Г. Сертолово, микрорайон Сертолово-1, ул. Молодежная, д. 8, корп. 2",1993,null,"панельный",10,3,3,7982.3,7092.3,7092.3,286,{"$f":"Q40","v":7914946.3799999999},0,0,0,{"$f":"SUMIF('Раздел 2'!B:B,B40,'Раздел 2'!C:C)+SUMIF('Раздел 3'!B:B,B40,'Раздел 3'!C:C)+SUMIF('Раздел 4'!B:B,B40,'Раздел 4'!C:C)","v":7914946.3799999999},"2022-12-30","РО"]
[{"$f":"A40+1","v":14},"Г. Сертолово, микрорайон Сертолово-1, ул. Центральная, д. 6, корп. 1",1994,null,"панельный",10,3,3,7572,6727,6727,339,{"$f":"Q41","v":8667924.4699999988},0,0,0,{"$f":"SUMIF('Раздел 2'!B:B,B41,'Раздел 2'!C:C)+SUMIF('Раздел 3'!B:B,B41,'Раздел 3'!C:C)+SUMIF('Раздел 4'!B:B,B41,'Раздел 4'!C:C)","v":8667924.4699999988},"2022-12-30","РО"]
[{"$f":"A41+1","v":15},"Г. Сертолово, микрорайон Сертолово-1, ул. Центральная, д. 7, корп. 1",1993,null,"панельный",10,3,3,7654,6803.8,6803.8,296,{"$f":"Q42","v":8680076.0399999991},0,0,0,{"$f":"SUMIF('Раздел 2'!B:B,B42,'Раздел 2'!C:C)+SUMIF('Раздел 3'!B:B,B42,'Раздел 3'!C:C)+SUMIF('Раздел 4'!B:B,B42,'Раздел 4'!C:C)","v":8680076.0399999991},"2022-12-30","РО"]
["Итого по муниципальному образованию",null,"x","x","x","x",{"$f":"SUM(G40:G42)","v":9},"x",23208.3,20623.099999999999,20623.099999999999,921,{"$f":"SUM(M40:M42)","v":25262946.889999997},{"$f":"SUM(N40:N42)","v":0},0,0,{"$f":"SUM(Q40:Q42)","v":25262946.889999997},"x","x"]
["Итого по Всеволожскому муниципальному району",null,"x","x","x","x",{"$f":"G43+G38+G35+G30","v":35},"х",{"$f":"I43+I38+I35+I30","v":95883.799999999988},{"$f":"J43+J38+J35+J30","v":90059.199999999983},59923.199999999997,2979.1000000000004,108290996.77,0,0,0,108290996.77,"x","x",{"$f":"Q44-'Раздел 2'!C25-'Раздел 3'!C31-'Раздел 4'!C17","v":0},{"$f":"M44-'Раздел 2'!C25-'Раздел 3'!C31-'Раздел 4'!C17","v":0}]
["Выборгский  район"]
["Муниципальное образование  Город Выборг"]
[{"$f":"A42+1","v":16},"Г. Выборг, бул. Кутузова, д. 33  ",1940,null,"кирпич",6,1,3,2910.22,2910.22,2630.54,80,{"$f":"Q47","v":2540171.3722000001},0,0,0,{"$f":"SUMIF('Раздел 2'!B:B,B47,'Раздел 2'!C:C)+SUMIF('Раздел 3'!B:B,B47,'Раздел 3'!C:C)+SUMIF('Раздел 4'!B:B,B47,'Раздел 4'!C:C)","v":2540171.3722000001},"2022-12-30","РО"]
[{"$f":"A47+1","v":17},"Г. Выборг, просп. Победы, д. 12  ",1996,null,"Кер.бет.",9,4,4,7257.77,7257.77,6766.67,297,10553261.84,0,0,0,{"$f":"SUMIF('Раздел 2'!B:B,B48,'Раздел 2'!C:C)+SUMIF('Раздел 3'!B:B,B48,'Раздел 3'!C:C)+SUMIF('Раздел 4'!B:B,B48,'Раздел 4'!C:C)","v":10553261.84},"2022-12-30","РО"]
[18,"Г. Выборг, пр. Победы, д. 8",1991,null,"Кер.бет.",9,1,1,2003.5,2003.5,2003.5,88,2438131.6228,0,0,0,{"$f":"SUMIF('Раздел 2'!B:B,B49,'Раздел 2'!C:C)+SUMIF('Раздел 3'!B:B,B49,'Раздел 3'!C:C)+SUMIF('Раздел 4'!B:B,B49,'Раздел 4'!C:C)","v":2438131.6228},"2022-12-30","РО"]
[19,"Г. Выборг, ул. Гагарина, д. 29  ",1983,null,"Кер.бет.",9,3,3,6092.3,6092.3,5241.8,286,11629909.380000001,0,0,0,{"$f":"SUMIF('Раздел 2'!B:B,B50,'Раздел 2'!C:C)+SUMIF('Раздел 3'!B:B,B50,'Раздел 3'!C:C)+SUMIF('Раздел 4'!B:B,B50,'Раздел 4'!C:C)","v":11629909.380000001},"2022-12-30","РО"]
[20,"Г. Выборг, ул. Гагарина, д. 65  ",1993,null,"панель",9,1,1,1989.5,1989.5,1836.8,82,2438059.6413999996,0,0,0,{"$f":"SUMIF('Раздел 2'!B:B,B51,'Раздел 2'!C:C)+SUMIF('Раздел 3'!B:B,B51,'Раздел 3'!C:C)+SUMIF('Раздел 4'!B:B,B51,'Раздел 4'!C:C)","v":2438059.6413999996},"2022-12-30","РО"]
[21,"Г. Выборг, ул. Гагарина, д. 69  ",1994,null,"панель",9,2,2,4782,4782,3975.5,184,5601418.9199999999,0,0,0,{"$f":"SUMIF('Раздел 2'!B:B,B52,'Раздел 2'!C:C)+SUMIF('Раздел 3'!B:B,B52,'Раздел 3'!C:C)+SUMIF('Раздел 4'!B:B,B52,'Раздел 4'!C:C)","v":5601418.9199999999},"2022-12-30","РО"]
[22,"Г. Выборг, ул. Крепостная, д. 39а  ",1993,null,"кирпич",9,1,1,1886.9,1886.9,1876,42,3876636.46,0,0,0,{"$f":"SUMIF('Раздел 2'!B:B,B53,'Раздел 2'!C:C)+SUMIF('Раздел 3'!B:B,B53,'Раздел 3'!C:C)+SUMIF('Раздел 4'!B:B,B53,'Раздел 4'!C:C)","v":3876636.46},"2022-12-30","РО"]
[23,"Г. Выборг, ул. Офицерская, д. 12  ",1993,null,"Кер.блок",9,1,1,1561.5,1561.5,1422.9,84,2481167.5444,0,0,0,{"$f":"SUMIF('Раздел 2'!B:B,B54,'Раздел 2'!C:C)+SUMIF('Раздел 3'!B:B,B54,'Раздел 3'!C:C)+SUMIF('Раздел 4'!B:B,B54,'Раздел 4'!C:C)","v":2481167.5444},"2022-12-30","РО"]
[24,"Г. Выборг, ул. Офицерская, д. 14  ",1993,null,"Кер.блок",9,1,1,2421.3000000000002,2421.3000000000002,2163.8000000000002,105,2483623.2352,0,0,0,{"$f":"SUMIF('Раздел 2'!B:B,B55,'Раздел 2'!C:C)+SUMIF('Раздел 3'!B:B,B55,'Раздел 3'!C:C)+SUMIF('Раздел 4'!B:B,B55,'Раздел 4'!C:C)","v":2483623.2352},"2022-12-30","РО"]
[25,"Г. Выборг, ул. Приморская, д. 64  ",1989,null,"Кер.бет.",9,2,2,4002.8,4002.8,3526.4,173,4345632.0199999996,0,0,0,{"$f":"SUMIF('Раздел 2'!B:B,B56,'Раздел 2'!C:C)+SUMIF('Раздел 3'!B:B,B56,'Раздел 3'!C:C)+SUMIF('Раздел 4'!B:B,B56,'Раздел 4'!C:C)","v":4345632.0199999996},"2022-12-30","РО"]
["Итого по муниципальному образованию",null,"x","x","x","x",{"$f":"SUM(G47:G56)","v":17},"x",{"$f":"SUM(I47:I56)","v":34907.79},34907.79,31443.91,1421,48388012.035999998,0,0,0,48388012.035999998,"x","x",{"$f":"Q57-'Раздел 2'!C36-'Раздел 3'!C37-'Раздел 4'!C21","v":0},{"$f":"M57-'Раздел 2'!C36-'Раздел 3'!C45-'Раздел 4'!C29","v":-13680950.649999999}]
["Муниципальное образование  Полянское сельское поселение "]
[{"$f":"A56+1","v":26},"П/ст Приветнинское, ул. Военных строителей, д. 1",1985,null,"кирпич",9,1,1,2142.5700000000002,{"$f":"I59","v":2142.5700000000002},640.34,71,{"$f":"Q59","v":2736190.13},0,0,0,{"$f":"'Раздел 3'!C39+'Раздел 4'!C23","v":2736190.13},"2022-12-30","РО"]
[{"$f":"A59+1","v":27},"П/ст Приветнинское, ул. Военных строителей, д. 7",1984,null,"кирпич",9,1,1,3956.9,{"$f":"I60","v":3956.9},954.8,127,{"$f":"Q60","v":2736190.13},0,0,0,{"$f":"'Раздел 3'!C40+'Раздел 4'!C24","v":2736190.13},"2022-12-30","РО"]
[28,"П/ст Приветнинское, ул. Военных строителей, д. 9",1981,null,"кирпич",9,1,1,3987.5,3987.5,1118.8499999999999,113,{"$f":"Q61","v":2736190.13},0,0,0,{"$f":"'Раздел 3'!C41+'Раздел 4'!C25","v":2736190.13},"2022-12-30","РО"]
[29,"пос. Каменка, ул. Гвардейская, д. 75",1984,null,"кирпич",9,1,1,3416.1,3416.1,104.8,93,{"$f":"Q62","v":2736190.13},0,0,0,{"$f":"'Раздел 3'!C42+'Раздел 4'!C26","v":2736190.13},"2022-12-30","РО"]
[30,"пос. Каменка, ул. Гвардейская, д. 77",1984,null,"кирпич",9,1,1,3034.7,3034.7,89.5,79,{"$f":"Q63","v":2736190.13},0,0,0,{"$f":"'Раздел 3'!C43+'Раздел 4'!C27","v":2736190.13},"2022-12-30","РО"]
["Итого по муниципальному образованию",null,"x","x","x","x",{"$f":"SUM(G59:G63)","v":5},"x",{"$f":"SUM(I59:I63)","v":16537.77},{"$f":"SUM(J59:J63)","v":16537.77},2908.29,483,13680950.649999999,0,0,0,13680950.649999999]
["Муниципальное образование Светогорское городское поселение"]
[{"$f":"A63+1","v":31},"Г. Светогорск, ул. Красноармейская, д. 26",1984,null,"панель",9,3,3,6751.6,6751.6,4709.1000000000004,217,{"$f":"Q66","v":8324810.25},0,0,0,{"$f":"SUMIF('Раздел 2'!B:B,B66,'Раздел 2'!C:C)+SUMIF('Раздел 3'!B:B,B66,'Раздел 3'!C:C)+SUMIF('Раздел 4'!B:B,B66,'Раздел 4'!C:C)","v":8324810.25},"2022-12-30","РО"]
[{"$f":"A66+1","v":32},"Г. Светогорск, ул. Красноармейская, д. 32",1983,null,"панель",9,5,6,9392.4,9392.4,9392.4,411,{"$f":"Q67","v":13117704.67},0,0,0,{"$f":"SUMIF('Раздел 2'!B:B,B67,'Раздел 2'!C:C)+SUMIF('Раздел 3'!B:B,B67,'Раздел 3'!C:C)+SUMIF('Раздел 4'!B:B,B67,'Раздел 4'!C:C)","v":13117704.67},"2022-12-30","РО"]
[{"$f":"A67+1","v":33},"Г. Светогорск, ул. Красноармейская, д. 8",1984,null,"панель",9,3,3,4683.8999999999996,4683.8999999999996,4650.5,171,{"$f":"Q68","v":7759701.0999999996},0,0,0,{"$f":"SUMIF('Раздел 2'!B:B,B68,'Раздел 2'!C:C)+SUMIF('Раздел 3'!B:B,B68,'Раздел 3'!C:C)+SUMIF('Раздел 4'!B:B,B68,'Раздел 4'!C:C)","v":7759701.0999999996},"2022-12-30","РО"]
["Итого по муниципальному образованию",null,"x","x","x","x",{"$f":"SUM(G66:G68)","v":11},"x",{"$f":"SUM(I66:I68)","v":20827.900000000001},20827.900000000001,18752,799,29202216.020000003,0,{"$f":"SUM(O66:O68)","v":0},0,{"$f":"SUM(Q66:Q68)","v":29202216.020000003},"x","x",null,{"$f":"M70-'Раздел 2'!C42","v":0}]
["Муниципальное образование Советское городское поселение"]
[{"$f":"A68+1","v":34},"Г.п. Советский, ул. Садовая, д. 46",1986,null,"блочный",9,1,1,4024.4,4024.4,3621.96,122,{"$f":"Q71","v":2381097.2199999997},0,0,0,{"$f":"SUMIF('Раздел 2'!B:B,B71,'Раздел 2'!C:C)+SUMIF('Раздел 3'!B:B,B71,'Раздел 3'!C:C)+SUMIF('Раздел 4'!B:B,B71,'Раздел 4'!C:C)","v":2381097.2199999997},"2022-12-30","РО"]
["Итого по муниципальному образованию",null,"x","x","x","x",1,"x",{"$f":"SUM(I71)","v":4024.4},{"$f":"SUM(J71)","v":4024.4},3621.96,122,{"$f":"M71","v":2381097.2199999997},{"$f":"N71","v":0},0,0,2381097.2199999997,"x","x"]
["Итого по Выборгскому району",null,"x","x","x","x",{"$f":"G72+G69+G64+G57","v":34},"x",{"$f":"I72+I69+I64+I57","v":76297.860000000015},{"$f":"J72+J69+J64+J57","v":76297.860000000015},56726.16,2825,93652275.925999999,0,0,0,93652275.925999999,"x","x",{"$f":"Q73-'Раздел 2'!C45-'Раздел 3'!C45-'Раздел 4'!C29","v":0},{"$f":"M73-'Раздел 2'!C45-'Раздел 3'!C45-'Раздел 4'!C29","v":0}]
["Гатчинский муниципальный район"]
["Муниципальное образование Город Гатчина"]
[{"$f":"A71+1","v":35},"Г. Гатчина, просп. 25 Октября, д. 50",1990,null,"кирпич",6,6,6,8643,5163,2879,223,{"$f":"Q76","v":11544197.616},0,0,0,{"$f":"SUMIF('Раздел 2'!B:B,B76,'Раздел 2'!C:C)+SUMIF('Раздел 3'!B:B,B76,'Раздел 3'!C:C)+SUMIF('Раздел 4'!B:B,B76,'Раздел 4'!C:C)","v":11544197.616},"2022-12-30","РО"]
[{"$f":"A76+1","v":36},"Г. Гатчина, просп. 25 Октября, д. 59",1993,null,"кирпич",6,3,3,15895.7,7164.3,6932.7,239,8207128.3799999999,0,0,0,{"$f":"SUMIF('Раздел 2'!B:B,B77,'Раздел 2'!C:C)+SUMIF('Раздел 3'!B:B,B77,'Раздел 3'!C:C)+SUMIF('Раздел 4'!B:B,B77,'Раздел 4'!C:C)","v":8207128.3799999999},"2022-12-30","РО"]
[{"$f":"A77+1","v":37},"Г. Гатчина, просп. 25 Октября, д. 63",1988,null,"кирпич",6,3,3,15055,5826,5522.3,221,6190138.2000000002,0,0,0,{"$f":"SUMIF('Раздел 2'!B:B,B78,'Раздел 2'!C:C)+SUMIF('Раздел 3'!B:B,B78,'Раздел 3'!C:C)+SUMIF('Раздел 4'!B:B,B78,'Раздел 4'!C:C)","v":6190138.2000000002},"2022-12-30","РО"]
[38,"Г. Гатчина, ул. Авиатриссы Зверевой, д. 11",1988,null,"панельный",9,2,2,5884.4,3923,3488.1,200,4275976.2932000002,0,0,0,{"$f":"SUMIF('Раздел 2'!B:B,B79,'Раздел 2'!C:C)+SUMIF('Раздел 3'!B:B,B79,'Раздел 3'!C:C)+SUMIF('Раздел 4'!B:B,B79,'Раздел 4'!C:C)","v":4275976.2932000002},"2022-12-30","РО"]
[39,"Г. Гатчина, ул. Красных Военлётов, д. 9",1990,null,"панельный",9,4,4,12490.5,8071.5,7355.2,387,10532095.24,0,0,0,{"$f":"SUMIF('Раздел 2'!B:B,B80,'Раздел 2'!C:C)+SUMIF('Раздел 3'!B:B,B80,'Раздел 3'!C:C)+SUMIF('Раздел 4'!B:B,B80,'Раздел 4'!C:C)","v":10532095.24},"2022-12-30","РО"]
[40,"Г. Гатчина, ул. Рощинская, д. 11, кор. 1",1993,null,"кирпич",8,1,1,3301.1,1510.1,1328.7,92,2735709.46,0,0,0,{"$f":"SUMIF('Раздел 2'!B:B,B81,'Раздел 2'!C:C)+SUMIF('Раздел 3'!B:B,B81,'Раздел 3'!C:C)+SUMIF('Раздел 4'!B:B,B81,'Раздел 4'!C:C)","v":2735709.46},"2022-12-30","РО"]
[41,"Г. Гатчина, ул. Рощинская, д. 13, кор. 1",1990,null,"кирпич",7,1,1,2965,1535.7,1501.4,80,2196923.5120000001,0,0,0,{"$f":"SUMIF('Раздел 2'!B:B,B82,'Раздел 2'!C:C)+SUMIF('Раздел 3'!B:B,B82,'Раздел 3'!C:C)+SUMIF('Раздел 4'!B:B,B82,'Раздел 4'!C:C)","v":2196923.5120000001},"2022-12-30","РО"]
[42,"Г. Гатчина, ул. Рощинская, д. 13А",1991,null,"кирпич",5,2,2,3831.4,1743.9,2237.8000000000002,95,5471418.9199999999,0,0,0,{"$f":"SUMIF('Раздел 2'!B:B,B83,'Раздел 2'!C:C)+SUMIF('Раздел 3'!B:B,B83,'Раздел 3'!C:C)+SUMIF('Раздел 4'!B:B,B83,'Раздел 4'!C:C)","v":5471418.9199999999},"2022-12-30","РО"]
[43,"Г. Гатчина, ул. Рощинская, д. 19",1994,null,"кирпич",7,4,5,12030.6,11199.2,8436.7999999999993,298,15506545.84,0,0,0,{"$f":"SUMIF('Раздел 2'!B:B,B84,'Раздел 2'!C:C)+SUMIF('Раздел 3'!B:B,B84,'Раздел 3'!C:C)+SUMIF('Раздел 4'!B:B,B84,'Раздел 4'!C:C)","v":15506545.84},"2022-12-30","РО"]
[44,"Г. Гатчина, ул. Рощинская, д. 3А",1993,null,"панельный",9,2,2,6130.2,4094.2,3859.6,95,5471418.9199999999,0,0,0,{"$f":"SUMIF('Раздел 2'!B:B,B85,'Раздел 2'!C:C)+SUMIF('Раздел 3'!B:B,B85,'Раздел 3'!C:C)+SUMIF('Раздел 4'!B:B,B85,'Раздел 4'!C:C)","v":5471418.9199999999},"2022-12-30","РО"]
[45,"Г. Гатчина, ул. Рощинская, д. 9Г",1993,null,"панельный",9,2,2,6222,4056.6,3960.4,194,7753272.9199999999,0,0,0,{"$f":"SUMIF('Раздел 2'!B:B,B86,'Раздел 2'!C:C)+SUMIF('Раздел 3'!B:B,B86,'Раздел 3'!C:C)+SUMIF('Раздел 4'!B:B,B86,'Раздел 4'!C:C)","v":7753272.9199999999},"2022-12-30","РО"]
[46,"Г. Гатчина, ул. Хохлова, д. 2",1995,null,"кирпич",7,3,3,5575.2,3438.6,3109.3,196,7914946.3799999999,0,0,0,{"$f":"SUMIF('Раздел 2'!B:B,B87,'Раздел 2'!C:C)+SUMIF('Раздел 3'!B:B,B87,'Раздел 3'!C:C)+SUMIF('Раздел 4'!B:B,B87,'Раздел 4'!C:C)","v":7914946.3799999999},"2022-12-30","РО"]
[47,"Г. Гатчина, ул. Чехова, д. 14",1989,null,"кирпич",9,2,2,7847.3,3564.3,3232.7,160,4545663.4160000011,0,0,0,{"$f":"SUMIF('Раздел 2'!B:B,B88,'Раздел 2'!C:C)+SUMIF('Раздел 3'!B:B,B88,'Раздел 3'!C:C)+SUMIF('Раздел 4'!B:B,B88,'Раздел 4'!C:C)","v":4545663.4160000011},"2022-12-30","РО"]
["Итого по муниципальному образованию",null,"x","x","x","x",{"$f":"SUM(G76:G88)","v":35},"x",{"$f":"SUM(I76:I88)","v":105871.4},61290.399999999994,53844,2480,92345435.097200006,0,0,0,92345435.097200006,"x","x"]
["Итого по Гатчинскому муниципальному району",null,"x","x","x","x",{"$f":"G89","v":35},"x",{"$f":"SUM(I89)","v":105871.4},61290.399999999994,53844,2480,{"$f":"M89","v":92345435.097200006},{"$f":"N89","v":0},0,0,92345435.097200006,"x","x",{"$f":"Q90-'Раздел 2'!C57-'Раздел 3'!C60-'Раздел 4'!C37","v":0},{"$f":"M90-'Раздел 2'!C57-'Раздел 3'!C60-'Раздел 4'!C37","v":0}]
["Кингисеппский муниципальный район"]
["Муниципальное образование Кингисеппское городское поселение"]
[{"$f":"A88+1","v":48},"Г. Кингисепп, просп. Карла Маркса, д. 51",1974,null,"кирпич",9,1,1,3863.11,3863.11,3039.33,147,{"$f":"Q93","v":2735709.46},0,0,0,{"$f":"SUMIF('Раздел 2'!B:B,B93,'Раздел 2'!C:C)+SUMIF('Раздел 3'!B:B,B93,'Раздел 3'!C:C)+SUMIF('Раздел 4'!B:B,B93,'Раздел 4'!C:C)","v":2735709.46},"2022-12-30","РО"]
[{"$f":"A93+1","v":49},"Г. Кингисепп, б-р Большой , д. 11",1986,null,"монолит ",9,4,4,8025.7,8025.7,7762.7,350,{"$f":"Q94","v":10942837.84},0,0,0,{"$f":"SUMIF('Раздел 2'!B:B,B94,'Раздел 2'!C:C)+SUMIF('Раздел 3'!B:B,B94,'Раздел 3'!C:C)+SUMIF('Раздел 4'!B:B,B94,'Раздел 4'!C:C)","v":10942837.84},"2022-12-30","РО"]
[50,"Г. Кингисепп, б-р Большой, д. 15",1987,null,"монолит ",9,2,2,4014.8,4014.8,3957.6,172,{"$f":"Q95","v":5471418.9199999999},0,0,0,{"$f":"SUMIF('Раздел 2'!B:B,B95,'Раздел 2'!C:C)+SUMIF('Раздел 3'!B:B,B95,'Раздел 3'!C:C)+SUMIF('Раздел 4'!B:B,B95,'Раздел 4'!C:C)","v":5471418.9199999999},"2022-12-30","РО"]
[51,"Г. Кингисепп, б-р Большой, д. 17",1987,null,"монолит ",9,6,6,12017.6,12017.6,11735.6,541,{"$f":"Q96","v":16414256.76},0,0,0,{"$f":"SUMIF('Раздел 2'!B:B,B96,'Раздел 2'!C:C)+SUMIF('Раздел 3'!B:B,B96,'Раздел 3'!C:C)+SUMIF('Раздел 4'!B:B,B96,'Раздел 4'!C:C)","v":16414256.76},"2022-12-30","РО"]
[52,"Г. Кингисепп, ул. Воровского, д. 31в",null,null,null,null,2,null,null,null,null,null,null,null,null,null,{"$f":"SUMIF('Раздел 2'!B:B,B97,'Раздел 2'!C:C)+SUMIF('Раздел 3'!B:B,B97,'Раздел 3'!C:C)+SUMIF('Раздел 4'!B:B,B97,'Раздел 4'!C:C)","v":5471418.9199999999},"2022-12-30","РО"]
[53,"Г. Кингисепп, ул. Жукова, д. 4А",1968,null,"кирпич",9,1,1,1936.2,1936.2,1807.7,94,{"$f":"Q98","v":130000},0,0,0,{"$f":"SUMIF('Раздел 2'!B:B,B98,'Раздел 2'!C:C)+SUMIF('Раздел 3'!B:B,B98,'Раздел 3'!C:C)+SUMIF('Раздел 4'!B:B,B98,'Раздел 4'!C:C)","v":130000},"2022-12-30","РО"]
[54,"Г. Кингисепп, ул. Жукова, д. 8а",1967,null,"кирпич",9,1,1,1973.1,1973.1,1817.2,80,2735709.46,0,0,0,{"$f":"SUMIF('Раздел 2'!B:B,B99,'Раздел 2'!C:C)+SUMIF('Раздел 3'!B:B,B99,'Раздел 3'!C:C)+SUMIF('Раздел 4'!B:B,B99,'Раздел 4'!C:C)","v":2735709.46},"2022-12-30","РО"]
[55,"Г. Кингисепп, ш. Крикковское, д. 10а",1990,null,"панельный ",9,2,2,4018.5,4018.5,3854.6,193,5471418.9199999999,0,0,0,{"$f":"SUMIF('Раздел 2'!B:B,B100,'Раздел 2'!C:C)+SUMIF('Раздел 3'!B:B,B100,'Раздел 3'!C:C)+SUMIF('Раздел 4'!B:B,B100,'Раздел 4'!C:C)","v":5471418.9199999999},"2022-12-30","РО"]
[56,"Г. Кингисепп, ш. Крикковское, д. 12",1986,null,"панельный ",9,7,7,12986.58,12986.58,11323.03,705,19149966.219999999,0,0,0,{"$f":"SUMIF('Раздел 2'!B:B,B101,'Раздел 2'!C:C)+SUMIF('Раздел 3'!B:B,B101,'Раздел 3'!C:C)+SUMIF('Раздел 4'!B:B,B101,'Раздел 4'!C:C)","v":19149966.219999999},"2022-12-30","РО"]
[57,"Г. Кингисепп, ш. Крикковское, д. 14",1988,null,"панельный ",9,7,7,14504.9,14504.9,13678.1,711,19149966.219999999,0,0,0,{"$f":"SUMIF('Раздел 2'!B:B,B102,'Раздел 2'!C:C)+SUMIF('Раздел 3'!B:B,B102,'Раздел 3'!C:C)+SUMIF('Раздел 4'!B:B,B102,'Раздел 4'!C:C)","v":19149966.219999999},"2022-12-30","РО"]
[58,"Г. Кингисепп, ш. Крикковское, д. 35",1981,null,"панельный ",9,5,5,9763.7999999999993,9763.7999999999993,9171,584,13678547.300000001,0,0,0,{"$f":"SUMIF('Раздел 2'!B:B,B103,'Раздел 2'!C:C)+SUMIF('Раздел 3'!B:B,B103,'Раздел 3'!C:C)+SUMIF('Раздел 4'!B:B,B103,'Раздел 4'!C:C)","v":13678547.300000001},"2022-12-30","РО"]
[59,"Г. Кингисепп, ш. Крикковское, д. 39",1989,null,"панельный ",9,3,3,5976.9,5976.9,5782.17,242,8207128.3799999999,0,0,0,{"$f":"SUMIF('Раздел 2'!B:B,B104,'Раздел 2'!C:C)+SUMIF('Раздел 3'!B:B,B104,'Раздел 3'!C:C)+SUMIF('Раздел 4'!B:B,B104,'Раздел 4'!C:C)","v":8207128.3799999999},"2022-12-30","РО"]
[60,"Г. Кингисепп, ш. Крикковское, д. 6",1986,null,"панельный ",9,6,6,11470.51,11470.51,10040.32,637,16414256.76,0,0,0,{"$f":"SUMIF('Раздел 2'!B:B,B105,'Раздел 2'!C:C)+SUMIF('Раздел 3'!B:B,B105,'Раздел 3'!C:C)+SUMIF('Раздел 4'!B:B,B105,'Раздел 4'!C:C)","v":16414256.76},"2022-12-30","РО"]
["Итого по муниципальному образованию",null,"x","x","x","x",{"$f":"SUM(G93:G105)","v":47},"x",{"$f":"SUM(I93:I105)","v":90551.699999999983},90551.699999999983,83969.35,4456,{"$f":"SUM(M93:M105)","v":120501216.23999999},{"$f":"SUM(N93:N105)","v":0},0,0,125972635.16,"x","x"]
["Итого по Кингисеппскому муниципальному району",null,"x","x","x","x",{"$f":"G106","v":47},"x",{"$f":"SUM(I106)","v":90551.699999999983},90551.699999999983,83969.35,4456,{"$f":"M106","v":120501216.23999999},{"$f":"N106","v":0},0,0,125972635.16,"x","x",{"$f":"Q107-'Раздел 3'!C77-'Раздел 4'!C53","v":0},{"$f":"M107-'Раздел 4'!C53","v":638581.07999999821}]
["Киришский муниципальный район"]
["Муниципальное образование Киришское городское поселение"]
[{"$f":"A105+1","v":61},"Г. Кириши, бул. Плавницкий, д. 16",1992,null,"панель",9,1,1,2398.8000000000002,2121.8000000000002,2121.8000000000002,93,{"$f":"Q110","v":2803026.64},0,0,0,{"$f":"SUMIF('Раздел 2'!B:B,B110,'Раздел 2'!C:C)+SUMIF('Раздел 3'!B:B,B110,'Раздел 3'!C:C)+SUMIF('Раздел 4'!B:B,B110,'Раздел 4'!C:C)","v":2803026.64},"2022-12-30","РО",{"$f":"Q110-'Раздел 2'!C60","v":0}]
[{"$f":"A110+1","v":62},"Г. Кириши, бул. Плавницкий, д. 36",1997,null,"панель",9,1,1,3356,3000,3000,101,2735709.46,0,0,0,{"$f":"SUMIF('Раздел 2'!B:B,B111,'Раздел 2'!C:C)+SUMIF('Раздел 3'!B:B,B111,'Раздел 3'!C:C)+SUMIF('Раздел 4'!B:B,B111,'Раздел 4'!C:C)","v":2735709.46},"2022-12-30","РО",{"$f":"Q111-'Раздел 3'!C80-'Раздел 4'!C56","v":0}]
[63,"Г. Кириши, пер. Березовый, д. 10",1996,null,"панель",9,1,1,2631.1,2344.1,2344.1,101,2638315.46,0,0,0,{"$f":"SUMIF('Раздел 2'!B:B,B112,'Раздел 2'!C:C)+SUMIF('Раздел 3'!B:B,B112,'Раздел 3'!C:C)+SUMIF('Раздел 4'!B:B,B112,'Раздел 4'!C:C)","v":2638315.46},"2022-12-30","РО"]
[64,"Г. Кириши, просп. Героев, д. 15",1994,null,"панель",9,1,1,2426.1,2147,2147,71,2802614.46,0,0,0,{"$f":"SUMIF('Раздел 2'!B:B,B113,'Раздел 2'!C:C)+SUMIF('Раздел 3'!B:B,B113,'Раздел 3'!C:C)+SUMIF('Раздел 4'!B:B,B113,'Раздел 4'!C:C)","v":2802614.46},"2022-12-30","РО"]
[65,"Г. Кириши, просп. Героев, д. 17",1993,null,"панель",9,2,2,5223.7,4642.3,4642.3,159,5567978.9399999995,0,0,0,{"$f":"SUMIF('Раздел 2'!B:B,B114,'Раздел 2'!C:C)+SUMIF('Раздел 3'!B:B,B114,'Раздел 3'!C:C)+SUMIF('Раздел 4'!B:B,B114,'Раздел 4'!C:C)","v":5567978.9399999995},"2022-12-30","РО"]
[66,"Г. Кириши, просп. Ленина, д. 40",1991,null,"панель/кирпич","5/7",1,5,5647,4916.8,3992,176,2735709.46,0,0,0,{"$f":"SUMIF('Раздел 2'!B:B,B115,'Раздел 2'!C:C)+SUMIF('Раздел 3'!B:B,B115,'Раздел 3'!C:C)+SUMIF('Раздел 4'!B:B,B115,'Раздел 4'!C:C)","v":2735709.46},"2022-12-30","РО"]
[67,"Г. Кириши, просп. Ленина, д. 9",1964,null,"кирпич",9,1,1,2289.91,1995.59,1940.69,73,2735709.46,0,0,0,{"$f":"SUMIF('Раздел 2'!B:B,B116,'Раздел 2'!C:C)+SUMIF('Раздел 3'!B:B,B116,'Раздел 3'!C:C)+SUMIF('Раздел 4'!B:B,B116,'Раздел 4'!C:C)","v":2735709.46},"2022-12-30","РО"]
[68,"Г. Кириши, ул. Декабристов Бестужевых, д. 16",1990,null,"панель",9,1,1,3261.7,2702.6,2702.6,108,2803590.77,0,0,0,{"$f":"SUMIF('Раздел 2'!B:B,B117,'Раздел 2'!C:C)+SUMIF('Раздел 3'!B:B,B117,'Раздел 3'!C:C)+SUMIF('Раздел 4'!B:B,B117,'Раздел 4'!C:C)","v":2803590.77},"2022-12-30","РО"]
[69,"Г. Кириши, ул. Строителей, д. 2",1971,null,"кирпич",9,1,5,15493.65,13099.2,11188,519,2735709.46,0,0,0,{"$f":"SUMIF('Раздел 2'!B:B,B118,'Раздел 2'!C:C)+SUMIF('Раздел 3'!B:B,B118,'Раздел 3'!C:C)+SUMIF('Раздел 4'!B:B,B118,'Раздел 4'!C:C)","v":2735709.46},"2022-12-30","РО"]
[70,"Г. Кириши, ул. Строителей, д. 26",1974,null,"кирпич",9,1,5,15470.37,13282.4,11176.5,466,2735709.46,0,0,0,{"$f":"SUMIF('Раздел 2'!B:B,B119,'Раздел 2'!C:C)+SUMIF('Раздел 3'!B:B,B119,'Раздел 3'!C:C)+SUMIF('Раздел 4'!B:B,B119,'Раздел 4'!C:C)","v":2735709.46},"2022-12-30","РО"]
[71,"Г. Кириши, ул. Строителей, д. 28",1993,null,"панель",9,1,1,2749.3,2473.6999999999998,2411.3000000000002,90,2803316.73,0,0,0,{"$f":"SUMIF('Раздел 2'!B:B,B120,'Раздел 2'!C:C)+SUMIF('Раздел 3'!B:B,B120,'Раздел 3'!C:C)+SUMIF('Раздел 4'!B:B,B120,'Раздел 4'!C:C)","v":2803316.73},"2022-12-30","РО"]
[72,"Г. Кириши, ул. Строителей, д. 30",1991,null,"панель",9,3,3,7631.2,6837.2,6765.7,259,8449707.6699999999,0,0,0,{"$f":"SUMIF('Раздел 2'!B:B,B121,'Раздел 2'!C:C)+SUMIF('Раздел 3'!B:B,B121,'Раздел 3'!C:C)+SUMIF('Раздел 4'!B:B,B121,'Раздел 4'!C:C)","v":8449707.6699999999},"2022-12-30","РО"]
[73,"Г. Кириши, ул. Строителей, д. 46",1991,null,"панель",9,4,4,9023.5,7928.7,7928.7,334,11264437.789999999,0,0,0,{"$f":"SUMIF('Раздел 2'!B:B,B122,'Раздел 2'!C:C)+SUMIF('Раздел 3'!B:B,B122,'Раздел 3'!C:C)+SUMIF('Раздел 4'!B:B,B122,'Раздел 4'!C:C)","v":11264437.789999999},"2022-12-30","РО"]
[74,"Г. Кириши, ул. Энергетиков, д. 40",1994,null,"панель",9,1,1,2724.9,2445.3000000000002,2445.3000000000002,87,2803602.38,0,0,0,{"$f":"SUMIF('Раздел 2'!B:B,B123,'Раздел 2'!C:C)+SUMIF('Раздел 3'!B:B,B123,'Раздел 3'!C:C)+SUMIF('Раздел 4'!B:B,B123,'Раздел 4'!C:C)","v":2803602.38},"2022-12-30","РО"]
["Итого по муниципальному образованию",null,"x","x","x","x",{"$f":"SUM(G110:G123)","v":20},"x",{"$f":"SUM(I110:I123)","v":80327.23},{"$f":"SUM(J110:J123)","v":69936.69},64805.99,2637,{"$f":"SUM(M110:M123)","v":55615138.140000001},{"$f":"SUM(N110:N123)","v":0},0,0,{"$f":"SUM(Q110:Q123)","v":55615138.140000001},"x","x"]
["Итого по Киришскому муниципальному району",null,"x","x","x","x",{"$f":"G124","v":20},"x",{"$f":"SUM(I124)","v":80327.23},69936.69,64805.99,2637,{"$f":"M124","v":55615138.140000001},{"$f":"N124","v":0},0,0,55615138.140000001,"x","x",{"$f":"Q125-'Раздел 2'!C70-'Раздел 3'!C87-'Раздел 4'!C62","v":0},{"$f":"M125-'Раздел 2'!C70-'Раздел 3'!#REF!-'Раздел 4'!C62","v":{"$error":"#REF!"}}]
["Кировский муниципальный район"]
["Муниципальное образование Кировское городское поселение"]
[{"$f":"A123+1","v":75},"Г. Кировск, ул. Молодежная, д. 3",1994,null,"панели",9,1,1,2073.9,2073.9,2073.9,102,{"$f":"Q128","v":2638315.46},0,0,0,{"$f":"SUMIF('Раздел 2'!B:B,B128,'Раздел 2'!C:C)+SUMIF('Раздел 3'!B:B,B128,'Раздел 3'!C:C)+SUMIF('Раздел 4'!B:B,B128,'Раздел 4'!C:C)","v":2638315.46},"2022-12-30","РО"]
[{"$f":"A128+1","v":76},"Г. Кировск, ул. Молодежная, д. 5",1993,null,"панели",9,1,1,2127.0700000000002,2127.0700000000002,2127.0700000000002,85,{"$f":"Q129","v":2638315.46},0,0,0,{"$f":"SUMIF('Раздел 2'!B:B,B129,'Раздел 2'!C:C)+SUMIF('Раздел 3'!B:B,B129,'Раздел 3'!C:C)+SUMIF('Раздел 4'!B:B,B129,'Раздел 4'!C:C)","v":2638315.46},"2022-12-30","РО"]
["Итого по муниципальному образованию",null,"x","x","x","x",{"$f":"SUM(G128:G129)","v":2},"x",{"$f":"SUM(I128:I129)","v":4200.97},4200.97,4200.97,187,5276630.92,0,0,0,5276630.92,"x","x"]
["Муниципальное образование Отрадненское городское поселение"]
[{"$f":"A129+1","v":77},"Г. Отрадное, ул. Железнодорожная, д. 13",1991,null,"кирпич",9,2,2,6262.84,6262.84,4134.32,183,{"$f":"Q132","v":5276630.92},0,0,0,{"$f":"SUMIF('Раздел 2'!B:B,B132,'Раздел 2'!C:C)+SUMIF('Раздел 3'!B:B,B132,'Раздел 3'!C:C)+SUMIF('Раздел 4'!B:B,B132,'Раздел 4'!C:C)","v":5276630.92},"2022-12-30","РО"]
[{"$f":"A132+1","v":78},"Г. Отрадное, ул. Зарубина, д. 15",1986,null,"кирпич",9,1,1,1900,1900,2573.98,132,{"$f":"Q133","v":2638315.46},0,0,0,{"$f":"SUMIF('Раздел 2'!B:B,B133,'Раздел 2'!C:C)+SUMIF('Раздел 3'!B:B,B133,'Раздел 3'!C:C)+SUMIF('Раздел 4'!B:B,B133,'Раздел 4'!C:C)","v":2638315.46},"2022-12-30","РО"]
[79,"Г. Отрадное, ул. Лесная, д. 10",1990,null,"панель",9,1,1,3066.28,3066.28,1995.12,83,{"$f":"Q134","v":3288315.46},0,0,0,{"$f":"SUMIF('Раздел 2'!B:B,B134,'Раздел 2'!C:C)+SUMIF('Раздел 3'!B:B,B134,'Раздел 3'!C:C)+SUMIF('Раздел 4'!B:B,B134,'Раздел 4'!C:C)","v":3288315.46},"2022-12-30","РО"]
[80,"Г. Отрадное, ул. Центральная,д.17",1995,null,"панель",9,4,4,12228.58,12228.58,8004.95,276,{"$f":"Q135","v":10553261.84},0,0,0,{"$f":"SUMIF('Раздел 2'!B:B,B135,'Раздел 2'!C:C)+SUMIF('Раздел 3'!B:B,B135,'Раздел 3'!C:C)+SUMIF('Раздел 4'!B:B,B135,'Раздел 4'!C:C)","v":10553261.84},"2022-12-30","РО"]
[81,"Г. Отрадное, ул. Щурова, д.4",1988,null,"панель",9,2,2,6155.35,6155.35,4039.83,176,{"$f":"Q136","v":5276630.92},0,0,0,{"$f":"SUMIF('Раздел 2'!B:B,B136,'Раздел 2'!C:C)+SUMIF('Раздел 3'!B:B,B136,'Раздел 3'!C:C)+SUMIF('Раздел 4'!B:B,B136,'Раздел 4'!C:C)","v":5276630.92},"2022-12-30","РО"]
["Итого по муниципальному образованию",null,"x","x","x","x",{"$f":"SUM(G132:G136)","v":10},"x",{"$f":"SUM(I132:I136)","v":29613.050000000003},29613.050000000003,20748.199999999997,850,27033154.600000001,0,0,0,27033154.600000001,"x","x",{"$f":"Q137-'Раздел 2'!C82-'Раздел 3'!C99","v":0}]
["Итого по Кировскому муниципальному району",null,"x","x","x","x",{"$f":"G130+G137","v":12},"x",{"$f":"I137+I130","v":33814.020000000004},{"$f":"J137+J130","v":33814.020000000004},{"$f":"K137+K130","v":24949.17},{"$f":"L137+L130","v":1037},{"$f":"M130+M137","v":32309785.520000003},{"$f":"N130+N137","v":0},{"$f":"O130+O137","v":0},{"$f":"P130+P137","v":0},{"$f":"Q130+Q137","v":32309785.520000003},"x","x",{"$f":"Q138-'Раздел 2'!C83-'Раздел 3'!C100","v":0},{"$f":"M138-'Раздел 2'!C83-'Раздел 3'!C92","v":25083154.600000001}]
["Ломоносовский муниципальный район"]
["Муниципальное образование Аннинское сельское поселение"]
[{"$f":"A136+1","v":82},"Г.п. Новоселье, д. 7",2002,null,null,8,4,null,8904.2999999999993,8904.2999999999993,4472.8999999999996,159,null,null,null,null,{"$f":"SUMIF('Раздел 2'!B:B,B141,'Раздел 2'!C:C)+SUMIF('Раздел 3'!B:B,B141,'Раздел 3'!C:C)+SUMIF('Раздел 4'!B:B,B141,'Раздел 4'!C:C)","v":10942837.84},"2022-12-30","РО"]
["Итого по муниципальному образованию",null,"x","x","x","x",{"$f":"G141","v":4},"x",{"$f":"I141","v":8904.2999999999993},{"$f":"SUM(J141)","v":8904.2999999999993},4472.8999999999996,159,{"$f":"M141","v":0},{"$f":"N141","v":0},0,0,10942837.84,"x","x"]
["Итого по Ломоносовскому муниципальному району",null,"x","x","x","x",{"$f":"G142","v":4},"x",8904.2999999999993,8904.2999999999993,4472.8999999999996,159,0,0,0,0,{"$f":"Q142","v":10942837.84},"x","x",null,{"$f":"M143-'Раздел 2'!#REF!","v":{"$error":"#REF!"}}]
["Лужский муниципальный район"]
["Муниципальное образование Лужское городское поселение"]
[{"$f":"A141+1","v":83},"Г. Луга, просп. Володарского, д. 26",1991,null,"панель",9,2,2,4870.2,3988.5,2974.7,168,{"$f":"Q146","v":7140000},0,0,0,{"$f":"SUMIF('Раздел 2'!B:B,B146,'Раздел 2'!C:C)+SUMIF('Раздел 3'!B:B,B146,'Раздел 3'!C:C)+SUMIF('Раздел 4'!B:B,B146,'Раздел 4'!C:C)","v":7140000},"2022-12-30","РО"]
[{"$f":"A146+1","v":84},"Г. Луга, просп. Урицкого, д. 101",1993,null,"панель",9,1,1,2745.8,2014.5,1974.3,59,2638315.46,0,0,0,{"$f":"SUMIF('Раздел 2'!B:B,B147,'Раздел 2'!C:C)+SUMIF('Раздел 3'!B:B,B147,'Раздел 3'!C:C)+SUMIF('Раздел 4'!B:B,B147,'Раздел 4'!C:C)","v":2638315.46},"2022-12-30","РО"]
[85,"Г. Луга, просп. Урицкого, д. 99",1993,null,"панель",9,1,1,2737.5,2006.2,1877.9,81,2638315.46,0,0,0,{"$f":"SUMIF('Раздел 2'!B:B,B148,'Раздел 2'!C:C)+SUMIF('Раздел 3'!B:B,B148,'Раздел 3'!C:C)+SUMIF('Раздел 4'!B:B,B148,'Раздел 4'!C:C)","v":2638315.46},"2022-12-30","РО"]
[86,"Г. Луга, ул. Миккели, д. 1, кор. 1",1993,null,"панель","5/9",1,5,7582,5566,5357.5,202,3876636.46,0,0,0,{"$f":"SUMIF('Раздел 2'!B:B,B149,'Раздел 2'!C:C)+SUMIF('Раздел 3'!B:B,B149,'Раздел 3'!C:C)+SUMIF('Раздел 4'!B:B,B149,'Раздел 4'!C:C)","v":3876636.46},"2022-12-30","РО"]
[87,"Г. Луга, ул. Миккели, д. 1, кор. 3",1994,null,"панель","5/9",1,5,7571.2,5555.2,5201.3,189,3876636.46,0,0,0,{"$f":"SUMIF('Раздел 2'!B:B,B150,'Раздел 2'!C:C)+SUMIF('Раздел 3'!B:B,B150,'Раздел 3'!C:C)+SUMIF('Раздел 4'!B:B,B150,'Раздел 4'!C:C)","v":3876636.46},"2022-12-30","РО"]
[88,"Г. Луга, ул. Победы, д. 4",1988,null,"панель",9,1,1,3004.6,1954.4,1803.1,82,3570000,0,0,0,{"$f":"SUMIF('Раздел 2'!B:B,B151,'Раздел 2'!C:C)+SUMIF('Раздел 3'!B:B,B151,'Раздел 3'!C:C)+SUMIF('Раздел 4'!B:B,B151,'Раздел 4'!C:C)","v":3570000},"2022-12-30","РО"]
[89,"Г. Луга, ул. Победы, д. 7",1977,null,"кирпич",10,1,1,2562.3000000000002,2180.6999999999998,1976.5,89,3700000,0,0,0,{"$f":"SUMIF('Раздел 2'!B:B,B152,'Раздел 2'!C:C)+SUMIF('Раздел 3'!B:B,B152,'Раздел 3'!C:C)+SUMIF('Раздел 4'!B:B,B152,'Раздел 4'!C:C)","v":3700000},"2022-12-30","РО"]
["Итого по муниципальному образованию",null,"x","x","x","x",{"$f":"SUM(G146:G152)","v":8},"x",{"$f":"SUM(I146:I152)","v":31073.599999999999},{"$f":"SUM(J146:J152)","v":23265.500000000004},21165.3,870,{"$f":"SUM(M146:M152)","v":27439903.840000004},{"$f":"SUM(N146:N152)","v":0},0,0,27439903.840000004,"x","x"]
["Итого по Лужскому муниципальному району",null,"x","x","x","x",{"$f":"G153","v":8},"x",{"$f":"SUM(I153)","v":31073.599999999999},23265.500000000004,21165.3,870,{"$f":"M153","v":27439903.840000004},{"$f":"N153","v":0},0,0,27439903.840000004,"x","x",{"$f":"Q154-'Раздел 2'!C94-'Раздел 3'!C111","v":0},{"$f":"M154-'Раздел 2'!C94-'Раздел 3'!C92","v":0}]
["Сосновоборский городской округ"]
["Муниципальное образование Сосновоборский городской округ"]
[{"$f":"A152+1","v":90},"Г. Сосновый Бор, ул. Ленинградская, д. 38",1987,null,"кирпич",9,1,1,1790.8,1090.4000000000001,1090.4000000000001,82,{"$f":"Q157","v":2735709.46},0,0,0,{"$f":"SUMIF('Раздел 2'!B:B,B157,'Раздел 2'!C:C)+SUMIF('Раздел 3'!B:B,B157,'Раздел 3'!C:C)+SUMIF('Раздел 4'!B:B,B157,'Раздел 4'!C:C)","v":2735709.46},"2022-12-30","РО"]
[{"$f":"A157+1","v":91},"Г. Сосновый Бор, ул. Молодежная, д. 26",1989,null,"панель",9,2,2,3940.2,3940.2,2291.4,166,{"$f":"Q158","v":7594407.96},0,0,0,{"$f":"SUMIF('Раздел 2'!B:B,B158,'Раздел 2'!C:C)+SUMIF('Раздел 3'!B:B,B158,'Раздел 3'!C:C)+SUMIF('Раздел 4'!B:B,B158,'Раздел 4'!C:C)","v":7594407.96},"2022-12-30","РО"]
[92,"Г. Сосновый Бор, ул. Парковая, д. 70",1994,null,"кирпич",9,1,1,2238.1,2238.1,1332.8,98,{"$f":"Q159","v":2735709.46},0,0,0,{"$f":"SUMIF('Раздел 2'!B:B,B159,'Раздел 2'!C:C)+SUMIF('Раздел 3'!B:B,B159,'Раздел 3'!C:C)+SUMIF('Раздел 4'!B:B,B159,'Раздел 4'!C:C)","v":2735709.46},"2022-12-30","РО"]
[93,"Г. Сосновый Бор, ул. Сибирская, д. 5",1973,null,"кирпич",9,1,1,2017.7,2017.7,1989,85,{"$f":"Q160","v":3880100.4},0,0,0,{"$f":"SUMIF('Раздел 2'!B:B,B160,'Раздел 2'!C:C)+SUMIF('Раздел 3'!B:B,B160,'Раздел 3'!C:C)+SUMIF('Раздел 4'!B:B,B160,'Раздел 4'!C:C)","v":3880100.4},"2022-12-30","РО"]
[94,"Г. Сосновый Бор, ул. Солнечная, д. 30",1977,null,"кирпич",12,2,1,3993,3993,2332.6999999999998,171,{"$f":"Q161","v":5901813.6000000006},0,0,0,{"$f":"SUMIF('Раздел 2'!B:B,B161,'Раздел 2'!C:C)+SUMIF('Раздел 3'!B:B,B161,'Раздел 3'!C:C)+SUMIF('Раздел 4'!B:B,B161,'Раздел 4'!C:C)","v":5901813.6000000006},"2022-12-30","РО"]
["Итого по муниципальному образованию",null,"x","x","x","x",{"$f":"SUM(G157:G161)","v":7},"x",{"$f":"SUM(I157:I161)","v":13979.800000000001},13279.400000000001,9036.2999999999993,602,22847740.879999999,0,0,0,22847740.879999999,"x","x",{"$f":"Q162-'Раздел 2'!C100-'Раздел 3'!C116-'Раздел 4'!C72","v":0},{"$f":"M162-'Раздел 2'!C100","v":5471418.9199999981}]
["Сланцевский муниципальный район"]
["Муниципальное образование Сланцевское городское поселение"]
[{"$f":"A161+1","v":95},"Г. Сланцы, ул. Гагарина, д. 5а",1988,null,"кирпич",9,1,1,2733.7,2080.4,1918.33,108,{"$f":"Q165","v":3746636.46},0,0,0,{"$f":"SUMIF('Раздел 2'!B:B,B165,'Раздел 2'!C:C)+SUMIF('Раздел 3'!B:B,B165,'Раздел 3'!C:C)+SUMIF('Раздел 4'!B:B,B165,'Раздел 4'!C:C)","v":3746636.46},"2022-12-30","РО",null,{"$f":"M165-'Раздел 2'!C103","v":0}]
["Итого по муниципальному образованию",null,"x","x","x","x",{"$f":"SUM(G165:G165)","v":1},"x",{"$f":"SUM(I165:I165)","v":2733.7},2080.4,1918.33,108,3746636.46,0,0,0,3746636.46,"x","x",null,{"$f":"M166-'Раздел 2'!C104","v":0}]
["Итого по Сланцевскому муниципальному району",null,"x","x","x","x",{"$f":"G166","v":1},"x",{"$f":"SUM(I166)","v":2733.7},2080.4,1918.33,108,{"$f":"M166","v":3746636.46},{"$f":"N166","v":0},0,0,3746636.46,"x","x",{"$f":"Q167-'Раздел 2'!C105","v":0},{"$f":"M167-'Раздел 2'!C105","v":0}]
["Тихвинский муниципальный район"]
["Муниципальное образование Тихвинское городское поселение"]
[{"$f":"A165+1","v":96},"Г. Тихвин, микрорайон 1а, д. 45",1995,null,"панель",9,2,2,5566.2,4027.8,2440.9,423,{"$f":"Q170","v":5433061.9500000002},0,0,0,{"$f":"SUMIF('Раздел 2'!B:B,B170,'Раздел 2'!C:C)+SUMIF('Раздел 3'!B:B,B170,'Раздел 3'!C:C)+SUMIF('Раздел 4'!B:B,B170,'Раздел 4'!C:C)","v":5433061.9500000002},"2022-12-30","РО"]
[{"$f":"A170+1","v":97},"Г. Тихвин, ул. Советская, д. 1",1994,null,"панель",10,2,2,3864,4108.5,2258.6999999999998,360,{"$f":"Q171","v":5459425.3499999996},0,0,0,{"$f":"SUMIF('Раздел 2'!B:B,B171,'Раздел 2'!C:C)+SUMIF('Раздел 3'!B:B,B171,'Раздел 3'!C:C)+SUMIF('Раздел 4'!B:B,B171,'Раздел 4'!C:C)","v":5459425.3499999996},"2022-12-30","РО"]
[{"$f":"A171+1","v":98},"Г. Тихвин, ул. Машиностроителей, д.46",1988,null,"панель",9,5,5,14841.1,10091.299999999999,8441.6,521,{"$f":"Q172","v":13191577.300000001},0,0,0,{"$f":"SUMIF('Раздел 2'!B:B,B172,'Раздел 2'!C:C)+SUMIF('Раздел 3'!B:B,B172,'Раздел 3'!C:C)+SUMIF('Раздел 4'!B:B,B172,'Раздел 4'!C:C)","v":13191577.300000001},"2022-12-30","РО"]
["Итого по муниципальному образованию",null,"x","x","x","x",{"$f":"SUM(G170:G172)","v":9},"x",{"$f":"SUM(I170:I172)","v":24271.300000000003},{"$f":"SUM(J170:J172)","v":18227.599999999999},13141.2,1304,24084064.600000001,0,0,0,24084064.600000001,"x","x"]
["Итого по Тихвинскому муниципальному району",null,"x","x","x","x",{"$f":"G173","v":9},"x",{"$f":"SUM(I173)","v":24271.300000000003},{"$f":"SUM(J173)","v":18227.599999999999},13141.2,1304,24084064.600000001,0,0,0,24084064.600000001,"x","x",{"$f":"Q174-'Раздел 2'!C112-'Раздел 3'!C120","v":0}]
["Тосненский район"]
["Муниципальное образование Тосненское городское поселение"]
[{"$f":"A172+1","v":99},"Г. Тосно, ул. М. Горького, д. 8а",null,null,null,null,2,null,null,null,null,null,{"$f":"Q177","v":5276630.92},0,0,0,{"$f":"SUMIF('Раздел 2'!B:B,B177,'Раздел 2'!C:C)+SUMIF('Раздел 3'!B:B,B177,'Раздел 3'!C:C)+SUMIF('Раздел 4'!B:B,B177,'Раздел 4'!C:C)","v":5276630.92},"2022-12-30","РО"]
[{"$f":"A177+1","v":100},"Г. Тосно, пр. Ленина, д. 19",null,null,null,null,4,null,null,null,null,null,{"$f":"Q178","v":10553261.84},0,0,0,{"$f":"SUMIF('Раздел 2'!B:B,B178,'Раздел 2'!C:C)+SUMIF('Раздел 3'!B:B,B178,'Раздел 3'!C:C)+SUMIF('Раздел 4'!B:B,B178,'Раздел 4'!C:C)","v":10553261.84},"2022-12-30","РО"]
["Итого по муниципальному образованию",null,"x","x","x","x",{"$f":"SUM(G177:G178)","v":6},"x",{"$f":"SUM(I177:I177)","v":0},0,0,0,5276630.92,0,0,0,{"$f":"SUM(Q177:Q178)","v":15829892.76},"x","x"]
["Итого по Тосненскому району",null,"x","x","x","x",{"$f":"G179","v":6},"x",{"$f":"SUM(I179)","v":0},{"$f":"SUM(J179)","v":0},0,0,{"$f":"M179","v":5276630.92},{"$f":"N179","v":0},0,0,{"$f":"Q179","v":15829892.76},"x","x",{"$f":"Q180-'Раздел 2'!C118-'Раздел 3'!C127","v":0}]
["ИТОГО по Ленинградской области",null,"x","x","x","x",{"$f":"G20+G44+G73+G90+G107+G125+G138+G143+G154+G162+G167+G174+G180","v":219},"х",{"$f":"I20+I44+I73+I90+I107+I125+I138+I143+I154+I162+I167+I174+I180","v":566947.41},{"$f":"J20+J44+J73+J90+J107+J125+J138+J143+J154+J162+J167+J174+J180","v":490114.07},395998.9,19568.099999999999,588845533.85319996,0,0,{"$f":"P20+P44+P73+P90+P107+P125+P138+P143+P154+P162+P167+P174+P180","v":0},{"$f":"Q180+Q174+Q167+Q162+Q154+Q143+Q138+Q125+Q107+Q90+Q73+Q44+Q20","v":615813052.4532001},"x","x",{"$f":"Q181-'Раздел 2'!C119-'Раздел 3'!C128-'Раздел 4'!C73","v":0}]
["Осуществление строительного контроля",null,"x","x","x","x","x","x","x","x","x","x",{"$f":"'Раздел 2'!C120+'Раздел 3'!C129+'Раздел 4'!C74","v":12287162.628985999},0,0,0,{"$f":"'Раздел 2'!C120+'Раздел 3'!C129+'Раздел 4'!C74","v":12287162.628985999},"х","х"]
["Итого по Ленинградской области со строительным контролем",null,"x","x","x","x","x","x","x","x","x","x",{"$f":"M181+M182","v":601132696.48218596},{"$f":"N181+N182","v":0},0,0,{"$f":"M182+Q181","v":628100215.0821861},"х","х",{"$f":"Q183-'Раздел 2'!C121-'Раздел 3'!C130-'Раздел 4'!C75","v":0}]
[]
[]
[]
[]
[]
[]
[]
[]
[]
[]
[]
[]
[]
[]
[]
[]
[]
[]
[]
[]
[]
[]
[]
[]
[]
[]
[]
[]
[]
[]
[]
[]
[]
[]
[]
[]
[]
[]
[]
[]
[]
[]
[]
[]
[]
[]
[]
[]
[]
[]
[]
[]
[]
[]
[]
[]
[]
[]
[]
[]
[]
[]
[]
[]
[]
[]
[]
[]
[]
[]
[]
[]
[]
[]
[]
[]
[]
[]
[]
[]
[]
[]
[]
[]
[]
[]
[]
[]
[]
[]
[]
[]
[]
[]
[]
[]
[]
[]
[]
[]
[]
[]
[]
[]
[]
[]
[]
[]
[]
[]
[]
[]
[]
[]
[]
[]
[]
[]
[]
[]
[]
[]
[]
[]
[]
[]
[]
[]
[]
[]
[]
[]
[]
[]
[]
[]
[]
[]
[]
[]
[]
[]
[]
[]
[]
[]
[]
[]
[]
[]
[]
[]
[]
[]
[]
[]
[]
[]
[]
[]
[]
[]
[]
[]
[]
[]
[]
[]
[]
[]
[]
[]
[]
[]
[]
[]
[]
[]
[]
[]
[]
[]
[]
[]
[]
[]
[]
[]
[]
[]
[]
[]
[]
[]
[]
[]
[]
[]
[]
[]
[]
[]
[]
[]
[]
[]
[]
[]
[]
[]
[]
[]
[]
[]
[]
[]
[]
[]
[]
[]
[]
[]
[]
[]
[]
[]
[]
[]
[]
[]
[]
[]
[]
[]
[]
[]
[]
[]
[]
[]
[]
[]
[]
[]
[]
[]
[]
[]
[]
[]
[]
[]
[]
[]
[]
[]
[]
[]
[]
[]
[]
[]
[]
[]
[]
[]
[]
[]
[]
[]
[]
[]
[]
[]
[]
[]
[]
[]
[]
[]
[]
[]
[]
[]
[]
[]
[]
[]
[]
[]
[]
[]
[]
[]
[]
[]
[]
[]
[]
[]
[]
[]
[]
[]
[]
[]
[]
[]
[]
[]
[]
[]
[]
[]
[]
[]
[]
[]
[]
[]
[]
[]
[]
[]
[]
[]
[]
[]
[]
[]
[]
[]
[]
[]
[]
[]
[]
[]
[]
[]
[]
[]
[]
[]
[]
[]
[]
[]
[]
[]
[]
[]
[]
[]
[]
[]
[]
[]
[]
[]
[]
[]
[]
[]
[]
[]
[]
[]
[]
[]
[]
[]
[]
[]
[]
[]
[]
[]
[]
[]
[]
[]
[]
[]
[]
[]
[]
[]
[]
[]
[]
[]
[]
[]
[]
[]
[]
[]
[]
[]
[]
[]
[]
[]
[]
[]
[]
[]
[]
[]
[]
[]
[]
[]
[]
[]
[]
[]
[]
[]
[]
[]
[]
[]
[]
[]
[]
[]
[]
[]
[]
[]
[]
[]
[]
[]
[]
[]
[]
[]
[]
[]
[]
[]
[]
[]
[]
[]
[]
[]
[]
[]
[]
[]
[]
[]
[]
[]
[]
[]
[]
[]
[]
[]
[]
[]
[]
[]
[]
[]
[]
[]
[]
[]
[]
[]
[]
[]
[]
[]
[]
[]
[]
[]
[]
[]
[]
[]
[]
[]
[]
[]
[]
[]
[]
[]
[]
[]
[]
[]
[]
[]
[]
[]
[]
[]
[]
[]
[]
[]
[]
[]
[]
[]
[]
[]
[]
[]
[]
[]
[]
[]
[]
[]
[]
[]
[]
[]
[]
[]
[]
[]
[]
[]
[]
[]
[]
[]
[]
[]
[]
[]
[]
[]
[]
[]
[]
[]
[]
[]
[]
[]
[]
[]
[]
[]
[]
[]
[]
[]
[]
[]
[]
[]
[]
[]
[]
[]
[]
[]
[]
[]
[]
[]
[]
[]
[]
[]
[]
[]
[]
[]
[]
[]
[]
[]
[]
[]
[]
[]
[]
[]
[]
[]
[]
[]
[]
[]
[]
[]
[]
[]
[]
[]
[]
[]
[]
[]
[]
[]
[]
[]
[]
[]
[]
[]
[]
[]
[]
[]
[]
[]
[]
[]
[]
[]
[]
[]
[]
[]
[]
[]
[]
[]
[]
[]
[]
[]
[]
[]
[]
[]
[]
[]
[]
[]
[]
[]
[]
[]
[]
[]
[]
[]
[]
[]
[]
[]
[]
[]
[]
[]
[]
[]
[]
[]
[]
[]
[]
[]
[]
[]
[]
[]
[]
[]
[]
[]
[]
[]
[]
[]
[]
[]
[]
[]
[]
[]
[]
[]
[]
[]
[]
[]
[]
[]
[]
[]
[]
[]
[]
[]
[]
[]
[]
[]
[]
[]
[]
[]
[]
[]
[]
[]
[]
[]
[]
[]
[]
[]
[]
[]
[]
[]
[]
[]
[]
[null,null,null,null,null,null,null,null,null,null,null,null,null,null,null,null,null,null,{"$f":"M288+#REF!+#REF!+#REF!+#REF!+#REF!","v":{"$error":"#REF!"}}]

{"sheet":"Раздел 2","index":2,"n_rows":1026,"n_cols":8,"rows_kept":1026,"cut":false,"hidden":false,"merged":[[0,0,0,6],[57,0,57,6],[70,0,70,6],[1,0,2,0],[1,1,2,1],[45,0,45,6],[25,0,25,6],[4,0,4,6],[1,3,1,4],[120,0,120,1],[105,0,105,6],[119,0,119,1],[83,0,83,6],[94,0,94,6],[112,0,112,6],[100,0,100,6]]}
["Раздел II. Реестр многоквартирных домов, в которых будет проводиться капитальный ремонт лифтового оборудования в 2020 году, за счет средств собственников"]
["№ п\\п","Адрес МКД","Стоимость капитального ремонта ВСЕГО","Ремонт или замена лифтового оборудования",null,"ТО","Проектные работы"]
[null,null,"руб.","ед.","руб","руб.","руб."]
[1,2,3,4,5,6,7]
["Всеволожский муниципальный район"]
["Муниципальное образование  Город Всеволожск "]
[1,"Г. Всеволожск, ул. Александровская, д. 81, корп. 3  ",{"$f":"E7+F7+G7","v":260000},null,null,null,260000,260000]
[{"$f":"A7+1","v":2},"Г. Всеволожск, ул. Балашова, д. 8/3  ",{"$f":"E8+F8+G8","v":260000},null,null,null,260000]
[{"$f":"A8+1","v":3},"Г. Всеволожск, ул. Василеозерская, д. 5  ",{"$f":"E9+F9+G9","v":260000},null,null,null,260000]
[{"$f":"A9+1","v":4},"Г. Всеволожск, ул. Ленинградская, д. 24/84 ",{"$f":"E10+F10+G10","v":910000},null,null,null,910000]
["Итого по муниципальному образованию",null,{"$f":"SUM(C7:C10)","v":1690000},{"$f":"SUM(D7:D10)","v":0},0,0,1690000]
["Муниципальное образование Муринское городское поселение"]
[{"$f":"A10+1","v":5},"Пос. Мурино, ул. Оборонная, д. 12  ",{"$f":"E13+F13+G13","v":260000},null,null,null,260000]
[{"$f":"A13+1","v":6},"Пос. Мурино, ул. Оборонная, д. 24  ",{"$f":"E14+F14+G14","v":390000},null,null,null,{"$f":"130000*3","v":390000}]
[{"$f":"A14+1","v":7},"Пос. Мурино, ул. Оборонная, д. 22  ",{"$f":"E15+F15+G15","v":130000},null,null,null,130000]
["Итого по муниципальному образованию",null,{"$f":"SUM(C13:C15)","v":780000},{"$f":"SUM(D13:D15)","v":0},{"$f":"SUM(E13:E15)","v":0},{"$f":"SUM(F13:F15)","v":0},{"$f":"SUM(G13:G15)","v":780000}]
["Муниципальное образование Свердловское городское поселение"]
[{"$f":"A15+1","v":8},"Пос. им. Свердлова, микрорайон 1, д. 8",{"$f":"E18+F18+G18","v":520000},null,null,null,520000]
["Итого по муниципальному образованию",null,{"$f":"C18","v":520000},{"$f":"D18","v":0},0,0,520000]
["Муниципальное образование  Сертолово "]
[{"$f":"A18+1","v":9},"Г. Сертолово, микрорайон Сертолово-1, ул. Молодежная, д. 8, корп. 2",{"$f":"E21+F21+G21","v":390000},null,null,null,390000]
[{"$f":"A21+1","v":10},"Г. Сертолово, микрорайон Сертолово-1, ул. Центральная, д. 6, корп. 1",{"$f":"E22+F22+G22","v":8667924.4699999988},{"$f":"cвод!J19","v":3},{"$f":"SUM([1]субсидия!$C$166:$C$168)","v":8057534.0899999999},{"$f":"cвод!L19","v":220390.38},{"$f":"D22*130000","v":390000}]
[{"$f":"A22+1","v":11},"Г. Сертолово, микрорайон Сертолово-1, ул. Центральная, д. 7, корп. 1",{"$f":"E23+F23+G23","v":8680076.0399999991},{"$f":"cвод!J20","v":3},{"$f":"SUM([1]субсидия!$C$169:$C$171)","v":8069685.6600000001},{"$f":"cвод!L20","v":220390.38},{"$f":"D23*130000","v":390000}]
["Итого по муниципальному образованию",null,{"$f":"SUM(C21:C23)","v":17738000.509999998},{"$f":"SUM(D21:D23)","v":6},16127219.75,440780.76,1170000]
["Итого по Всеволожскому муниципальному району",null,{"$f":"C24+C16+C11+C19","v":20728000.509999998},{"$f":"D24+D16+D11+D19","v":6},{"$f":"E24+E16+E11+E19","v":16127219.75},{"$f":"F24+F16+F11+F19","v":440780.76},{"$f":"G24+G16+G11+G19","v":4160000}]
["Выборгский  район"]
["Муниципальное образование  Город Выборг"]
[{"$f":"A23+1","v":12},"Г. Выборг, бул. Кутузова, д. 33  ",{"$f":"E28+F28+G28","v":2540171.3722000001},{"$f":"cвод!J25","v":1},{"$f":"[1]субсидия!$C$295","v":2362913.11},{"$f":"E28*0.02","v":47258.262199999997},{"$f":"D28*130000","v":130000}]
[{"$f":"A28+1","v":13},"Г. Выборг, пр. Победы, д. 8",2438131.6228,{"$f":"cвод!J29","v":1},{"$f":"[1]субсидия!$C$287","v":2262874.14},45257.482800000005,{"$f":"D29*130000","v":130000}]
[{"$f":"A29+1","v":14},"Г. Выборг, просп. Победы, д. 12  ",520000,null,null,null,520000]
[{"$f":"A30+1","v":15},"Г. Выборг, ул. Гагарина, д. 29  ",11629909.380000001,{"$f":"cвод!J31","v":3},{"$f":"cвод!K31","v":11019519},220390.38,{"$f":"D31*130000","v":390000}]
[16,"Г. Выборг, ул. Гагарина, д. 65  ",2438059.6413999996,{"$f":"cвод!J32","v":1},{"$f":"[1]субсидия!$C$290","v":2262803.5699999998},45256.071400000001,130000]
[17,"Г. Выборг, ул. Крепостная, д. 39а  ",3876636.46,{"$f":"cвод!J35","v":1},{"$f":"cвод!K35","v":3673173},73463.460000000006,130000]
[18,"Г. Выборг, ул. Офицерская, д. 12  ",2481167.5444,{"$f":"cвод!J36","v":1},{"$f":"[1]субсидия!$C$293","v":2305066.2200000002},46101.324400000005,130000]
[19,"Г. Выборг, ул. Офицерская, д. 14  ",2483623.2352,{"$f":"cвод!J37","v":1},{"$f":"[1]субсидия!$C$294","v":2307473.7599999998},46149.475199999993,130000]
["Итого по муниципальному образованию",null,{"$f":"SUM(C28:C35)","v":28407699.255999997},{"$f":"SUM(D28:D35)","v":9},{"$f":"SUM(E28:E35)","v":26193822.799999997},{"$f":"SUM(F28:F35)","v":523876.45600000001},{"$f":"SUM(G28:G35)","v":1690000}]
["Муниципальное образование Светогорское городское поселение"]
[{"$f":"A35+1","v":20},"Г. Светогорск, ул. Красноармейская, д. 26",{"$f":"E38+F38+G38","v":8324810.25},3,8126680.6500000004,198129.6,0]
[{"$f":"A38+1","v":21},"Г. Светогорск, ул. Красноармейская, д. 32",{"$f":"E39+F39+G39","v":13117704.67},5,{"$f":"SUM([1]субсидия!$C$299:$C$303)","v":11888945.949999999},{"$f":"cвод!L48","v":448758.72},{"$f":"cвод!Z48","v":780000}]
[{"$f":"A39+1","v":22},"Г. Светогорск, ул. Красноармейская, д. 8",{"$f":"E40+F40+G40","v":7759701.0999999996},3,{"$f":"SUM([1]субсидия!$C$296:$C$298)","v":7170098.1999999993},{"$f":"66534.3+66534.3+66534.3","v":199602.90000000002},{"$f":"D40*130000","v":390000}]
["Итого по муниципальному образованию",null,{"$f":"SUM(C38:C40)","v":29202216.020000003},{"$f":"SUM(D38:D40)","v":11},27185724.800000001,846491.22,1170000]
["Муниципальное образование Советское городское поселение"]
[{"$f":"A40+1","v":23},"Г.п. Советский, ул. Садовая, д. 46",{"$f":"E43+F43+G43","v":2381097.2199999997},1,2313231.88,67865.34]
["Итого по муниципальному образованию",null,{"$f":"SUM(C43)","v":2381097.2199999997},{"$f":"SUM(D43)","v":1},2313231.88,67865.34,0]
["Итого по Выборгскому району",null,{"$f":"C41+C36+C44","v":59991012.495999999},{"$f":"D41+D36+D44","v":21},55692779.479999997,1438233.0160000001,2860000]
["Гатчинский муниципальный район"]
["Муниципальное образование Город Гатчина"]
[{"$f":"A43+1","v":24},"Г. Гатчина, просп. 25 Октября, д. 63",{"$f":"E48+F48+G48","v":390000},null,null,null,390000]
[{"$f":"A48+1","v":25},"Г. Гатчина, ул. Авиатриссы Зверевой, д. 11",260000,null,null,null,260000]
[26,"Г. Гатчина, ул. Красных Военлётов, д. 9",520000,null,null,null,{"$f":"4*130000","v":520000}]
[27,"Г. Гатчина, ул. Рощинская, д. 19",15506545.84,{"$f":"cвод!J70","v":4},{"$f":"cвод!K70","v":14692692},{"$f":"cвод!L70","v":293853.84000000003},{"$f":"D51*130000","v":520000}]
[28,"Г. Гатчина, ул. Рощинская, д. 9Г",7753272.9199999999,{"$f":"cвод!J72","v":2},{"$f":"cвод!K72","v":7346346},{"$f":"cвод!L72","v":146926.92000000001},{"$f":"D52*130000","v":260000}]
[29,"Г. Гатчина, ул. Рощинская, д. 13, кор. 1",130000,null,null,null,130000]
[30,"Г. Гатчина, ул. Чехова, д. 14",260000,null,null,null,260000]
[31,"Г. Гатчина, ул. Хохлова, д. 2",390000,null,null,null,390000]
["Итого по муниципальному образованию",null,{"$f":"SUM(C48:C55)","v":25209818.759999998},{"$f":"SUM(D48:D55)","v":6},{"$f":"SUM(E48:E55)","v":22039038},{"$f":"SUM(F48:F55)","v":440780.76},{"$f":"SUM(G48:G55)","v":2730000}]
["Итого по Гатчинскому муниципальному району",null,{"$f":"C56","v":25209818.759999998},{"$f":"D56","v":6},22039038,440780.76,2730000]
["Киришский муниципальный район"]
["Муниципальное образование Киришское городское поселение"]
[{"$f":"A55+1","v":32},"Г. Кириши, бул. Плавницкий, д. 16",{"$f":"E60+F60+G60","v":2803026.64},{"$f":"cвод!J95","v":1},{"$f":"[1]субсидия!$C$322","v":2599563.1800000002},{"$f":"cвод!L95","v":73463.460000000006},{"$f":"D60*130000","v":130000}]
[{"$f":"A60+1","v":33},"Г. Кириши, пер. Березовый, д. 10",130000,null,null,null,130000]
[34,"Г. Кириши, просп. Героев, д. 15",2802614.46,{"$f":"cвод!J98","v":1},{"$f":"[1]субсидия!$C$323","v":2599151},{"$f":"cвод!L98","v":73463.460000000006},{"$f":"D62*130000","v":130000}]
[35,"Г. Кириши, просп. Героев, д. 17",5567978.9399999995,{"$f":"cвод!J99","v":2},{"$f":"SUM([1]субсидия!$C$324:$C$325)","v":5161052.0199999996},{"$f":"cвод!L99","v":146926.92000000001},260000]
[36,"Г. Кириши, ул. Декабристов Бестужевых, д. 16",2803590.77,{"$f":"cвод!J102","v":1},{"$f":"[1]субсидия!$C$326","v":2600127.31},{"$f":"cвод!L102","v":73463.460000000006},130000]
[37,"Г. Кириши, ул. Строителей, д. 28",2803316.73,{"$f":"cвод!J105","v":1},{"$f":"[1]субсидия!$C$327","v":2599853.27},{"$f":"cвод!L105","v":73463.460000000006},130000]
[38,"Г. Кириши, ул. Строителей, д. 30",8449707.6699999999,{"$f":"cвод!J106","v":3},{"$f":"SUM([1]субсидия!$C$328:$C$330)","v":7839317.29},{"$f":"cвод!L106","v":220390.38},390000]
[39,"Г. Кириши, ул. Строителей, д. 46",11264437.789999999,{"$f":"cвод!J107","v":4},{"$f":"SUM([1]субсидия!$C$331:$C$334)","v":10450583.949999999},{"$f":"cвод!L107","v":293853.84000000003},520000]
[{"$f":"A67+1","v":40},"Г. Кириши, ул. Энергетиков, д. 40",2803602.38,{"$f":"cвод!J108","v":1},{"$f":"[1]субсидия!$C$335","v":2600138.92},{"$f":"cвод!L108","v":73463.460000000006},130000]
["Итого по муниципальному образованию",null,{"$f":"SUM(C60:C68)","v":39428275.380000003},{"$f":"SUM(D60:D68)","v":14},{"$f":"SUM(E60:E68)","v":36449786.939999998},{"$f":"SUM(F60:F68)","v":1028488.4400000002},{"$f":"SUM(G60:G68)","v":1950000}]
["Итого по Киришскому муниципальному району",null,{"$f":"C69","v":39428275.380000003},{"$f":"D69","v":14},36449786.939999998,1028488.4400000002,1950000]
["Кировский муниципальный район"]
["Муниципальное образование Кировское городское поселение"]
[{"$f":"A68+1","v":41},"Г. Кировск, ул. Молодежная, д. 3",{"$f":"E73+F73+G73","v":130000},null,null,null,130000]
[{"$f":"A73+1","v":42},"Г. Кировск, ул. Молодежная, д. 5",130000,null,null,null,130000]
["Итого по муниципальному образованию",null,{"$f":"SUM(C73:C74)","v":260000},{"$f":"SUM(D73:D74)","v":0},{"$f":"SUM(E73:E74)","v":0},{"$f":"SUM(F73:F74)","v":0},{"$f":"SUM(G73:G74)","v":260000}]
["Муниципальное образование Отрадненское городское поселение"]
[{"$f":"A74+1","v":43},"Г. Отрадное, ул. Железнодорожная, д. 13",{"$f":"E77+F77+G77","v":260000},null,null,null,260000]
[{"$f":"A77+1","v":44},"Г. Отрадное, ул. Зарубина, д. 15",130000,null,null,null,130000]
[{"$f":"A78+1","v":45},"Г. Отрадное, ул. Лесная, д. 10",780000,null,null,null,780000]
[{"$f":"A79+1","v":46},"Г. Отрадное, ул. Центральная,д.17",520000,null,null,null,520000]
[47,"Г. Отрадное, ул. Щурова, д.4",260000,null,null,null,260000]
["Итого по муниципальному образованию",null,{"$f":"SUM(C77:C81)","v":1950000},{"$f":"SUM(D77:D81)","v":0},{"$f":"SUM(E77:E81)","v":0},{"$f":"SUM(F77:F81)","v":0},{"$f":"SUM(G77:G81)","v":1950000}]
["Итого по Кировскому муниципальному району",null,{"$f":"+C82+C75","v":2210000},{"$f":"+D82+D75","v":0},{"$f":"+E82+E75","v":0},{"$f":"+F82+F75","v":0},{"$f":"+G82+G75","v":2210000}]
["Лужский муниципальный район"]
["Муниципальное образование Лужское городское поселение"]
[{"$f":"A81+1","v":48},"Г. Луга, просп. Володарского, д. 26",{"$f":"E86+F86+G86","v":7140000},{"$f":"cвод!J134","v":2},{"$f":"cвод!K134","v":7000000},{"$f":"cвод!L134","v":140000}]
[{"$f":"A86+1","v":49},"Г. Луга, ул. Миккели, д. 1, кор. 1",3876636.46,{"$f":"cвод!J137","v":1},{"$f":"cвод!K137","v":3673173},{"$f":"cвод!L137","v":73463.460000000006},{"$f":"D87*130000","v":130000}]
[{"$f":"A87+1","v":50},"Г. Луга, ул. Миккели, д. 1, кор. 3",3876636.46,{"$f":"cвод!J138","v":1},{"$f":"cвод!K138","v":3673173},{"$f":"cвод!L138","v":73463.460000000006},{"$f":"D88*130000","v":130000}]
[{"$f":"A88+1","v":51},"Г. Луга, ул. Победы, д. 4",3570000,{"$f":"cвод!J139","v":1},{"$f":"cвод!K139","v":3500000},{"$f":"cвод!L139","v":70000}]
[{"$f":"A89+1","v":52},"Г. Луга, ул. Победы, д. 7",3700000,{"$f":"cвод!J140","v":1},{"$f":"cвод!K140","v":3500000},{"$f":"cвод!L140","v":70000},{"$f":"D90*130000","v":130000}]
[{"$f":"A90+1","v":53},"Г. Луга, просп. Урицкого, д. 101",130000,{"$f":"cвод!J194","v":0},{"$f":"cвод!K194","v":0},{"$f":"cвод!L194","v":0},130000]
[54,"Г. Луга, просп. Урицкого, д. 99",130000,{"$f":"cвод!J195","v":0},{"$f":"cвод!K195","v":0},{"$f":"cвод!L195","v":0},130000]
["Итого по муниципальному образованию",null,{"$f":"SUM(C86:C92)","v":22423272.920000002},{"$f":"SUM(D86:D92)","v":6},21346346,426926.92000000004,650000]
["Итого по Лужскому муниципальному району",null,{"$f":"C93","v":22423272.920000002},{"$f":"D93","v":6},21346346,426926.92000000004,650000]
["Сосновоборский городской округ"]
["Муниципальное образование Сосновоборский городской округ"]
[{"$f":"A92+1","v":55},"Г. Сосновый Бор, ул. Молодежная, д. 26",{"$f":"E97+F97+G97","v":7594407.96},2,{"$f":"D97*3641478+162542","v":7445498},{"$f":"E97*0.02","v":148909.96}]
[{"$f":"A97+1","v":56},"Г. Сосновый Бор, ул. Сибирская, д. 5",3880100.4,{"$f":"cвод!J152","v":1},{"$f":"cвод!K152","v":3804020},{"$f":"cвод!L152","v":76080.400000000009}]
[{"$f":"A98+1","v":57},"Г. Сосновый Бор, ул. Солнечная, д. 30",5901813.6000000006,2,5753330.4000000004,148483.20000000001]
["Итого по муниципальному образованию",null,{"$f":"SUM(C97:C99)","v":17376321.960000001},{"$f":"SUM(D97:D99)","v":5},{"$f":"SUM(E97:E99)","v":17002848.399999999},{"$f":"SUM(F97:F99)","v":373473.56},{"$f":"SUM(G97:G99)","v":0}]
["Сланцевский муниципальный район"]
["Муниципальное образование Сланцевское городское поселение"]
[{"$f":"A99+1","v":58},"Г. Сланцы, ул. Гагарина, д. 5а",{"$f":"E103+F103+G103","v":3746636.46},{"$f":"cвод!J160","v":1},{"$f":"cвод!K160","v":3673173},{"$f":"cвод!L160","v":73463.460000000006}]
["Итого по муниципальному образованию",null,{"$f":"SUM(C103:C103)","v":3746636.46},{"$f":"SUM(D103:D103)","v":1},{"$f":"SUM(E103:E103)","v":3673173},{"$f":"SUM(F103:F103)","v":73463.460000000006},{"$f":"SUM(G103:G103)","v":0}]
["Итого по Сланцевскому муниципальному району",null,{"$f":"C104","v":3746636.46},{"$f":"D104","v":1},3673173,73463.460000000006,0]
["Тихвинский муниципальный район"]
["Муниципальное образование Тихвинское городское поселение"]
[{"$f":"A103+1","v":59},"Г. Тихвин, микрорайон 1а, д. 45",{"$f":"E108+F108+G108","v":5433061.9500000002},{"$f":"cвод!J171","v":2},{"$f":"SUM([1]субсидия!$C$317:$C$318)","v":5026135.03},{"$f":"cвод!L171","v":146926.92000000001},{"$f":"D108*130000","v":260000}]
[{"$f":"A108+1","v":60},"Г. Тихвин, ул. Машиностроителей, д.46",{"$f":"E109+F109+G109","v":650000},null,null,null,650000]
[{"$f":"A109+1","v":61},"Г. Тихвин, ул. Советская, д. 1",{"$f":"E110+F110+G110","v":5459425.3499999996},{"$f":"cвод!J172","v":2},{"$f":"SUM([1]субсидия!$C$319:$C$320)","v":5052498.43},{"$f":"cвод!L172","v":146926.92000000001},{"$f":"D110*130000","v":260000}]
["Итого по муниципальному образованию",null,{"$f":"SUM(C108:C110)","v":11542487.300000001},{"$f":"SUM(D108:D110)","v":4},10078633.460000001,293853.84000000003,1170000]
["Итого по Тихвинскому муниципальному району",null,{"$f":"C111","v":11542487.300000001},{"$f":"D111","v":4},10078633.460000001,293853.84000000003,1170000]
["Тосненский район"]
["Муниципальное образование Тосненское городское поселение"]
[{"$f":"A110+1","v":62},"Г. Тосно, ул. М. Горького, д. 8а",{"$f":"E115+F115+G115","v":260000},null,null,null,260000]
[{"$f":"A115+1","v":63},"Г. Тосно, пр. Ленина, д. 19",{"$f":"E116+F116+G116","v":520000},null,null,null,{"$f":"130000*4","v":520000}]
["Итого по муниципальному образованию",null,{"$f":"SUM(C115:C116)","v":780000},{"$f":"SUM(D115:D116)","v":0},{"$f":"SUM(E115:E116)","v":0},{"$f":"SUM(F115:F116)","v":0},{"$f":"SUM(G115:G116)","v":780000}]
["Итого по Тосненскому району",null,{"$f":"C117","v":780000},{"$f":"D117","v":0},0,0,780000]
["ИТОГО по Ленинградской области",null,{"$f":"C118+C112+C105+C100+C94+C83+C70+C57+C45+C25","v":203435825.78599998},{"$f":"D118+D112+D105+D100+D94+D83+D70+D57+D45+D25","v":63},{"$f":"E118+E112+E105+E100+E94+E83+E70+E57+E45+E25","v":182409825.03},4516000.7560000001,16510000]
["Осуществление строительного контроля",null,{"$f":"(C119-F119-G119)*0.0214","v":3903570.2556419992}]
["Итого по Ленинградской области со строительным контролем",null,{"$f":"C119+C120","v":207339396.04164198}]
[]
[]
[]
[]
[]
[]
[]
[]
[]
[]
[]
[]
[]
[]
[]
[]
[]
[]
[]
[]
[]
[]
[]
[]
[]
[]
[]
[]
[]
[]
[]
[]
[]
[]
[]
[]
[]
[]
[]
[]
[]
[]
[]
[]
[]
[]
[]
[]
[]
[]
[]
[]
[]
[]
[]
[]
[]
[]
[]
[]
[]
[]
[]
[]
[]
[]
[]
[]
[]
[]
[]
[]
[]
[null,null,null,null,null,null,{"$f":"SUM(G182:G194)","v":0}]
[]
[]
[]
[]
[]
[]
[]
[]
[]
[]
[]
[]
[]
[]
[]
[]
[]
[]
[]
[]
[]
[]
[null,null,null,null,null,null,{"$f":"SUM(G200:G217)","v":0}]
[]
[]
[]
[]
[]
[]
[]
[]
[]
[]
[null,null,null,null,null,null,{"$f":"SUM(G223:G228)","v":0}]
[]
[]
[]
[]
[]
[]
[]
[null,null,null,null,null,null,{"$f":"SUM(G231:G236)","v":0}]
[]
[]
[]
[]
[]
[null,null,null,null,null,null,{"$f":"SUM(G239:G241)","v":0}]
[null,null,null,null,null,null,{"$f":"G195+G218+G229+G243+G237+G221","v":0}]
[]
[]
[]
[]
[]
[]
[null,null,null,null,null,null,{"$f":"SUM(G247:G250)","v":0}]
[]
[]
[]
[]
[]
[]
[]
[]
[]
[]
[]
[]
[]
[]
[]
[]
[]
[]
[]
[]
[]
[]
[]
[]
[]
[]
[]
[]
[]
[]
[]
[]
[]
[]
[]
[]
[]
[]
[]
[]
[]
[]
[]
[]
[]
[]
[]
[]
[]
[]
[]
[]
[]
[]
[]
[]
[]
[]
[]
[]
[]
[]
[]
[null,null,null,null,null,null,{"$f":"SUM(G256:G314)","v":0}]
[]
[]
[]
[]
[]
[]
[null,null,null,null,null,null,{"$f":"SUM(G321)","v":0}]
[]
[]
[]
[]
[]
[]
[null,null,null,null,null,null,{"$f":"G251+G315+G322","v":0}]
[]
[]
[]
[]
[]
[]
[]
[]
[]
[]
[]
[]
[]
[]
[null,null,null,null,null,null,{"$f":"SUM(G332:G343)","v":0}]
[]
[]
[]
[]
[null,null,null,null,null,null,{"$f":"SUM(G346:G348)","v":0}]
[null,null,null,null,null,null,{"$f":"G344+G349","v":0}]
[]
[]
[]
[]
[]
[]
[]
[]
[]
[]
[]
[]
[]
[]
[]
[]
[]
[]
[]
[]
[]
[]
[]
[]
[]
[]
[]
[]
[]
[null,null,null,null,null,null,{"$f":"SUM(G353:G379)","v":0}]
[]
[]
[]
[]
[null,null,null,null,null,null,{"$f":"SUM(G382:G384)","v":0}]
[]
[]
[]
[null,null,null,null,null,null,{"$f":"SUM(G387:G388)","v":0}]
[null,null,null,null,null,null,{"$f":"G380+G389+G385","v":0}]
[]
[]
[]
[]
[]
[]
[]
[]
[]
[]
[]
[]
[]
[]
[]
[]
[]
[]
[]
[]
[]
[]
[]
[]
[]
[]
[null,null,null,null,null,null,{"$f":"SUM(G393:G416)","v":0}]
[]
[]
[]
[]
[]
[]
[]
[]
[]
[]
[]
[]
[]
[]
[]
[]
[null,null,null,null,null,null,{"$f":"SUM(G419:G433)","v":0}]
[]
[]
[]
[]
[]
[]
[null,null,null,null,null,null,{"$f":"SUM(G436:G440)","v":0}]
[]
[]
[null,null,null,null,null,null,{"$f":"SUM(G443:G443)","v":0}]
[]
[]
[]
[]
[]
[]
[]
[null,null,null,null,null,null,{"$f":"SUM(G446:G451)","v":0}]
[]
[]
[]
[]
[]
[]
[]
[null,null,null,null,null,null,{"$f":"SUM(G454:G459)","v":0}]
[null,null,null,null,null,null,{"$f":"#REF!+#REF!+#REF!+#REF!+#REF!+F461+#REF!+#REF!+#REF!+#REF!+#REF!+#REF!+#REF!+#REF!","v":{"$error":"#REF!"}}]
[null,null,null,null,null,null,{"$f":"#REF!+#REF!+#REF!+#REF!+#REF!+F462+#REF!+#REF!+#REF!+#REF!+#REF!+#REF!+#REF!+#REF!","v":{"$error":"#REF!"}}]
[null,null,null,null,null,null,{"$f":"#REF!+#REF!+#REF!+#REF!+#REF!+F463+#REF!+#REF!+#REF!+#REF!+#REF!+#REF!+#REF!+#REF!","v":{"$error":"#REF!"}}]
[null,null,null,null,null,null,{"$f":"#REF!+#REF!+#REF!+#REF!+#REF!+F464+#REF!+#REF!+#REF!+#REF!+#REF!+#REF!+#REF!+#REF!","v":{"$error":"#REF!"}}]
[null,null,null,null,null,null,{"$f":"#REF!+#REF!+#REF!+#REF!+#REF!+F465+#REF!+#REF!+#REF!+#REF!+#REF!+#REF!+#REF!+#REF!","v":{"$error":"#REF!"}}]
[]
[]
[]
[]
[]
[]
[]
[]
[]
[]
[]
[]
[]
[]
[]
[]
[]
[]
[]
[]
[]
[]
[]
[]
[]
[null,null,null,null,null,null,{"$f":"SUM(G467:G490)","v":0}]
[null,null,null,null,null,null,{"$f":"SUM(G491+G460+G452+G444+G441+G434+G417)","v":0}]
[]
[]
[]
[]
[]
[]
[]
[]
[]
[]
[]
[]
[]
[]
[]
[]
[]
[]
[]
[]
[]
[]
[]
[]
[]
[]
[]
[]
[]
[]
[]
[]
[]
[]
[]
[null,null,null,null,null,null,{"$f":"SUM(G495:G527)","v":0}]
[null,null,null,null,null,null,{"$f":"G528","v":0}]
[]
[]
[]
[]
[]
[]
[]
[]
[null,null,null,null,null,null,{"$f":"SUM(G532:G535)","v":0}]
[]
[]
[null,null,null,null,null,null,{"$f":"SUM(G540:G540)","v":0}]
[]
[]
[]
[]
[null,null,null,null,null,null,{"$f":"SUM(G543:G545)","v":0}]
[]
[]
[]
[]
[]
[null,null,null,null,null,null,{"$f":"SUM(G548:G551)","v":0}]
[]
[]
[]
[]
[]
[null,null,null,null,null,null,{"$f":"SUM(G554:G557)","v":0}]
[]
[]
[]
[null,null,null,null,null,null,{"$f":"SUM(G560:G561)","v":0}]
[]
[]
[]
[]
[]
[null,null,null,null,null,null,{"$f":"SUM(G564:G567)","v":0}]
[null,null,null,null,null,null,{"$f":"G546+G538+G541+G568+G562+G552+G558","v":0}]
[]
[]
[]
[]
[null,null,null,null,null,null,{"$f":"SUM(G572:G573)","v":0}]
[]
[]
[]
[]
[]
[]
[]
[]
[]
[]
[]
[]
[]
[]
[]
[]
[]
[]
[]
[]
[]
[]
[null,null,null,null,null,null,{"$f":"SUM(G588:G596)","v":0}]
[]
[]
[]
[null,null,null,null,null,null,{"$f":"SUM(G599:G600)","v":0}]
[]
[]
[null,null,null,null,null,null,{"$f":"SUM(G603:G603)","v":0}]
[]
[]
[]
[]
[]
[]
[]
[]
[null,null,null,null,null,null,{"$f":"SUM(G606:G612)","v":0}]
[]
[]
[]
[]
[]
[]
[]
[null,null,null,null,null,null,{"$f":"SUM(G615:G620)","v":0}]
[]
[]
[null,null,null,null,null,null,{"$f":"SUM(G623:G623)","v":0}]
[]
[]
[null,null,null,null,null,null,{"$f":"SUM(G626)","v":0}]
[]
[]
[]
[]
[]
[]
[null,null,null,null,null,null,{"$f":"G574+G597+G601+G604+G613+G621+G624+G627+G633","v":0}]
[]
[]
[]
[]
[]
[]
[]
[]
[]
[]
[null,null,null,null,null,null,{"$f":"SUM(G637:G644)","v":0}]
[null,null,null,null,null,null,{"$f":"G645","v":0}]
[]
[]
[]
[]
[]
[]
[]
[null,null,null,null,null,null,{"$f":"SUM(G649:G653)","v":0}]
[]
[]
[]
[]
[]
[null,null,null,null,null,null,{"$f":"SUM(G656:G659)","v":0}]
[]
[]
[]
[]
[null,null,null,null,null,null,{"$f":"SUM(G662:G664)","v":0}]
[]
[]
[]
[]
[]
[null,null,null,null,null,null,{"$f":"SUM(G667:G670)","v":0}]
[]
[]
[]
[null,null,null,null,null,null,{"$f":"SUM(G673:G674)","v":0}]
[]
[]
[]
[]
[]
[]
[]
[null,null,null,null,null,null,{"$f":"G681+G682","v":0}]
[null,null,null,null,null,null,{"$f":"G654+G660+G665+G671+G675","v":0}]
[]
[]
[]
[null,null,null,null,null,null,{"$f":"SUM(G687:G687)","v":0}]
[]
[]
[null,null,null,null,null,null,{"$f":"SUM(G690)","v":0}]
[]
[]
[]
[]
[]
[]
[]
[]
[]
[]
[]
[]
[]
[]
[]
[]
[]
[]
[]
[]
[]
[]
[]
[]
[]
[]
[]
[]
[]
[]
[]
[]
[]
[]
[]
[]
[]
[null,null,null,null,null,null,{"$f":"SUM(G693:G728)","v":0}]
[null,null,null,null,null,null,{"$f":"G729+G691+G688","v":0}]
[]
[]
[]
[]
[]
[]
[]
[]
[]
[]
[]
[]
[]
[]
[]
[]
[]
[]
[]
[]
[]
[]
[]
[]
[]
[]
[]
[]
[]
[]
[]
[]
[]
[]
[]
[]
[]
[]
[]
[]
[]
[]
[]
[]
[]
[]
[]
[]
[]
[]
[]
[]
[]
[]
[]
[]
[]
[]
[]
[]
[]
[]
[]
[]
[]
[]
[]
[]
[]
[]
[]
[]
[]
[]
[]
[]
[]
[]
[]
[]
[]
[]
[]
[]
[]
[]
[]
[]
[]
[]
[]
[]
[]
[]
[]
[]
[]
[]
[]
[]
[]
[]
[]
[]
[]
[]
[]
[]
[]
[]
[]
[]
[]
[]
[]
[]
[]
[]
[]
[]
[null,null,null,null,null,null,{"$f":"SUM(G732:G850)","v":0}]
[]
[]
[]
[]
[]
[]
[]
[]
[]
[]
[]
[]
[]
[]
[]
[]
[]
[]
[]
[]
[]
[]
[]
[]
[]
[]
[]
[]
[]
[]
[]
[]
[]
[]
[]
[]
[]
[]
[]
[]
[]
[]
[]
[]
[]
[]
[]
[]
[]
[]
[]
[]
[]
[]
[]
[]
[]
[]
[]
[]
[]
[]
[]
[]
[]
[]
[]
[]
[]
[]
[]
[]
[]
[]
[]
[]
[]
[]
[]
[]
[]
[]
[]
[]
[]
[]
[]
[]
[]
[]
[]
[]
[]
[]
[]
[]
[]
[]
[]
[]
[]
[]
[]
[]
[]
[]
[]
[]
[]
[]
[]
[null,null,null,null,null,null,{"$f":"SUM(G859:G962)","v":0}]
[]
[]
[]
[]
[]
[]
[]
[]
[]
[]
[]
[]
[]
[]
[]
[]
[]
[]
[]
[null,null,null,null,null,null,{"$f":"SUM(G965:G982)","v":0}]
[null,null,null,null,null,null,{"$f":"G963+G983","v":0}]
[]
[]
[]
[null,null,null,null,null,null,{"$f":"SUM(G987:G987)","v":0}]
[]
[]
[]
[]
[]
[]
[]
[null,null,null,null,null,null,{"$f":"SUM(G990:G995)","v":0}]
[]
[]
[null,null,null,null,null,null,{"$f":"SUM(G998:G998)","v":0}]
[]
[]
[]
[]
[]
[]
[]
[]
[]
[]
[]
[]
[]
[]
[]
[]
[]
[]
[]
[null,null,null,null,null,null,{"$f":"SUM(G1001:G1018)","v":0}]
[]
[]
[null,null,null,null,null,null,{"$f":"SUM(G1021:G1021)","v":0}]
[]
[]
[null,null,null,null,null,null,{"$f":"SUM(G1024)","v":0}]
[null,null,null,null,null,null,{"$f":"G996+G999+G1022+G1019+G988+G1025","v":0}]

{"sheet":"Раздел 3","index":3,"n_rows":1035,"n_cols":7,"rows_kept":1035,"cut":false,"hidden":false,"merged":[[129,0,129,1],[1,3,1,4],[9,0,9,6],[31,0,31,6],[45,0,45,6],[87,0,87,6],[128,0,128,1],[105,0,105,6],[116,0,116,6],[4,0,4,6],[121,0,121,6],[0,0,0,6],[77,0,77,6],[111,0,111,6],[60,0,60,6],[100,0,100,6]]}
["Раздел III. Реестр многоквартирных домов, в которых будет проводиться капитальный ремонт лифтового оборудования в 2021 году, за счет средств собственников"]
["№ п\\п","Адрес МКД","Стоимость капитального ремонта ВСЕГО","Ремонт или замена лифтового оборудования",null,"ТО","Проект-ные работы"]
[null,null,"руб.","ед.","руб","руб.","руб."]
[1,2,3,4,5,6,7]
["Волховский муниципальный район"]
["Муниципальное образование Город Волхов"]
[1,"Г. Волхов, просп. Волховский, д. 57",{"$f":"E7+F7+G7","v":130000},null,null,null,130000]
["Итого по муниципальному образованию",null,{"$f":"SUM(C7:C7)","v":130000},{"$f":"SUM(D7:D7)","v":0},0,0,130000]
["Итого по Волховскому муниципальному району",null,{"$f":"C8","v":130000},{"$f":"D8","v":0},0,0,130000]
["Всеволожский муниципальный район"]
["Муниципальное образование  Город Всеволожск "]
[{"$f":"A7+1","v":2},"Г. Всеволожск, ул. Александровская, д. 81, корп. 3  ",{"$f":"E12+F12+G12","v":5016630.92},2,{"$f":"2434852*D12","v":4869704},146926.92000000001]
[{"$f":"A12+1","v":3},"Г. Всеволожск, ул. Балашова, д. 8/3  ",5016630.92,2,{"$f":"2434852*D13","v":4869704},146926.92000000001]
[{"$f":"A13+1","v":4},"Г. Всеволожск, ул. Вокка, д. 3  ",260000,null,{"$f":"2434852*D14","v":0},null,260000]
[5,"Г. Всеволожск, ул. Василеозерская, д. 5  ",5016630.92,2,{"$f":"2434852*D15","v":4869704},146926.92000000001]
[6,"Г. Всеволожск, ул. Василеозерская, д. 7  ",260000,null,null,null,260000]
[7,"Г. Всеволожск, ул. Ленинградская, д. 30, корп. 1 ",130000,null,null,null,130000]
[8,"Г. Всеволожск, ул. Ленинградская, д. 24/84 ",26226455.219999999,5,25712211,514244.22000000003]
["Итого по муниципальному образованию",null,{"$f":"SUM(C12:C18)","v":41926347.979999997},{"$f":"SUM(D12:D18)","v":11},40321323,955024.98,650000]
["Муниципальное образование Муринское  городское поселение"]
[{"$f":"A18+1","v":9},"Пос. Мурино, ул. Оборонная, д. 12  ",{"$f":"E21+F21+G21","v":5016630.92},2,{"$f":"2434852*D21","v":4869704},{"$f":"73463.46*D21","v":146926.92000000001}]
[{"$f":"A21+1","v":10},"Пос. Мурино, ул. Оборонная, д. 24  ",{"$f":"E22+F22+G22","v":7524946.3799999999},3,{"$f":"2434852*D22","v":7304556},220390.38]
[{"$f":"A22+1","v":11},"Пос. Мурино, ул. Оборонная, д. 22  ",{"$f":"E23+F23+G23","v":2508315.46},1,2434852,{"$f":"73463.46*D23","v":73463.460000000006}]
["Итого по муниципальному образованию",null,{"$f":"SUM(C21:C23)","v":15049892.760000002},{"$f":"SUM(D21:D23)","v":6},14609112,440780.76000000007,0]
["Муниципальное образование Свердловское городское поселение"]
[{"$f":"A23+1","v":12},"Пос. им. Свердлова, микрорайон 1, д. 8",{"$f":"E26+F26+G26","v":10033261.84},{"$f":"cвод!J15","v":4},{"$f":"2434852*D26","v":9739408},{"$f":"cвод!L15","v":293853.84000000003}]
["Итого по муниципальному образованию",null,{"$f":"SUM(C26)","v":10033261.84},{"$f":"SUM(D26)","v":4},9739408,293853.84000000003,0]
["Муниципальное образование  Сертолово "]
[{"$f":"A26+1","v":13},"Г. Сертолово, микрорайон Сертолово-1, ул. Молодежная, д. 8, корп. 2",{"$f":"E29+F29+G29","v":7524946.3799999999},{"$f":"cвод!J18","v":3},{"$f":"2434852*D29","v":7304556},{"$f":"cвод!L18","v":220390.38}]
["Итого по муниципальному образованию",null,{"$f":"SUM(C29)","v":7524946.3799999999},{"$f":"SUM(D29)","v":3},7304556,220390.38,0]
["Итого по Всеволожскому муниципальному району",null,{"$f":"C30+C27+C24+C19","v":74534448.959999993},{"$f":"D30+D27+D24+D19","v":24},71974399,1910049.96,650000]
["Выборгский  район"]
["Муниципальное образование  Город Выборг"]
[{"$f":"A29+1","v":14},"Г. Выборг, ул. Гагарина, д. 69  ",{"$f":"E34+F34+G34","v":390000},null,null,null,390000]
[{"$f":"A34+1","v":15},"Г. Выборг, ул. Приморская, д. 64  ",{"$f":"E35+F35+G35","v":4345632.0199999996},2,{"$f":"2143508.94+2071836.92","v":4215345.8599999994},{"$f":"65143.08+65143.08","v":130286.16}]
[{"$f":"A35+1","v":16},"Г. Выборг, просп. Победы, д. 12  ",{"$f":"E36+F36+G36","v":10033261.84},{"$f":"cвод!J27","v":4},{"$f":"2434852*D36","v":9739408},{"$f":"cвод!L27","v":293853.84000000003}]
["Итого по муниципальному образованию",null,{"$f":"SUM(C34:C36)","v":14768893.859999999},{"$f":"SUM(D34:D36)","v":6},13954753.859999999,424140,390000]
["Муниципальное образование Полянское сельское поселение "]
[{"$f":"A36+1","v":17},"П/ст Приветнинское, ул. Военных строителей, д. 1 ",{"$f":"E39+F39+G39","v":130000},null,null,null,130000]
[18,"П/ст Приветнинское, ул. Военных строителей, д. 7 ",130000,null,null,null,130000]
[19,"П/ст Приветнинское, ул. Военных строителей, д. 9 ",130000,null,null,null,130000]
[20,"пос. Каменка, ул. Гвардейская, д. 75",130000,null,null,null,130000]
[21,"пос. Каменка, ул. Гвардейская, д. 77",130000,null,null,null,130000]
["Итого по муниципальному образованию",null,{"$f":"SUM(C39:C43)","v":650000},0,0,0,650000]
["Итого по Выборгскому району",null,{"$f":"C37+C44","v":15418893.859999999},{"$f":"D37+D44","v":6},{"$f":"E37+E44","v":13954753.859999999},{"$f":"F37+F44","v":424140},{"$f":"G37+G44","v":1040000}]
["Гатчинский муниципальный район"]
["Муниципальное образование Город Гатчина"]
[{"$f":"A43+1","v":22},"Г. Гатчина, просп. 25 Октября, д. 50",{"$f":"E48+F48+G48","v":11544197.616},6,{"$f":"1837065.6+1850126.4+2020569.6+1866856.8+1872243.6+1870978.8","v":11317840.800000001},{"$f":"E48*0.02","v":226356.81600000002}]
[{"$f":"A48+1","v":23},"Г. Гатчина, просп. 25 Октября, д. 59",390000,null,null,null,390000]
[{"$f":"A49+1","v":24},"Г. Гатчина, просп. 25 Октября, д. 63",5800138.2000000002,3,{"$f":"1833385.2+1973666.4+1879358.4","v":5686410},113728.2]
[25,"Г. Гатчина, ул. Авиатриссы Зверевой, д. 11",4015976.2932000002,2,{"$f":"2014907.82+1922323.84","v":3937231.66},78744.633200000011]
[26,"Г. Гатчина, ул. Красных Военлётов, д. 9",10012095.24,4,{"$f":"2072192.4+1954905.6+2017970.4+3673173","v":9718241.4000000004},293853.84000000003]
[27,"Г. Гатчина, ул. Рощинская, д. 13, кор. 1",2066923.5120000001,1,2026395.6,40527.912000000004]
[{"$f":"A53+1","v":28},"Г. Гатчина, ул. Рощинская, д. 11, кор. 1",130000,null,null,null,130000]
[{"$f":"A54+1","v":29},"Г. Гатчина, ул. Рощинская, д. 13А",260000,null,null,null,260000]
[{"$f":"A55+1","v":30},"Г. Гатчина, ул. Рощинская, д. 3А",260000,null,null,null,260000]
[{"$f":"A56+1","v":31},"Г. Гатчина, ул. Чехова, д. 14",4285663.4160000011,2,{"$f":"2272777.2+1928853.6","v":4201630.8000000007},84032.616000000024]
[32,"Г. Гатчина, ул. Хохлова, д. 2",7524946.3799999999,{"$f":"cвод!J73","v":3},{"$f":"2434852*D58","v":7304556},{"$f":"cвод!L73","v":220390.38}]
["Итого по муниципальному образованию",null,{"$f":"SUM(C48:C58)","v":46289940.657200009},{"$f":"SUM(D48:D58)","v":21},44192306.260000005,1057634.3972,1040000]
["Итого по Гатчинскому муниципальному району",null,{"$f":"C59","v":46289940.657200009},{"$f":"D59","v":21},44192306.260000005,1057634.3972,1040000]
["Кингисеппский муниципальный район"]
["Муниципальное образование Кингисеппское городское поселение"]
[{"$f":"A58+1","v":33},"Г. Кингисепп, просп. Карла Маркса, д. 51",{"$f":"E63+F63+G63","v":130000},null,null,null,130000]
[{"$f":"A63+1","v":34},"Г. Кингисепп, б-р Большой , д. 11",520000,null,null,null,520000]
[35,"Г. Кингисепп, б-р Большой, д. 15",260000,null,null,null,260000]
[36,"Г. Кингисепп, б-р Большой, д. 17",780000,null,null,null,780000]
[37,"Г. Кингисепп, ул. Воровского, д. 31в",260000,null,null,null,260000]
[38,"Г. Кингисепп, ул. Жукова, д. 4А",130000,null,null,null,130000]
[39,"Г. Кингисепп, ул. Жукова, д. 8а",130000,null,null,null,130000]
[40,"Г. Кингисепп, ш. Крикковское, д. 10а",260000,null,null,null,260000]
[41,"Г. Кингисепп, ш. Крикковское, д. 12",910000,null,null,null,910000]
[42,"Г. Кингисепп, ш. Крикковское, д. 14",910000,null,null,null,910000]
[43,"Г. Кингисепп, ш. Крикковское, д. 35",650000,null,null,null,650000]
[44,"Г. Кингисепп, ш. Крикковское, д. 39",390000,null,null,null,390000]
[45,"Г. Кингисепп, ш. Крикковское, д. 6",780000,null,null,null,780000]
["Итого по муниципальному образованию",null,{"$f":"SUM(C63:C75)","v":6110000},{"$f":"SUM(D63:D75)","v":0},0,0,6110000]
["Итого по Кингисеппскому муниципальному району",null,{"$f":"C76","v":6110000},{"$f":"D76","v":0},0,0,6110000]
["Киришский муниципальный район"]
["Муниципальное образование Киришское городское поселение"]
[{"$f":"A75+1","v":46},"Г. Кириши, бул. Плавницкий, д. 36",{"$f":"E80+F80+G80","v":130000},null,null,null,130000]
[{"$f":"A80+1","v":47},"Г. Кириши, пер. Березовый, д. 10",2508315.46,{"$f":"cвод!J122","v":1},{"$f":"2434852*D81","v":2434852},{"$f":"D81*73463.46","v":73463.460000000006}]
[48,"Г. Кириши, просп. Ленина, д. 40",130000,null,null,null,130000]
[{"$f":"A82+1","v":49},"Г. Кириши, просп. Ленина, д. 9",130000,null,null,null,130000]
[{"$f":"A83+1","v":50},"Г. Кириши, ул. Строителей, д. 2",130000,null,null,null,130000]
[{"$f":"A84+1","v":51},"Г. Кириши, ул. Строителей, д. 26",130000,null,null,null,130000]
["Итого по муниципальному образованию",null,{"$f":"SUM(C80:C85)","v":3158315.46},1,2434852,73463.460000000006,650000]
["Итого по Киришскому муниципальному району",null,{"$f":"C86","v":3158315.46},{"$f":"D86","v":1},2434852,73463.460000000006,650000]
["Кировский муниципальный район"]
["Муниципальное образование Кировское городское поселение"]
[{"$f":"A85+1","v":52},"Г. Кировск, ул. Молодежная, д. 3",{"$f":"E90+F90+G90","v":2508315.46},{"$f":"cвод!J114","v":1},{"$f":"2434852*D90","v":2434852},{"$f":"cвод!L114","v":73463.460000000006}]
[{"$f":"A90+1","v":53},"Г. Кировск, ул. Молодежная, д. 5",{"$f":"E91+F91+G91","v":2508315.46},{"$f":"cвод!J115","v":1},2434852,{"$f":"cвод!L115","v":73463.460000000006}]
["Итого по муниципальному образованию",null,{"$f":"SUM(C90:C91)","v":5016630.92},{"$f":"SUM(D90:D91)","v":2},4869704,146926.92000000001,0]
["Муниципальное образование Отрадненское городское поселение"]
[{"$f":"A91+1","v":54},"Г. Отрадное, ул. Железнодорожная, д. 13",{"$f":"E94+F94+G94","v":5016630.92},2,{"$f":"2434852*D94","v":4869704},{"$f":"D94*73463.46","v":146926.92000000001}]
[{"$f":"A94+1","v":55},"Г. Отрадное, ул. Зарубина, д. 15",{"$f":"E95+F95+G95","v":2508315.46},{"$f":"cвод!J97","v":1},2434852,{"$f":"D95*73463.46","v":73463.460000000006}]
[{"$f":"A95+1","v":56},"Г. Отрадное, ул. Лесная, д. 10",{"$f":"E96+F96+G96","v":2508315.46},{"$f":"cвод!J98","v":1},2434852,{"$f":"D96*73463.46","v":73463.460000000006}]
[{"$f":"A96+1","v":57},"Г. Отрадное, ул. Центральная,д.17",{"$f":"E97+F97+G97","v":10033261.84},4,9739408,{"$f":"D97*73463.46","v":293853.84000000003}]
[58,"Г. Отрадное, ул. Щурова, д.4",{"$f":"E98+F98+G98","v":5016630.92},{"$f":"cвод!J99","v":2},4869704,{"$f":"D98*73463.46","v":146926.92000000001}]
["Итого по муниципальному образованию",null,{"$f":"SUM(C94:C98)","v":25083154.600000001},{"$f":"SUM(D94:D98)","v":10},24348520,734634.60000000009,0]
["Итого по Кировскому муниципальному району",null,{"$f":"+C99+C92","v":30099785.520000003},{"$f":"+D99+D92","v":12},29218224,881561.52000000014,0]
["Ломоносовский муниципальный район"]
["Муниципальное образование Аннинское сельское поселение"]
[{"$f":"A98+1","v":59},"Г.п. Новоселье, д. 7",{"$f":"E103+F103+G103","v":520000},null,null,null,{"$f":"4*130000","v":520000}]
["Итого по муниципальному образованию",null,{"$f":"SUM(C103)","v":520000},{"$f":"SUM(D103)","v":0},0,0,520000]
["Итого по Ломоносовскому муниципальному району",null,{"$f":"C104","v":520000},{"$f":"D104","v":0},0,0,520000]
["Лужский муниципальный район"]
["Муниципальное образование Лужское городское поселение"]
[{"$f":"A103+1","v":60},"Г. Луга, просп. Урицкого, д. 101",{"$f":"E108+F108+G108","v":2508315.46},{"$f":"cвод!J135","v":1},{"$f":"2434852*D108","v":2434852},{"$f":"cвод!L135","v":73463.460000000006}]
[{"$f":"A108+1","v":61},"Г. Луга, просп. Урицкого, д. 99",{"$f":"E109+F109+G109","v":2508315.46},{"$f":"cвод!J136","v":1},2434852,{"$f":"cвод!L136","v":73463.460000000006}]
["Итого по муниципальному образованию",null,{"$f":"SUM(C108:C109)","v":5016630.92},{"$f":"SUM(D108:D109)","v":2},4869704,146926.92000000001,0]
["Итого по Лужскому муниципальному району",null,{"$f":"SUM(C110)","v":5016630.92},{"$f":"SUM(D110)","v":2},4869704,146926.92000000001,0]
["Сосновоборский городской округ"]
["Муниципальное образование Сосновоборский городской округ"]
[{"$f":"A109+1","v":62},"Г. Сосновый Бор, ул. Ленинградская, д. 38",{"$f":"E114+F114+G115","v":130000},null,null,null,130000]
[{"$f":"A114+1","v":63},"Г. Сосновый Бор, ул. Парковая, д. 70",{"$f":"E115+F115+G115","v":130000},null,null,null,130000]
["Итого по муниципальному образованию",null,{"$f":"SUM(C114:C115)","v":260000},{"$f":"SUM(D114:D115)","v":0},0,0,260000]
["Тихвинский муниципальный район"]
["Муниципальное образование Тихвинское городское поселение"]
[{"$f":"A115+1","v":64},"Г. Тихвин, ул. Машиностроителей, д.46",{"$f":"E119+F119+G119","v":12541577.300000001},5,{"$f":"2434852*D119","v":12174260},{"$f":"D119*73463.46","v":367317.30000000005}]
["Итого по муниципальному образованию",null,{"$f":"SUM(C119)","v":12541577.300000001},{"$f":"SUM(D119)","v":5},12174260,367317.30000000005,0]
["Итого по Тихвинскому муниципальному району",null,{"$f":"C120","v":12541577.300000001},{"$f":"D120","v":5},12174260,367317.30000000005,0]
["Тосненский район"]
["Муниципальное образование Тосненское городское поселение"]
[{"$f":"A119+1","v":65},"Г. Тосно, ул. М. Горького, д. 8а",{"$f":"E124+F124+G124","v":5016630.92},2,{"$f":"2434852*D124","v":4869704},{"$f":"D124*73463.46","v":146926.92000000001}]
[{"$f":"A124+1","v":66},"Г. Тосно, пр. Ленина, д. 19",{"$f":"E125+F125+G125","v":10033261.84},4,9739408,{"$f":"D125*73463.46","v":293853.84000000003}]
["Итого по муниципальному образованию",null,{"$f":"SUM(C124:C125)","v":15049892.76},{"$f":"SUM(D124:D125)","v":6},{"$f":"SUM(E124:E125)","v":14609112},{"$f":"SUM(F124:F125)","v":440780.76},{"$f":"SUM(G124:G124)","v":0}]
["Итого по Тосненскому району",null,{"$f":"C126","v":15049892.76},{"$f":"D126","v":6},14609112,440780.76,0]
["ИТОГО по Ленинградской области",null,{"$f":"C31+C45+C60+C111+C100+C9+C77+C87+C121+C116+C127+C105","v":209129485.43720001},{"$f":"D31+D45+D60+D111+D100+D9+D77+D87+D121+D116+D127","v":77},{"$f":"E31+E45+E60+E111+E100+E9+E77+E87+E121+E116+E127","v":193427611.12},{"$f":"F31+F45+F60+F111+F100+F9+F77+F87+F121+F116+F127","v":5301874.3171999995},{"$f":"G31+G45+G60+G111+G100+G9+G77+G87+G121+G116+G127","v":9880000}]
["Осуществление строительного контроля",null,{"$f":"(C128-F128-G128)*0.0214","v":4150478.8779679998}]
["Итого по Ленинградской области со строительным контролем",null,{"$f":"C128+C129","v":213279964.31516802}]
[]
[]
[]
[]
[]
[]
[]
[]
[]
[]
[]
[]
[]
[]
[]
[]
[]
[]
[]
[]
[]
[]
[]
[]
[]
[]
[]
[]
[]
[]
[]
[]
[]
[]
[]
[]
[]
[]
[]
[]
[]
[]
[]
[]
[]
[]
[]
[]
[]
[]
[]
[]
[]
[]
[]
[]
[]
[]
[]
[]
[]
[]
[]
[]
[]
[]
[]
[]
[]
[]
[]
[]
[]
[]
[]
[]
[]
[]
[]
[]
[]
[]
[]
[]
[]
[]
[]
[]
[]
[]
[]
[]
[]
[]
[]
[]
[]
[]
[]
[]
[]
[]
[]
[]
[]
[]
[]
[]
[]
[]
[]
[]
[]
[]
[]
[]
[]
[]
[]
[]
[]
[]
[]
[]
[]
[]
[]
[]
[]
[]
[]
[]
[]
[]
[]
[]
[]
[]
[]
[]
[]
[]
[]
[]
[]
[]
[]
[]
[]
[]
[]
[]
[]
[]
[]
[]
[]
[]
[]
[]
[]
[]
[]
[]
[]
[]
[]
[]
[]
[]
[]
[]
[]
[]
[]
[]
[]
[]
[]
[]
[]
[]
[]
[]
[]
[]
[]
[]
[]
[]
[]
[]
[]
[]
[]
[]
[]
[]
[]
[]
[]
[]
[]
[]
[]
[]
[]
[]
[]
[]
[]
[]
[]
[]
[]
[]
[]
[]
[]
[]
[]
[]
[]
[]
[]
[]
[]
[]
[]
[]
[]
[]
[]
[]
[]
[]
[]
[]
[]
[]
[]
[]
[]
[]
[]
[]
[]
[]
[]
[]
[]
[]
[]
[]
[]
[]
[]
[]
[]
[]
[]
[]
[]
[]
[]
[]
[]
[]
[]
[]
[]
[]
[]
[]
[]
[]
[]
[]
[]
[]
[]
[]
[]
[]
[]
[]
[]
[]
[]
[]
[]
[]
[]
[]
[]
[null,null,null,null,null,null,{"$f":"SUM(G402:G425)","v":0}]
[]
[]
[]
[]
[]
[]
[]
[]
[]
[]
[]
[]
[]
[]
[]
[]
[null,null,null,null,null,null,{"$f":"SUM(G428:G442)","v":0}]
[]
[]
[]
[]
[]
[]
[null,null,null,null,null,null,{"$f":"SUM(G445:G449)","v":0}]
[]
[]
[null,null,null,null,null,null,{"$f":"SUM(G452:G452)","v":0}]
[]
[]
[]
[]
[]
[]
[]
[null,null,null,null,null,null,{"$f":"SUM(G455:G460)","v":0}]
[]
[]
[]
[]
[]
[]
[]
[null,null,null,null,null,null,{"$f":"SUM(G463:G468)","v":0}]
[null,null,null,null,null,null,{"$f":"#REF!+#REF!+#REF!+#REF!+#REF!+F470+#REF!+#REF!+#REF!+#REF!+#REF!+#REF!+#REF!+#REF!","v":{"$error":"#REF!"}}]
[null,null,null,null,null,null,{"$f":"#REF!+#REF!+#REF!+#REF!+#REF!+F471+#REF!+#REF!+#REF!+#REF!+#REF!+#REF!+#REF!+#REF!","v":{"$error":"#REF!"}}]
[null,null,null,null,null,null,{"$f":"#REF!+#REF!+#REF!+#REF!+#REF!+F472+#REF!+#REF!+#REF!+#REF!+#REF!+#REF!+#REF!+#REF!","v":{"$error":"#REF!"}}]
[null,null,null,null,null,null,{"$f":"#REF!+#REF!+#REF!+#REF!+#REF!+F473+#REF!+#REF!+#REF!+#REF!+#REF!+#REF!+#REF!+#REF!","v":{"$error":"#REF!"}}]
[null,null,null,null,null,null,{"$f":"#REF!+#REF!+#REF!+#REF!+#REF!+F474+#REF!+#REF!+#REF!+#REF!+#REF!+#REF!+#REF!+#REF!","v":{"$error":"#REF!"}}]
[]
[]
[]
[]
[]
[]
[]
[]
[]
[]
[]
[]
[]
[]
[]
[]
[]
[]
[]
[]
[]
[]
[]
[]
[]
[null,null,null,null,null,null,{"$f":"SUM(G476:G499)","v":0}]
[null,null,null,null,null,null,{"$f":"SUM(G500+G469+G461+G453+G450+G443+G426)","v":0}]
[]
[]
[]
[]
[]
[]
[]
[]
[]
[]
[]
[]
[]
[]
[]
[]
[]
[]
[]
[]
[]
[]
[]
[]
[]
[]
[]
[]
[]
[]
[]
[]
[]
[]
[]
[null,null,null,null,null,null,{"$f":"SUM(G504:G536)","v":0}]
[null,null,null,null,null,null,{"$f":"G537","v":0}]
[]
[]
[]
[]
[]
[]
[]
[]
[null,null,null,null,null,null,{"$f":"SUM(G541:G544)","v":0}]
[]
[]
[null,null,null,null,null,null,{"$f":"SUM(G549:G549)","v":0}]
[]
[]
[]
[]
[null,null,null,null,null,null,{"$f":"SUM(G552:G554)","v":0}]
[]
[]
[]
[]
[]
[null,null,null,null,null,null,{"$f":"SUM(G557:G560)","v":0}]
[]
[]
[]
[]
[]
[null,null,null,null,null,null,{"$f":"SUM(G563:G566)","v":0}]
[]
[]
[]
[null,null,null,null,null,null,{"$f":"SUM(G569:G570)","v":0}]
[]
[]
[]
[]
[]
[null,null,null,null,null,null,{"$f":"SUM(G573:G576)","v":0}]
[null,null,null,null,null,null,{"$f":"G555+G547+G550+G577+G571+G561+G567","v":0}]
[]
[]
[]
[]
[null,null,null,null,null,null,{"$f":"SUM(G581:G582)","v":0}]
[]
[]
[]
[]
[]
[]
[]
[]
[]
[]
[]
[]
[]
[]
[]
[]
[]
[]
[]
[]
[]
[]
[null,null,null,null,null,null,{"$f":"SUM(G597:G605)","v":0}]
[]
[]
[]
[null,null,null,null,null,null,{"$f":"SUM(G608:G609)","v":0}]
[]
[]
[null,null,null,null,null,null,{"$f":"SUM(G612:G612)","v":0}]
[]
[]
[]
[]
[]
[]
[]
[]
[null,null,null,null,null,null,{"$f":"SUM(G615:G621)","v":0}]
[]
[]
[]
[]
[]
[]
[]
[null,null,null,null,null,null,{"$f":"SUM(G624:G629)","v":0}]
[]
[]
[null,null,null,null,null,null,{"$f":"SUM(G632:G632)","v":0}]
[]
[]
[null,null,null,null,null,null,{"$f":"SUM(G635)","v":0}]
[]
[]
[]
[]
[]
[]
[null,null,null,null,null,null,{"$f":"G583+G606+G610+G613+G622+G630+G633+G636+G642","v":0}]
[]
[]
[]
[]
[]
[]
[]
[]
[]
[]
[null,null,null,null,null,null,{"$f":"SUM(G646:G653)","v":0}]
[null,null,null,null,null,null,{"$f":"G654","v":0}]
[]
[]
[]
[]
[]
[]
[]
[null,null,null,null,null,null,{"$f":"SUM(G658:G662)","v":0}]
[]
[]
[]
[]
[]
[null,null,null,null,null,null,{"$f":"SUM(G665:G668)","v":0}]
[]
[]
[]
[]
[null,null,null,null,null,null,{"$f":"SUM(G671:G673)","v":0}]
[]
[]
[]
[]
[]
[null,null,null,null,null,null,{"$f":"SUM(G676:G679)","v":0}]
[]
[]
[]
[null,null,null,null,null,null,{"$f":"SUM(G682:G683)","v":0}]
[]
[]
[]
[]
[]
[]
[]
[null,null,null,null,null,null,{"$f":"G690+G691","v":0}]
[null,null,null,null,null,null,{"$f":"G663+G669+G674+G680+G684","v":0}]
[]
[]
[]
[null,null,null,null,null,null,{"$f":"SUM(G696:G696)","v":0}]
[]
[]
[null,null,null,null,null,null,{"$f":"SUM(G699)","v":0}]
[]
[]
[]
[]
[]
[]
[]
[]
[]
[]
[]
[]
[]
[]
[]
[]
[]
[]
[]
[]
[]
[]
[]
[]
[]
[]
[]
[]
[]
[]
[]
[]
[]
[]
[]
[]
[]
[null,null,null,null,null,null,{"$f":"SUM(G702:G737)","v":0}]
[null,null,null,null,null,null,{"$f":"G738+G700+G697","v":0}]
[]
[]
[]
[]
[]
[]
[]
[]
[]
[]
[]
[]
[]
[]
[]
[]
[]
[]
[]
[]
[]
[]
[]
[]
[]
[]
[]
[]
[]
[]
[]
[]
[]
[]
[]
[]
[]
[]
[]
[]
[]
[]
[]
[]
[]
[]
[]
[]
[]
[]
[]
[]
[]
[]
[]
[]
[]
[]
[]
[]
[]
[]
[]
[]
[]
[]
[]
[]
[]
[]
[]
[]
[]
[]
[]
[]
[]
[]
[]
[]
[]
[]
[]
[]
[]
[]
[]
[]
[]
[]
[]
[]
[]
[]
[]
[]
[]
[]
[]
[]
[]
[]
[]
[]
[]
[]
[]
[]
[]
[]
[]
[]
[]
[]
[]
[]
[]
[]
[]
[]
[null,null,null,null,null,null,{"$f":"SUM(G741:G859)","v":0}]
[]
[]
[]
[]
[]
[]
[]
[]
[]
[]
[]
[]
[]
[]
[]
[]
[]
[]
[]
[]
[]
[]
[]
[]
[]
[]
[]
[]
[]
[]
[]
[]
[]
[]
[]
[]
[]
[]
[]
[]
[]
[]
[]
[]
[]
[]
[]
[]
[]
[]
[]
[]
[]
[]
[]
[]
[]
[]
[]
[]
[]
[]
[]
[]
[]
[]
[]
[]
[]
[]
[]
[]
[]
[]
[]
[]
[]
[]
[]
[]
[]
[]
[]
[]
[]
[]
[]
[]
[]
[]
[]
[]
[]
[]
[]
[]
[]
[]
[]
[]
[]
[]
[]
[]
[]
[]
[]
[]
[]
[]
[]
[null,null,null,null,null,null,{"$f":"SUM(G868:G971)","v":0}]
[]
[]
[]
[]
[]
[]
[]
[]
[]
[]
[]
[]
[]
[]
[]
[]
[]
[]
[]
[null,null,null,null,null,null,{"$f":"SUM(G974:G991)","v":0}]
[null,null,null,null,null,null,{"$f":"G972+G992","v":0}]
[]
[]
[]
[null,null,null,null,null,null,{"$f":"SUM(G996:G996)","v":0}]
[]
[]
[]
[]
[]
[]
[]
[null,null,null,null,null,null,{"$f":"SUM(G999:G1004)","v":0}]
[]
[]
[null,null,null,null,null,null,{"$f":"SUM(G1007:G1007)","v":0}]
[]
[]
[]
[]
[]
[]
[]
[]
[]
[]
[]
[]
[]
[]
[]
[]
[]
[]
[]
[null,null,null,null,null,null,{"$f":"SUM(G1010:G1027)","v":0}]
[]
[]
[null,null,null,null,null,null,{"$f":"SUM(G1030:G1030)","v":0}]
[]
[]
[null,null,null,null,null,null,{"$f":"SUM(G1033)","v":0}]
[null,null,null,null,null,null,{"$f":"G1005+G1008+G1031+G1028+G997+G1034","v":0}]

{"sheet":"Раздел 4","index":4,"n_rows":980,"n_cols":7,"rows_kept":980,"cut":false,"hidden":false,"merged":[[74,0,74,1],[1,3,1,4],[4,0,4,5],[38,0,38,1],[37,0,37,6],[29,0,29,6],[5,0,5,6],[10,0,10,6],[0,0,0,6],[73,0,73,1],[17,0,17,6],[53,0,53,6],[67,0,67,6],[62,0,62,6]]}
["Раздел IV. Реестр многоквартирных домов, в которых будет проводиться капитальный ремонт лифтового оборудования в 2022 году, за счет средств собственников"]
["№ п\\п","Адрес МКД","Стоимость капитального ремонта ВСЕГО","Ремонт или замена лифтового оборудования",null,"ТО","Проект-ные работы"]
[null,null,"руб.","ед.","руб","руб.","руб."]
[1,2,3,4,5,6,7]
[]
["Волховский муниципальный район"]
["Муниципальное образование Город Волхов"]
[1,"Г. Волхов, просп. Волховский, д. 57",{"$f":"E8+F8+G8","v":2605709.46},1,{"$f":"2532246*D8","v":2532246},{"$f":"73463.46*D8","v":73463.460000000006}]
["Итого по муниципальному образованию",null,{"$f":"SUM(C8:C8)","v":2605709.46},{"$f":"SUM(D8:D8)","v":1},{"$f":"2532246*D9","v":2532246},73463.460000000006,{"$f":"SUM(G8:G8)","v":0}]
["Итого по Волховскому муниципальному району",null,{"$f":"C9","v":2605709.46},{"$f":"D9","v":1},{"$f":"E9","v":2532246},{"$f":"F9","v":73463.460000000006},{"$f":"G9","v":0}]
["Всеволожский муниципальный район"]
["Муниципальное образование Город Всеволожск "]
[{"$f":"A8+1","v":2},"Г. Всеволожск, ул. Василеозерская, д. 7  ",{"$f":"E13+F13+G13","v":5211418.92},2,{"$f":"2532246*D13","v":5064492},{"$f":"73463.46*D13","v":146926.92000000001}]
[{"$f":"A13+1","v":3},"Г. Всеволожск, ул. Ленинградская, д. 30, корп. 1 ",{"$f":"E14+F14+G14","v":2605709.46},1,{"$f":"2532246*D14","v":2532246},{"$f":"73463.46*D14","v":73463.460000000006}]
[{"$f":"A14+1","v":4},"Г. Всеволожск, ул. Вокка, д. 3  ",{"$f":"E15+F15+G15","v":5211418.92},2,5064492,146926.92000000001]
["Итого по муниципальному образованию",null,{"$f":"SUM(C13:C15)","v":13028547.300000001},{"$f":"SUM(D13:D15)","v":5},{"$f":"SUM(E13:E15)","v":12661230},{"$f":"SUM(F13:F15)","v":367317.30000000005},{"$f":"SUM(G13:G15)","v":0}]
["Итого по Всеволожскому муниципальному району",null,{"$f":"C16","v":13028547.300000001},{"$f":"D16","v":5},{"$f":"E16","v":12661230},{"$f":"F16","v":367317.30000000005},{"$f":"G16","v":0}]
["Выборгский  район"]
["Муниципальное образование  Город Выборг"]
[{"$f":"A15+1","v":5},"Г. Выборг, ул. Гагарина, д. 69  ",{"$f":"E20+F20+G20","v":5211418.92},{"$f":"cвод!J33","v":2},{"$f":"2532246*D20","v":5064492},{"$f":"73463.46*D20","v":146926.92000000001}]
["Итого по муниципальному образованию",null,{"$f":"SUM(C20:C20)","v":5211418.92},{"$f":"SUM(D20:D20)","v":2},{"$f":"SUM(E20:E20)","v":5064492},{"$f":"SUM(F20:F20)","v":146926.92000000001},{"$f":"SUM(G20:G20)","v":0}]
["Муниципальное образование  Полянское сельское поселение "]
[{"$f":"A20+1","v":6},"П/ст Приветнинское, ул. Военных строителей, д. 1",{"$f":"E23+F23+G23","v":2606190.13},1,2532246,73944.13]
[7,"П/ст Приветнинское, ул. Военных строителей, д. 7",2606190.13,1,2532246,73944.13]
[8,"П/ст Приветнинское, ул. Военных строителей, д. 9",2606190.13,1,2532246,73944.13]
[9,"пос. Каменка, ул. Гвардейская, д. 75",2606190.13,1,2532246,73944.13]
[10,"пос. Каменка, ул. Гвардейская, д. 77",2606190.13,1,2532246,73944.13]
["Итого по муниципальному образованию",null,{"$f":"SUM(C23:C27)","v":13030950.649999999},{"$f":"SUM(D23:D27)","v":5},{"$f":"SUM(E23:E27)","v":12661230},{"$f":"SUM(F23:F27)","v":369720.65},{"$f":"SUM(G23:G27)","v":0}]
["Итого по Выборгскому району",null,{"$f":"C21+C28","v":18242369.57},{"$f":"D21+D28","v":7},{"$f":"E21+E28","v":17725722},{"$f":"F21+F28","v":516647.57000000007},{"$f":"G21+G28","v":0}]
["Гатчинский муниципальный район"]
["Муниципальное образование Город Гатчина"]
[{"$f":"A27+1","v":11},"Г. Гатчина, просп. 25 Октября, д. 59",{"$f":"E32+F32+G32","v":7817128.3799999999},{"$f":"cвод!J59","v":3},{"$f":"2532246*D32","v":7596738},{"$f":"cвод!L59","v":220390.38}]
[{"$f":"A32+1","v":12},"Г. Гатчина, ул. Рощинская, д. 11, кор. 1",{"$f":"E33+F33+G33","v":2605709.46},{"$f":"cвод!J67","v":1},{"$f":"2532246*D33","v":2532246},{"$f":"cвод!L67","v":73463.460000000006}]
[{"$f":"A33+1","v":13},"Г. Гатчина, ул. Рощинская, д. 13А",{"$f":"E34+F34+G34","v":5211418.92},{"$f":"cвод!J69","v":2},5064492,{"$f":"cвод!L69","v":146926.92000000001}]
[{"$f":"A34+1","v":14},"Г. Гатчина, ул. Рощинская, д. 3А",{"$f":"E35+F35+G35","v":5211418.92},{"$f":"cвод!J71","v":2},5064492,{"$f":"cвод!L71","v":146926.92000000001}]
["Итого по муниципальному образованию",null,{"$f":"SUM(C32:C35)","v":20845675.68},{"$f":"SUM(D32:D35)","v":8},{"$f":"SUM(E32:E35)","v":20257968},{"$f":"SUM(F32:F35)","v":587707.68000000005},{"$f":"SUM(G32:G35)","v":0}]
["Итого по Гатчинскому муниципальному району",null,{"$f":"C36","v":20845675.68},{"$f":"D36","v":8},{"$f":"E36","v":20257968},{"$f":"F36","v":587707.68000000005},{"$f":"G36","v":0}]
["Кингисеппский муниципальный район"]
["Муниципальное образование Кингисеппское городское поселение"]
[{"$f":"A35+1","v":15},"Г. Кингисепп, просп. Карла Маркса, д. 51",{"$f":"E40+F40+G40","v":2605709.46},1,{"$f":"2532246*D40","v":2532246},{"$f":"73463.46*D40","v":73463.460000000006}]
[{"$f":"A40+1","v":16},"Г. Кингисепп, б-р Большой , д. 11",10422837.84,4,10128984,293853.84000000003]
[17,"Г. Кингисепп, б-р Большой, д. 15",5211418.92,2,5064492,{"$f":"73463.46*D42","v":146926.92000000001}]
[18,"Г. Кингисепп, б-р Большой, д. 17",15634256.76,6,15193476,{"$f":"73463.46*D43","v":440780.76}]
[19,"Г. Кингисепп, ул. Воровского, д. 31в",5211418.92,2,5064492,146926.92000000001]
[20,"Г. Кингисепп, ул. Жукова, д. 8а",2605709.46,1,2532246,73463.460000000006]
[21,"Г. Кингисепп, ш. Крикковское, д. 10а",5211418.92,2,5064492,146926.92000000001]
[22,"Г. Кингисепп, ш. Крикковское, д. 12",18239966.219999999,7,17725722,514244.22000000003]
[23,"Г. Кингисепп, ш. Крикковское, д. 14",18239966.219999999,7,17725722,514244.22000000003]
[24,"Г. Кингисепп, ш. Крикковское, д. 35",13028547.300000001,5,12661230,367317.30000000005]
[25,"Г. Кингисепп, ш. Крикковское, д. 39",7817128.3799999999,3,7596738,220390.38]
[26,"Г. Кингисепп, ш. Крикковское, д. 6",15634256.76,6,15193476,440780.76]
["Итого по муниципальному образованию",null,{"$f":"SUM(C40:C51)","v":119862635.16},{"$f":"SUM(D40:D51)","v":46},{"$f":"SUM(E40:E51)","v":116483316},{"$f":"SUM(F40:F51)","v":3379319.16},{"$f":"SUM(G40:G51)","v":0}]
["Итого по Кингисеппскому муниципальному району",null,{"$f":"C52","v":119862635.16},{"$f":"D52","v":46},{"$f":"E52","v":116483316},{"$f":"F52","v":3379319.16},{"$f":"G52","v":0}]
["Киришский муниципальный район"]
["Муниципальное образование Киришское городское поселение"]
[{"$f":"A51+1","v":27},"Г. Кириши, бул. Плавницкий, д. 36",{"$f":"E56+F56+G56","v":2605709.46},{"$f":"cвод!J96","v":1},{"$f":"2532246*D56","v":2532246},{"$f":"73463.46*D56","v":73463.460000000006}]
[{"$f":"A56+1","v":28},"Г. Кириши, просп. Ленина, д. 40",{"$f":"E57+F57+G57","v":2605709.46},{"$f":"cвод!J100","v":1},2532246,{"$f":"73463.46*D57","v":73463.460000000006}]
[{"$f":"A57+1","v":29},"Г. Кириши, просп. Ленина, д. 9",{"$f":"E58+F58+G58","v":2605709.46},{"$f":"cвод!J101","v":1},2532246,73463.460000000006]
[{"$f":"A58+1","v":30},"Г. Кириши, ул. Строителей, д. 2",{"$f":"E59+F59+G59","v":2605709.46},{"$f":"cвод!J103","v":1},2532246,73463.460000000006]
[{"$f":"A59+1","v":31},"Г. Кириши, ул. Строителей, д. 26",{"$f":"E60+F60+G60","v":2605709.46},{"$f":"cвод!J104","v":1},2532246,73463.460000000006]
["Итого по муниципальному образованию",null,{"$f":"SUM(C56:C60)","v":13028547.300000001},{"$f":"SUM(D56:D60)","v":5},{"$f":"SUM(E56:E60)","v":12661230},{"$f":"SUM(F56:F60)","v":367317.30000000005},{"$f":"SUM(G56:G60)","v":0}]
["Итого по Киришскому муниципальному району",null,{"$f":"C61","v":13028547.300000001},{"$f":"D61","v":5},{"$f":"E61","v":12661230},{"$f":"F61","v":367317.30000000005},{"$f":"G61","v":0}]
["Ломоносовский муниципальный район"]
["Муниципальное образование Аннинское сельское поселение"]
[{"$f":"A60+1","v":32},"Г.п. Новоселье, д. 7",{"$f":"E65+F65+G65","v":10422837.84},4,{"$f":"2532246*D65","v":10128984},{"$f":"73463.46*D65","v":293853.84000000003}]
["Итого по муниципальному образованию",null,{"$f":"SUM(C65)","v":10422837.84},{"$f":"SUM(D65)","v":4},10128984,293853.84000000003,0]
["Итого по Ломоносовскому муниципальному району",null,{"$f":"C66","v":10422837.84},{"$f":"D66","v":4},10128984,293853.84000000003,0]
["Сосновоборский городской округ"]
["Муниципальное образование Сосновоборский городской округ"]
[{"$f":"A65+1","v":33},"Г. Сосновый Бор, ул. Ленинградская, д. 38",{"$f":"E70+F70+G71","v":2605709.46},1,{"$f":"2532246*D70","v":2532246},{"$f":"73463.46*D70","v":73463.460000000006}]
[{"$f":"A70+1","v":34},"Г. Сосновый Бор, ул. Парковая, д. 70",{"$f":"E71+F71+G72","v":2605709.46},1,2532246,{"$f":"73463.46*D71","v":73463.460000000006}]
["Итого по муниципальному образованию",null,{"$f":"SUM(C70:C71)","v":5211418.92},{"$f":"SUM(D70:D71)","v":2},5064492,146926.92000000001,0]
["ИТОГО по Ленинградской области",null,{"$f":"C62+C53+C37+C29+C17+C10+C72+C67","v":203247741.22999999},{"$f":"D62+D53+D37+D29+D17+D10+D72+D67","v":78},{"$f":"E62+E53+E37+E29+E17+E10+E72","v":187386204},{"$f":"F62+F53+F37+F29+F17+F10+F72","v":5438699.3899999997},{"$f":"G62+G53+G37+G29+G17+G10+G72","v":0}]
["Осуществление строительного контроля",null,{"$f":"(C73-F73-G73)*0.0214","v":4233113.4953760002}]
["Итого по Ленинградской области со строительным контролем",null,{"$f":"C73+C74","v":207480854.72537598}]
[]
[]
[]
[]
[]
[]
[]
[]
[]
[]
[]
[]
[]
[]
[]
[]
[]
[]
[]
[]
[]
[]
[]
[]
[]
[]
[]
[]
[]
[]
[]
[]
[]
[]
[]
[]
[]
[]
[]
[]
[]
[]
[]
[]
[]
[]
[]
[]
[]
[]
[]
[]
[]
[]
[]
[]
[]
[]
[]
[]
[]
[]
[]
[]
[]
[]
[]
[]
[]
[]
[]
[]
[]
[null,null,null,null,null,null,{"$f":"SUM(G136:G148)","v":0}]
[]
[]
[]
[]
[]
[]
[]
[]
[]
[]
[]
[]
[]
[]
[]
[]
[]
[]
[]
[]
[]
[]
[null,null,null,null,null,null,{"$f":"SUM(G154:G171)","v":0}]
[]
[]
[]
[]
[]
[]
[]
[]
[]
[]
[null,null,null,null,null,null,{"$f":"SUM(G177:G182)","v":0}]
[]
[]
[]
[]
[]
[]
[]
[null,null,null,null,null,null,{"$f":"SUM(G185:G190)","v":0}]
[]
[]
[]
[]
[]
[null,null,null,null,null,null,{"$f":"SUM(G193:G195)","v":0}]
[null,null,null,null,null,null,{"$f":"G149+G172+G183+G197+G191+G175","v":0}]
[]
[]
[]
[]
[]
[]
[null,null,null,null,null,null,{"$f":"SUM(G201:G204)","v":0}]
[]
[]
[]
[]
[]
[]
[]
[]
[]
[]
[]
[]
[]
[]
[]
[]
[]
[]
[]
[]
[]
[]
[]
[]
[]
[]
[]
[]
[]
[]
[]
[]
[]
[]
[]
[]
[]
[]
[]
[]
[]
[]
[]
[]
[]
[]
[]
[]
[]
[]
[]
[]
[]
[]
[]
[]
[]
[]
[]
[]
[]
[]
[]
[null,null,null,null,null,null,{"$f":"SUM(G210:G268)","v":0}]
[]
[]
[]
[]
[]
[]
[null,null,null,null,null,null,{"$f":"SUM(G275)","v":0}]
[]
[]
[]
[]
[]
[]
[null,null,null,null,null,null,{"$f":"G205+G269+G276","v":0}]
[]
[]
[]
[]
[]
[]
[]
[]
[]
[]
[]
[]
[]
[]
[null,null,null,null,null,null,{"$f":"SUM(G286:G297)","v":0}]
[]
[]
[]
[]
[null,null,null,null,null,null,{"$f":"SUM(G300:G302)","v":0}]
[null,null,null,null,null,null,{"$f":"G298+G303","v":0}]
[]
[]
[]
[]
[]
[]
[]
[]
[]
[]
[]
[]
[]
[]
[]
[]
[]
[]
[]
[]
[]
[]
[]
[]
[]
[]
[]
[]
[]
[null,null,null,null,null,null,{"$f":"SUM(G307:G333)","v":0}]
[]
[]
[]
[]
[null,null,null,null,null,null,{"$f":"SUM(G336:G338)","v":0}]
[]
[]
[]
[null,null,null,null,null,null,{"$f":"SUM(G341:G342)","v":0}]
[null,null,null,null,null,null,{"$f":"G334+G343+G339","v":0}]
[]
[]
[]
[]
[]
[]
[]
[]
[]
[]
[]
[]
[]
[]
[]
[]
[]
[]
[]
[]
[]
[]
[]
[]
[]
[]
[null,null,null,null,null,null,{"$f":"SUM(G347:G370)","v":0}]
[]
[]
[]
[]
[]
[]
[]
[]
[]
[]
[]
[]
[]
[]
[]
[]
[null,null,null,null,null,null,{"$f":"SUM(G373:G387)","v":0}]
[]
[]
[]
[]
[]
[]
[null,null,null,null,null,null,{"$f":"SUM(G390:G394)","v":0}]
[]
[]
[null,null,null,null,null,null,{"$f":"SUM(G397:G397)","v":0}]
[]
[]
[]
[]
[]
[]
[]
[null,null,null,null,null,null,{"$f":"SUM(G400:G405)","v":0}]
[]
[]
[]
[]
[]
[]
[]
[null,null,null,null,null,null,{"$f":"SUM(G408:G413)","v":0}]
[null,null,null,null,null,null,{"$f":"#REF!+#REF!+#REF!+#REF!+#REF!+F415+#REF!+#REF!+#REF!+#REF!+#REF!+#REF!+#REF!+#REF!","v":{"$error":"#REF!"}}]
[null,null,null,null,null,null,{"$f":"#REF!+#REF!+#REF!+#REF!+#REF!+F416+#REF!+#REF!+#REF!+#REF!+#REF!+#REF!+#REF!+#REF!","v":{"$error":"#REF!"}}]
[null,null,null,null,null,null,{"$f":"#REF!+#REF!+#REF!+#REF!+#REF!+F417+#REF!+#REF!+#REF!+#REF!+#REF!+#REF!+#REF!+#REF!","v":{"$error":"#REF!"}}]
[null,null,null,null,null,null,{"$f":"#REF!+#REF!+#REF!+#REF!+#REF!+F418+#REF!+#REF!+#REF!+#REF!+#REF!+#REF!+#REF!+#REF!","v":{"$error":"#REF!"}}]
[null,null,null,null,null,null,{"$f":"#REF!+#REF!+#REF!+#REF!+#REF!+F419+#REF!+#REF!+#REF!+#REF!+#REF!+#REF!+#REF!+#REF!","v":{"$error":"#REF!"}}]
[]
[]
[]
[]
[]
[]
[]
[]
[]
[]
[]
[]
[]
[]
[]
[]
[]
[]
[]
[]
[]
[]
[]
[]
[]
[null,null,null,null,null,null,{"$f":"SUM(G421:G444)","v":0}]
[null,null,null,null,null,null,{"$f":"SUM(G445+G414+G406+G398+G395+G388+G371)","v":0}]
[]
[]
[]
[]
[]
[]
[]
[]
[]
[]
[]
[]
[]
[]
[]
[]
[]
[]
[]
[]
[]
[]
[]
[]
[]
[]
[]
[]
[]
[]
[]
[]
[]
[]
[]
[null,null,null,null,null,null,{"$f":"SUM(G449:G481)","v":0}]
[null,null,null,null,null,null,{"$f":"G482","v":0}]
[]
[]
[]
[]
[]
[]
[]
[]
[null,null,null,null,null,null,{"$f":"SUM(G486:G489)","v":0}]
[]
[]
[null,null,null,null,null,null,{"$f":"SUM(G494:G494)","v":0}]
[]
[]
[]
[]
[null,null,null,null,null,null,{"$f":"SUM(G497:G499)","v":0}]
[]
[]
[]
[]
[]
[null,null,null,null,null,null,{"$f":"SUM(G502:G505)","v":0}]
[]
[]
[]
[]
[]
[null,null,null,null,null,null,{"$f":"SUM(G508:G511)","v":0}]
[]
[]
[]
[null,null,null,null,null,null,{"$f":"SUM(G514:G515)","v":0}]
[]
[]
[]
[]
[]
[null,null,null,null,null,null,{"$f":"SUM(G518:G521)","v":0}]
[null,null,null,null,null,null,{"$f":"G500+G492+G495+G522+G516+G506+G512","v":0}]
[]
[]
[]
[]
[null,null,null,null,null,null,{"$f":"SUM(G526:G527)","v":0}]
[]
[]
[]
[]
[]
[]
[]
[]
[]
[]
[]
[]
[]
[]
[]
[]
[]
[]
[]
[]
[]
[]
[null,null,null,null,null,null,{"$f":"SUM(G542:G550)","v":0}]
[]
[]
[]
[null,null,null,null,null,null,{"$f":"SUM(G553:G554)","v":0}]
[]
[]
[null,null,null,null,null,null,{"$f":"SUM(G557:G557)","v":0}]
[]
[]
[]
[]
[]
[]
[]
[]
[null,null,null,null,null,null,{"$f":"SUM(G560:G566)","v":0}]
[]
[]
[]
[]
[]
[]
[]
[null,null,null,null,null,null,{"$f":"SUM(G569:G574)","v":0}]
[]
[]
[null,null,null,null,null,null,{"$f":"SUM(G577:G577)","v":0}]
[]
[]
[null,null,null,null,null,null,{"$f":"SUM(G580)","v":0}]
[]
[]
[]
[]
[]
[]
[null,null,null,null,null,null,{"$f":"G528+G551+G555+G558+G567+G575+G578+G581+G587","v":0}]
[]
[]
[]
[]
[]
[]
[]
[]
[]
[]
[null,null,null,null,null,null,{"$f":"SUM(G591:G598)","v":0}]
[null,null,null,null,null,null,{"$f":"G599","v":0}]
[]
[]
[]
[]
[]
[]
[]
[null,null,null,null,null,null,{"$f":"SUM(G603:G607)","v":0}]
[]
[]
[]
[]
[]
[null,null,null,null,null,null,{"$f":"SUM(G610:G613)","v":0}]
[]
[]
[]
[]
[null,null,null,null,null,null,{"$f":"SUM(G616:G618)","v":0}]
[]
[]
[]
[]
[]
[null,null,null,null,null,null,{"$f":"SUM(G621:G624)","v":0}]
[]
[]
[]
[null,null,null,null,null,null,{"$f":"SUM(G627:G628)","v":0}]
[]
[]
[]
[]
[]
[]
[]
[null,null,null,null,null,null,{"$f":"G635+G636","v":0}]
[null,null,null,null,null,null,{"$f":"G608+G614+G619+G625+G629","v":0}]
[]
[]
[]
[null,null,null,null,null,null,{"$f":"SUM(G641:G641)","v":0}]
[]
[]
[null,null,null,null,null,null,{"$f":"SUM(G644)","v":0}]
[]
[]
[]
[]
[]
[]
[]
[]
[]
[]
[]
[]
[]
[]
[]
[]
[]
[]
[]
[]
[]
[]
[]
[]
[]
[]
[]
[]
[]
[]
[]
[]
[]
[]
[]
[]
[]
[null,null,null,null,null,null,{"$f":"SUM(G647:G682)","v":0}]
[null,null,null,null,null,null,{"$f":"G683+G645+G642","v":0}]
[]
[]
[]
[]
[]
[]
[]
[]
[]
[]
[]
[]
[]
[]
[]
[]
[]
[]
[]
[]
[]
[]
[]
[]
[]
[]
[]
[]
[]
[]
[]
[]
[]
[]
[]
[]
[]
[]
[]
[]
[]
[]
[]
[]
[]
[]
[]
[]
[]
[]
[]
[]
[]
[]
[]
[]
[]
[]
[]
[]
[]
[]
[]
[]
[]
[]
[]
[]
[]
[]
[]
[]
[]
[]
[]
[]
[]
[]
[]
[]
[]
[]
[]
[]
[]
[]
[]
[]
[]
[]
[]
[]
[]
[]
[]
[]
[]
[]
[]
[]
[]
[]
[]
[]
[]
[]
[]
[]
[]
[]
[]
[]
[]
[]
[]
[]
[]
[]
[]
[]
[null,null,null,null,null,null,{"$f":"SUM(G686:G804)","v":0}]
[]
[]
[]
[]
[]
[]
[]
[]
[]
[]
[]
[]
[]
[]
[]
[]
[]
[]
[]
[]
[]
[]
[]
[]
[]
[]
[]
[]
[]
[]
[]
[]
[]
[]
[]
[]
[]
[]
[]
[]
[]
[]
[]
[]
[]
[]
[]
[]
[]
[]
[]
[]
[]
[]
[]
[]
[]
[]
[]
[]
[]
[]
[]
[]
[]
[]
[]
[]
[]
[]
[]
[]
[]
[]
[]
[]
[]
[]
[]
[]
[]
[]
[]
[]
[]
[]
[]
[]
[]
[]
[]
[]
[]
[]
[]
[]
[]
[]
[]
[]
[]
[]
[]
[]
[]
[]
[]
[]
[]
[]
[]
[null,null,null,null,null,null,{"$f":"SUM(G813:G916)","v":0}]
[]
[]
[]
[]
[]
[]
[]
[]
[]
[]
[]
[]
[]
[]
[]
[]
[]
[]
[]
[null,null,null,null,null,null,{"$f":"SUM(G919:G936)","v":0}]
[null,null,null,null,null,null,{"$f":"G917+G937","v":0}]
[]
[]
[]
[null,null,null,null,null,null,{"$f":"SUM(G941:G941)","v":0}]
[]
[]
[]
[]
[]
[]
[]
[null,null,null,null,null,null,{"$f":"SUM(G944:G949)","v":0}]
[]
[]
[null,null,null,null,null,null,{"$f":"SUM(G952:G952)","v":0}]
[]
[]
[]
[]
[]
[]
[]
[]
[]
[]
[]
[]
[]
[]
[]
[]
[]
[]
[]
[null,null,null,null,null,null,{"$f":"SUM(G955:G972)","v":0}]
[]
[]
[null,null,null,null,null,null,{"$f":"SUM(G975:G975)","v":0}]
[]
[]
[null,null,null,null,null,null,{"$f":"SUM(G978)","v":0}]
[null,null,null,null,null,null,{"$f":"G950+G953+G976+G973+G942+G979","v":0}]

{"sheet":"cвод","index":5,"n_rows":1094,"n_cols":16384,"rows_kept":1094,"cut":false,"hidden":true,"merged":[[126,0,126,25],[2,3,2,8],[3,3,4,3],[3,4,3,8],[4,9,4,10],[1,0,5,0],[1,1,5,1],[1,2,4,2],[1,3,1,25],[2,24,4,24],[2,9,3,11],[2,16,4,17],[2,18,4,19],[2,20,4,21],[2,25,4,25],[2,12,4,13],[182,0,182,1],[181,0,181,1],[2,22,4,23],[2,14,4,15],[142,0,142,25],[155,0,155,25],[77,0,77,1],[7,0,7,25],[174,0,174,25],[131,0,131,25],[76,0,76,25],[22,0,22,25],[54,0,54,25],[168,0,168,25],[92,0,92,25],[110,0,110,25]]}
["II. Реестр многоквартирных домов, в которых будет проводиться капитальный ремонт лифтового оборудования в период 2020-2022"]
["№ п\\п","Адрес МКД","Стоимость капитального ремонта ВСЕГО","Виды работ"]
[null,null,null,"Ремонт внутридомовых инженерных систем",null,null,null,null,null,"Ремонт или замена лифтового оборудования",null,null,"Ремонт крыши",null,"Ремонт подвальных помещений",null,"Ремонт фасада",null,"Ремонт фундамента",null,"Ремонт подъездов",null,"Утепление  фасадов",null,"Установка коллектив-ных (общедо-мовых) ПУ и УУ","Проект-ные работы"]
[null,null,null,"Всего работ по инженерным системам","в том числе"]
[null,null,null,null,"Ремонт сетей электроснабжения","Ремонт сетей теплоснабжения","Ремонт сетей холодного водоснабжения","Ремонт сетей горячего водоснабжения","Ремонт систем водоотведения","Ремонт или замена лифтового оборудования",null,"ТО"]
[null,null,"руб.","руб.","руб.","руб.","руб.","руб.","руб.","ед.","руб","руб.","кв.м.","руб.","кв.м.","руб.","кв.м.","руб.","куб.м.","руб.","куб.м.","руб.","кв.м.","руб.","руб.","руб."]
[1,2,3,4,5,6,7,8,9,10,11,12,13,14,15,16,17,18,19,20,21,22,23,24,25,26]
["Всеволожский муниципальный район"]
["Муниципальное образование Муринское сельское поселение"]
[1,"Пос. Мурино, ул. Оборонная, д. 12  ",{"$f":"K10+L10+Z10","v":7753272.9199999999},null,null,null,null,null,null,2,{"$f":"3673173*J10","v":7346346},{"$f":"K10*0.02","v":146926.92000000001},null,null,null,null,null,null,null,null,null,null,null,null,null,{"$f":"J10*130000","v":260000}]
[{"$f":"A10+1","v":2},"Пос. Мурино, ул. Оборонная, д. 18",{"$f":"K11+L11+Z11","v":7753272.9199999999},null,null,null,null,null,null,2,{"$f":"3673173*J11","v":7346346},{"$f":"K11*0.02","v":146926.92000000001},null,null,null,null,null,null,null,null,null,null,null,null,null,{"$f":"J11*130000","v":260000}]
[{"$f":"A11+1","v":3},"Пос. Мурино, ул. Оборонная, д. 22  ",7753272.9199999999,null,null,null,null,null,null,2,{"$f":"3673173*J12","v":7346346},{"$f":"K12*0.02","v":146926.92000000001},null,null,null,null,null,null,null,null,null,null,null,null,null,260000]
["Итого по муниципальному образованию",null,{"$f":"SUM(C10:C12)","v":23259818.759999998},null,null,null,null,null,null,{"$f":"SUM(J10:J12)","v":6},{"$f":"SUM(K10:K12)","v":22039038},{"$f":"SUM(L10:L12)","v":440780.76},null,null,null,null,null,null,null,null,null,null,null,null,null,{"$f":"SUM(Z10:Z12)","v":780000}]
["Муниципальное образование Свердловское городское поселение"]
[{"$f":"A12+1","v":4},"Пос. им. Свердлова, микрорайон 1, д. 8",{"$f":"K15+L15+Z15","v":15506545.84},null,null,null,null,null,null,4,{"$f":"3673173*J15","v":14692692},{"$f":"K15*0.02","v":293853.84000000003},null,null,null,null,null,null,null,null,null,null,null,null,null,520000]
["Итого по муниципальному образованию",null,{"$f":"C15","v":15506545.84},null,null,null,null,null,null,{"$f":"J15","v":4},{"$f":"K15","v":14692692},{"$f":"L15","v":293853.84000000003},null,null,null,null,null,null,null,null,null,null,null,null,null,{"$f":"Z15","v":520000}]
["Муниципальное образование \"Сертолово\""]
[{"$f":"A15+1","v":5},"Г. Сертолово, микрорайон Сертолово-1, ул. Молодежная, д. 8, корп. 2",{"$f":"K18+L18+Z18","v":11629909.380000001},null,null,null,null,null,null,3,{"$f":"3673173*J18","v":11019519},{"$f":"K18*0.02","v":220390.38},null,null,null,null,null,null,null,null,null,null,null,null,null,390000]
[{"$f":"A18+1","v":6},"Г. Сертолово, микрорайон Сертолово-1, ул. Центральная, д. 6, корп. 1",11629909.380000001,null,null,null,null,null,null,3,11019519,220390.38,null,null,null,null,null,null,null,null,null,null,null,null,null,{"$f":"J19*130000","v":390000}]
[{"$f":"A19+1","v":7},"Г. Сертолово, микрорайон Сертолово-1, ул. Центральная, д. 7, корп. 1",11629909.380000001,null,null,null,null,null,null,3,11019519,220390.38,null,null,null,null,null,null,null,null,null,null,null,null,null,390000]
["Итого по муниципальному образованию",null,{"$f":"SUM(C18:C20)","v":34889728.140000001},null,null,null,null,null,null,{"$f":"SUM(J18:J20)","v":9},{"$f":"SUM(K18:K20)","v":33058557},{"$f":"SUM(L18:L20)","v":661171.14},null,null,null,null,null,null,null,null,null,null,null,null,null,{"$f":"SUM(Z18:Z20)","v":1170000}]
["Итого по Всеволожскому муниципальному району",null,{"$f":"C21+C16+C13","v":73656092.74000001},null,null,null,null,null,null,{"$f":"J21+J16+J13","v":19},{"$f":"K21+K16+K13","v":69790287},1395805.74,0,0,0,0,0,0,0,0,0,0,0,0,0,2470000]
["Выборгский  район"]
["Муниципальное образование \"Город Выборг"]
[{"$f":"A20+1","v":8},"Г. Выборг, бул. Кутузова, д. 33  ",{"$f":"K25+L25+Z25","v":3876636.46},null,null,null,null,null,null,1,{"$f":"3673173*J25","v":3673173},{"$f":"K25*0.02","v":73463.460000000006},null,null,null,null,null,null,null,null,null,null,null,null,null,{"$f":"J25*130000","v":130000}]
[{"$f":"A25+1","v":9},"Г. Выборг, просп. Московский, д. 10 ",3876636.46,null,null,null,null,null,null,1,3673173,73463.460000000006,null,null,null,null,null,null,null,null,null,null,null,null,null,130000]
[10,"Г. Выборг, просп. Победы, д. 12  ",15506545.84,null,null,null,null,null,null,4,14692692,293853.84000000003,null,null,null,null,null,null,null,null,null,null,null,null,null,520000]
[11,"Г. Выборг, просп. Победы, д. 6  ",3876636.46,null,null,null,null,null,null,1,3673173,73463.460000000006,null,null,null,null,null,null,null,null,null,null,null,null,null,130000]
[12,"Г. Выборг, пр. Победы, д. 8",3876636.46,null,null,null,null,null,null,1,3673173,73463.460000000006,null,null,null,null,null,null,null,null,null,null,null,null,null,130000]
[13,"Г. Выборг, ул. Аристарха Макарова, д. 4  ",7753272.9199999999,null,null,null,null,null,null,2,7346346,146926.92000000001,null,null,null,null,null,null,null,null,null,null,null,null,null,260000]
[14,"Г. Выборг, ул. Гагарина, д. 29  ",11629909.380000001,null,null,null,null,null,null,3,11019519,220390.38,null,null,null,null,null,null,null,null,null,null,null,null,null,390000]
[15,"Г. Выборг, ул. Гагарина, д. 65  ",3876636.46,null,null,null,null,null,null,1,3673173,73463.460000000006,null,null,null,null,null,null,null,null,null,null,null,null,null,130000]
[16,"Г. Выборг, ул. Гагарина, д. 69  ",7753272.9199999999,null,null,null,null,null,null,2,7346346,146926.92000000001,null,null,null,null,null,null,null,null,null,null,null,null,null,260000]
[17,"Г. Выборг, ул. Гагарина, д. 71  ",7753272.9199999999,null,null,null,null,null,null,2,7346346,146926.92000000001,null,null,null,null,null,null,null,null,null,null,null,null,null,260000]
[18,"Г. Выборг, ул. Крепостная, д. 39а  ",3876636.46,null,null,null,null,null,null,1,3673173,73463.460000000006,null,null,null,null,null,null,null,null,null,null,null,null,null,130000]
[19,"Г. Выборг, ул. Офицерская, д. 12  ",3876636.46,null,null,null,null,null,null,1,3673173,73463.460000000006,null,null,null,null,null,null,null,null,null,null,null,null,null,130000]
[20,"Г. Выборг, ул. Офицерская, д. 14  ",3876636.46,null,null,null,null,null,null,1,3673173,73463.460000000006,null,null,null,null,null,null,null,null,null,null,null,null,null,130000]
[21,"Г. Выборг, ул. Офицерская, д. 16  ",3876636.46,null,null,null,null,null,null,1,3673173,73463.460000000006,null,null,null,null,null,null,null,null,null,null,null,null,null,130000]
[22,"Г. Выборг, ул. Приморская, д. 36  ",7753272.9199999999,null,null,null,null,null,null,2,7346346,146926.92000000001,null,null,null,null,null,null,null,null,null,null,null,null,null,260000]
[23,"Г. Выборг, ул. Приморская, д. 40  ",15506545.84,null,null,null,null,null,null,4,14692692,293853.84000000003,null,null,null,null,null,null,null,null,null,null,null,null,null,520000]
[24,"Г. Выборг, ул. Приморская, д. 53  ",7753272.9199999999,null,null,null,null,null,null,2,7346346,146926.92000000001,null,null,null,null,null,null,null,null,null,null,null,null,null,260000]
[25,"Г. Выборг, ул. Приморская, д. 64  ",4605632.0199999996,null,null,null,null,null,null,2,{"$f":"2143508.94+2071836.92","v":4215345.8599999994},{"$f":"65143.08+65143.08","v":130286.16},null,null,null,null,null,null,null,null,null,null,null,null,null,260000]
[26,"Г. Выборг, ул. Травяная, д. 6  ",7753272.9199999999,null,null,null,null,null,null,2,7346346,146926.92000000001,null,null,null,null,null,null,null,null,null,null,null,null,null,260000]
[27,"Г. Выборг, ш. Ленинградское, д. 51а  ",3876636.46,null,null,null,null,null,null,1,3673173,73463.460000000006,null,null,null,null,null,null,null,null,null,null,null,null,null,130000]
["Итого по муниципальному образованию",null,{"$f":"SUM(C25:C44)","v":132534635.19999997},null,null,null,null,null,null,{"$f":"SUM(J25:J44)","v":35},{"$f":"SUM(K25:K44)","v":125430054.86},{"$f":"SUM(L25:L44)","v":2554580.34},null,null,null,null,null,null,null,null,null,null,null,null,null,{"$f":"SUM(Z25:Z44)","v":4550000}]
["Муниципальное образование Светогорское городское поселение"]
[{"$f":"A44+1","v":28},"Г. Светогорск, ул. Красноармейская, д. 26",{"$f":"K47+L47+Z47","v":6347373.3399999999},null,null,null,null,null,null,3,{"$f":"2648486.4+2769300.7","v":5417787.0999999996},{"$f":"74793.12+74793.12","v":149586.23999999999},null,null,null,null,null,null,null,null,null,null,null,null,null,780000]
[{"$f":"A47+1","v":29},"Г. Светогорск, ул. Красноармейская, д. 32",{"$f":"K48+L48+Z48","v":15560226.890000001},null,null,null,null,null,null,6,14331468.17,448758.72,null,null,null,null,null,null,null,null,null,null,null,null,null,{"$f":"J48*130000","v":780000}]
[{"$f":"A48+1","v":30},"Г. Светогорск, ул. Красноармейская, д. 8",{"$f":"K49+L49+Z49","v":10216441.140000001},null,null,null,null,null,null,4,{"$f":"2360581.74+2328175.4+2413371.4+2328175.4","v":9430303.9400000013},{"$f":"66534.3+66534.3+66534.3+66534.3","v":266137.2},null,null,null,null,null,null,null,null,null,null,null,null,null,520000]
["Итого по муниципальному образованию",null,{"$f":"SUM(C47:C49)","v":32124041.370000001},null,null,null,null,null,null,{"$f":"SUM(J47:J49)","v":13},{"$f":"SUM(K47:K49)","v":29179559.210000001},{"$f":"SUM(L47:L49)","v":864482.15999999992},null,null,null,null,null,null,null,null,null,null,null,null,null,{"$f":"SUM(Z47:Z49)","v":2080000}]
["Муниципальное образование Советское городское поселение"]
[{"$f":"A49+1","v":31},"Г.п. Советский, ул. Садовая, д. 46",{"$f":"K52+L52+Z52","v":2511097.2199999997},null,null,null,null,null,null,1,2313231.88,67865.34,null,null,null,null,null,null,null,null,null,null,null,null,null,130000]
["Итого по муниципальному образованию",null,{"$f":"C52","v":2511097.2199999997},null,null,null,null,null,null,{"$f":"J52","v":1},{"$f":"K52","v":2313231.88},{"$f":"L52","v":67865.34},null,null,null,null,null,null,null,null,null,null,null,null,null,{"$f":"Z52","v":130000}]
["Итого по Выборгскому району",null,{"$f":"C50+C45+C53","v":167169773.78999996},null,null,null,null,null,null,{"$f":"J50+J45+J53","v":49},{"$f":"K50+K45+K53","v":156922845.94999999},{"$f":"L50+L45+L53","v":3486927.84},null,null,null,null,null,null,null,null,null,null,null,null,null,{"$f":"J54*130000","v":6370000}]
["Гатчинский муниципальный район"]
["Муниципальное образование Город Гатчина"]
[{"$f":"A52+1","v":32},"Г. Гатчина, просп. 25 Октября, д. 50",{"$f":"K57+L57+Z57","v":12324197.616},null,null,null,null,null,null,6,{"$f":"1837065.6+1850126.4+2020569.6+1866856.8+1872243.6+1870978.8","v":11317840.800000001},{"$f":"K57*0.02","v":226356.81600000002},null,null,null,null,null,null,null,null,null,null,null,null,null,780000]
[{"$f":"A57+1","v":33},"Г. Гатчина, просп. 25 Октября, д. 50, кор. 1",7753272.9199999999,null,null,null,null,null,null,2,{"$f":"3673173*J58","v":7346346},146926.92000000001,null,null,null,null,null,null,null,null,null,null,null,null,null,260000]
[34,"Г. Гатчина, просп. 25 Октября, д. 59",11629909.380000001,null,null,null,null,null,null,3,11019519,220390.38,null,null,null,null,null,null,null,null,null,null,null,null,null,390000]
[35,"Г. Гатчина, просп. 25 Октября, д. 63",6190138.2000000002,null,null,null,null,null,null,3,{"$f":"1833385.2+1973666.4+1879358.4","v":5686410},113728.2,null,null,null,null,null,null,null,null,null,null,null,null,null,390000]
[36,"Г. Гатчина, ул. Авиатриссы Зверевой, д. 11",4275976.2932000002,null,null,null,null,null,null,2,{"$f":"2014907.82+1922323.84","v":3937231.66},78744.633200000011,null,null,null,null,null,null,null,null,null,null,null,null,null,260000]
[37,"Г. Гатчина, ул. Авиатриссы Зверевой, д. 15",7753272.9199999999,null,null,null,null,null,null,2,7346346,146926.92000000001,null,null,null,null,null,null,null,null,null,null,null,null,null,260000]
[38,"Г. Гатчина, ул. Авиатриссы Зверевой, д. 20",7753272.9199999999,null,null,null,null,null,null,2,7346346,146926.92000000001,null,null,null,null,null,null,null,null,null,null,null,null,null,260000]
[39,"Г. Гатчина, ул. Авиатриссы Зверевой, д. 3",7753272.9199999999,null,null,null,null,null,null,2,7346346,146926.92000000001,null,null,null,null,null,null,null,null,null,null,null,null,null,260000]
[40,"Г. Гатчина, ул. Володарского, д. 25А",7753272.9199999999,null,null,null,null,null,null,2,7346346,146926.92000000001,null,null,null,null,null,null,null,null,null,null,null,null,null,260000]
[41,"Г. Гатчина, ул. Красных Военлётов, д. 9",6555969.7680000002,null,null,null,null,null,null,3,{"$f":"2072192.4+1954905.6+2017970.4","v":6045068.4000000004},120901.36800000002,null,null,null,null,null,null,null,null,null,null,null,null,null,390000]
[42,"Г. Гатчина, ул. Рощинская, д. 11, кор. 1",3876636.46,null,null,null,null,null,null,1,3673173,73463.460000000006,null,null,null,null,null,null,null,null,null,null,null,null,null,130000]
[43,"Г. Гатчина, ул. Рощинская, д. 13, кор. 1",2196923.5120000001,null,null,null,null,null,null,1,2026395.6,40527.912000000004,null,null,null,null,null,null,null,null,null,null,null,null,null,130000]
[44,"Г. Гатчина, ул. Рощинская, д. 13А",7753272.9199999999,null,null,null,null,null,null,2,7346346,146926.92000000001,null,null,null,null,null,null,null,null,null,null,null,null,null,260000]
[45,"Г. Гатчина, ул. Рощинская, д. 19",15506545.84,null,null,null,null,null,null,4,14692692,293853.84000000003,null,null,null,null,null,null,null,null,null,null,null,null,null,520000]
[46,"Г. Гатчина, ул. Рощинская, д. 3А",7753272.9199999999,null,null,null,null,null,null,2,7346346,146926.92000000001,null,null,null,null,null,null,null,null,null,null,null,null,null,260000]
[47,"Г. Гатчина, ул. Рощинская, д. 9Г",7753272.9199999999,null,null,null,null,null,null,2,7346346,146926.92000000001,null,null,null,null,null,null,null,null,null,null,null,null,null,260000]
[48,"Г. Гатчина, ул. Хохлова, д. 2",11629909.380000001,null,null,null,null,null,null,3,11019519,220390.38,null,null,null,null,null,null,null,null,null,null,null,null,null,390000]
[49,"Г. Гатчина, ул. Чехова, д. 14",4545663.4160000011,null,null,null,null,null,null,2,{"$f":"2272777.2+1928853.6","v":4201630.8000000007},84032.616000000024,null,null,null,null,null,null,null,null,null,null,null,null,null,260000]
["Итого по муниципальному образованию",null,{"$f":"SUM(C57:C74)","v":140758053.22520003},null,null,null,null,null,null,{"$f":"SUM(J57:J74)","v":44},{"$f":"SUM(K57:K74)","v":132390248.25999999},{"$f":"SUM(L57:L74)","v":2647804.9651999995},null,null,null,null,null,null,null,null,null,null,null,null,null,{"$f":"SUM(Z57:Z74)","v":5720000}]
["Итого по Гатчинскому муниципальному району",null,{"$f":"C75","v":140758053.22520003},null,null,null,null,null,null,{"$f":"J75","v":44},{"$f":"K75","v":132390248.25999999},{"$f":"L75","v":2647804.9651999995},null,null,null,null,null,null,null,null,null,null,null,null,null,5720000]
["Кингисеппский муниципальный район"]
["Муниципальное образование Кингисеппское городское поселение"]
[{"$f":"A74+1","v":50},"Г. Кингисепп, просп. Карла Маркса, д. 51",{"$f":"K79+L79+Z79","v":4193140.42},null,null,null,null,null,null,1,{"$f":"3983471*J79","v":3983471},{"$f":"K79*0.02","v":79669.42},null,null,null,null,null,null,null,null,null,null,null,null,null,{"$f":"J79*130000","v":130000}]
[{"$f":"A79+1","v":51},"Г. Кингисепп, б-р Большой , д. 11",16772561.68,null,null,null,null,null,null,4,15933884,318677.68,null,null,null,null,null,null,null,null,null,null,null,null,null,520000]
[52,"Г. Кингисепп, б-р Большой, д. 15",8386280.8399999999,null,null,null,null,null,null,2,7966942,159338.84,null,null,null,null,null,null,null,null,null,null,null,null,null,260000]
[53,"Г. Кингисепп, б-р Большой, д. 17",25158842.52,null,null,null,null,null,null,6,23900826,478016.52,null,null,null,null,null,null,null,null,null,null,null,null,null,780000]
[54,"Г. Кингисепп, ул. Жукова, д. 4А",4193140.42,null,null,null,null,null,null,1,3983471,79669.42,null,null,null,null,null,null,null,null,null,null,null,null,null,130000]
[55,"Г. Кингисепп, ул. Жукова, д. 8а",4193140.42,null,null,null,null,null,null,1,3983471,79669.42,null,null,null,null,null,null,null,null,null,null,null,null,null,130000]
[56,"Г. Кингисепп, ш. Крикковское, д. 10а",8386280.8399999999,null,null,null,null,null,null,2,{"$f":"3983471*J85","v":7966942},159338.84,null,null,null,null,null,null,null,null,null,null,null,null,null,260000]
[57,"Г. Кингисепп, ш. Крикковское, д. 12",29351982.940000001,null,null,null,null,null,null,7,27884297,557685.94000000006,null,null,null,null,null,null,null,null,null,null,null,null,null,910000]
[58,"Г. Кингисепп, ш. Крикковское, д. 14",29351982.940000001,null,null,null,null,null,null,7,27884297,557685.94000000006,null,null,null,null,null,null,null,null,null,null,null,null,null,910000]
[59,"Г. Кингисепп, ш. Крикковское, д. 35",20965702.100000001,null,null,null,null,null,null,5,19917355,398347.10000000003,null,null,null,null,null,null,null,null,null,null,null,null,null,650000]
[60,"Г. Кингисепп, ш. Крикковское, д. 39",12579421.26,null,null,null,null,null,null,3,11950413,239008.26,null,null,null,null,null,null,null,null,null,null,null,null,null,390000]
[61,"Г. Кингисепп, ш. Крикковское, д. 6",25158842.52,null,null,null,null,null,null,6,23900826,478016.52,null,null,null,null,null,null,null,null,null,null,null,null,null,780000]
["Итого по муниципальному образованию",null,{"$f":"SUM(C79:C90)","v":188691318.90000001},null,null,null,null,null,null,{"$f":"SUM(J79:J90)","v":45},{"$f":"SUM(K79:K90)","v":179256195},{"$f":"SUM(L79:L90)","v":3585123.9},null,null,null,null,null,null,null,null,null,null,null,null,null,{"$f":"SUM(Z79:Z90)","v":5850000}]
["Итого по Кингисеппскому муниципальному району",null,{"$f":"C91","v":188691318.90000001},null,null,null,null,null,null,{"$f":"J91","v":45},{"$f":"K91","v":179256195},{"$f":"L91","v":3585123.9},null,null,null,null,null,null,null,null,null,null,null,null,null,5850000]
["Киришский муниципальный район"]
["Муниципальное образование Киришское городское поселение"]
[{"$f":"A90+1","v":62},"Г. Кириши, бул. Плавницкий, д. 16",{"$f":"K95+L95+Z95","v":3876636.46},null,null,null,null,null,null,1,{"$f":"3673173*J95","v":3673173},{"$f":"K95*0.02","v":73463.460000000006},null,null,null,null,null,null,null,null,null,null,null,null,null,{"$f":"J95*130000","v":130000}]
[{"$f":"A95+1","v":63},"Г. Кириши, бул. Плавницкий, д. 36",3876636.46,null,null,null,null,null,null,1,3673173,73463.460000000006,null,null,null,null,null,null,null,null,null,null,null,null,null,130000]
[64,"Г. Кириши, пер. Березовый, д. 10",3876636.46,null,null,null,null,null,null,1,3673173,73463.460000000006,null,null,null,null,null,null,null,null,null,null,null,null,null,130000]
[65,"Г. Кириши, просп. Героев, д. 15",3876636.46,null,null,null,null,null,null,1,3673173,73463.460000000006,null,null,null,null,null,null,null,null,null,null,null,null,null,130000]
[66,"Г. Кириши, просп. Героев, д. 17",7753272.9199999999,null,null,null,null,null,null,2,7346346,146926.92000000001,null,null,null,null,null,null,null,null,null,null,null,null,null,260000]
[67,"Г. Кириши, просп. Ленина, д. 40",3876636.46,null,null,null,null,null,null,1,3673173,73463.460000000006,null,null,null,null,null,null,null,null,null,null,null,null,null,130000]
[68,"Г. Кириши, просп. Ленина, д. 9",3876636.46,null,null,null,null,null,null,1,3673173,73463.460000000006,null,null,null,null,null,null,null,null,null,null,null,null,null,130000]
[69,"Г. Кириши, ул. Декабристов Бестужевых, д. 16",3876636.46,null,null,null,null,null,null,1,3673173,73463.460000000006,null,null,null,null,null,null,null,null,null,null,null,null,null,130000]
[70,"Г. Кириши, ул. Строителей, д. 2",3876636.46,null,null,null,null,null,null,1,3673173,73463.460000000006,null,null,null,null,null,null,null,null,null,null,null,null,null,130000]
[71,"Г. Кириши, ул. Строителей, д. 26",3876636.46,null,null,null,null,null,null,1,3673173,73463.460000000006,null,null,null,null,null,null,null,null,null,null,null,null,null,130000]
[72,"Г. Кириши, ул. Строителей, д. 28",3876636.46,null,null,null,null,null,null,1,3673173,73463.460000000006,null,null,null,null,null,null,null,null,null,null,null,null,null,130000]
[73,"Г. Кириши, ул. Строителей, д. 30",11629909.380000001,null,null,null,null,null,null,3,11019519,220390.38,null,null,null,null,null,null,null,null,null,null,null,null,null,390000]
[74,"Г. Кириши, ул. Строителей, д. 46",15506545.84,null,null,null,null,null,null,4,14692692,293853.84000000003,null,null,null,null,null,null,null,null,null,null,null,null,null,520000]
[75,"Г. Кириши, ул. Энергетиков, д. 40",3876636.46,null,null,null,null,null,null,1,3673173,73463.460000000006,null,null,null,null,null,null,null,null,null,null,null,null,null,130000]
["Итого по муниципальному образованию",null,{"$f":"SUM(C95:C108)","v":77532729.200000003},null,null,null,null,null,null,{"$f":"SUM(J95:J108)","v":20},{"$f":"SUM(K95:K108)","v":73463460},{"$f":"SUM(L95:L108)","v":1469269.2},null,null,null,null,null,null,null,null,null,null,null,null,null,{"$f":"SUM(Z95:Z108)","v":2600000}]
["Итого по Киришскому муниципальному району",null,{"$f":"C109","v":77532729.200000003},null,null,null,null,null,null,{"$f":"J109","v":20},{"$f":"K109","v":73463460},{"$f":"L109","v":1469269.2},null,null,null,null,null,null,null,null,null,null,null,null,null,2600000]
["Кировский муниципальный район"]
["Муниципальное образование Кировское городское поселение"]
[{"$f":"A108+1","v":76},"Г. Кировск, ул. Ладожская, д. 22",{"$f":"K113+L113+Z113","v":15506545.84},null,null,null,null,null,null,4,{"$f":"3673173*J113","v":14692692},{"$f":"K113*0.02","v":293853.84000000003},null,null,null,null,null,null,null,null,null,null,null,null,null,{"$f":"J113*130000","v":520000}]
[{"$f":"A113+1","v":77},"Г. Кировск, ул. Молодежная, д. 3",3876636.46,null,null,null,null,null,null,1,3673173,73463.460000000006,null,null,null,null,null,null,null,null,null,null,null,null,null,130000]
[{"$f":"A114+1","v":78},"Г. Кировск, ул. Молодежная, д. 5",3876636.46,null,null,null,null,null,null,1,3673173,73463.460000000006,null,null,null,null,null,null,null,null,null,null,null,null,null,130000]
[{"$f":"A115+1","v":79},"Г. Кировск, ул. Новая, д. 13, кор. 1",3876636.46,null,null,null,null,null,null,1,3673173,73463.460000000006,null,null,null,null,null,null,null,null,null,null,null,null,null,130000]
[{"$f":"A116+1","v":80},"Г. Кировск, ул. Новая, д. 13, кор. 2",3876636.46,null,null,null,null,null,null,1,3673173,73463.460000000006,null,null,null,null,null,null,null,null,null,null,null,null,null,130000]
[{"$f":"A117+1","v":81},"Г. Кировск, ул. Северная, д. 17",15506545.84,null,null,null,null,null,null,4,14692692,293853.84000000003,null,null,null,null,null,null,null,null,null,null,null,null,null,{"$f":"J118*130000","v":520000}]
["Итого по муниципальному образованию",null,{"$f":"SUM(C113:C118)","v":46519637.520000003},null,null,null,null,null,null,{"$f":"SUM(J113:J118)","v":12},{"$f":"SUM(K113:K118)","v":44078076},{"$f":"SUM(L113:L118)","v":881561.52},null,null,null,null,null,null,null,null,null,null,null,null,null,{"$f":"SUM(Z113:Z118)","v":1560000}]
["Муниципальное образование Отрадненское городское поселение"]
[{"$f":"A118+1","v":82},"Г. Отрадное, ул. Железнодорожная, д. 15",{"$f":"K121+L121+Z121","v":3876636.46},null,null,null,null,null,null,1,{"$f":"3673173*J121","v":3673173},{"$f":"K121*0.02","v":73463.460000000006},null,null,null,null,null,null,null,null,null,null,null,null,null,{"$f":"J121*130000","v":130000}]
[{"$f":"A121+1","v":83},"Г. Отрадное, ул. Зарубина, д. 11а",{"$f":"K122+L122+Z122","v":3876636.46},null,null,null,null,null,null,1,{"$f":"3673173*J122","v":3673173},{"$f":"K122*0.02","v":73463.460000000006},null,null,null,null,null,null,null,null,null,null,null,null,null,130000]
[{"$f":"A122+1","v":84},"Г. Отрадное, ул. Лесная, д. 6",{"$f":"K123+L123+Z123","v":3876636.46},null,null,null,null,null,null,1,{"$f":"3673173*J123","v":3673173},{"$f":"K123*0.02","v":73463.460000000006},null,null,null,null,null,null,null,null,null,null,null,null,null,130000]
[{"$f":"A123+1","v":85},"Г. Отрадное, ул. Советская, д. 25",{"$f":"K124+L124+Z124","v":3876636.46},null,null,null,null,null,null,1,{"$f":"3673173*J124","v":3673173},{"$f":"K124*0.02","v":73463.460000000006},null,null,null,null,null,null,null,null,null,null,null,null,null,130000]
["Итого по муниципальному образованию",null,{"$f":"SUM(C121:C124)","v":15506545.84},null,null,null,null,null,null,{"$f":"SUM(J121:J124)","v":4},{"$f":"SUM(K121:K124)","v":14692692},{"$f":"SUM(L121:L124)","v":293853.84000000003},null,null,null,null,null,null,null,null,null,null,null,null,null,{"$f":"SUM(Z121:Z124)","v":520000}]
["Итого по Кировскому муниципальному району",null,{"$f":"C125+C119","v":62026183.359999999},null,null,null,null,null,null,{"$f":"J125+J119","v":16},{"$f":"K125+K119","v":58770768},{"$f":"L125+L119","v":1175415.3600000001},null,null,null,null,null,null,null,null,null,null,null,null,null,{"$f":"J126*130000","v":2080000}]
["Ломоносовский муниципальный район"]
["Муниципальное образование Русско-Высоцкое сельское поселение"]
[{"$f":"A124+1","v":86},"С. Русско-Высоцкое, д. 25",{"$f":"K129+L129+Z129","v":7753272.9199999999},null,null,null,null,null,null,2,{"$f":"3673173*J129","v":7346346},{"$f":"K129*0.02","v":146926.92000000001},null,null,null,null,null,null,null,null,null,null,null,null,null,{"$f":"J129*130000","v":260000}]
["Итого по муниципальному образованию",null,{"$f":"C129","v":7753272.9199999999},null,null,null,null,null,null,{"$f":"J129","v":2},7346346,146926.92000000001,null,null,null,null,null,null,null,null,null,null,null,null,null,{"$f":"Z129","v":260000}]
["Итого по Ломоносовскому муниципальному району",null,{"$f":"C130","v":7753272.9199999999},null,null,null,null,null,null,2,7346346,146926.92000000001,null,null,null,null,null,null,null,null,null,null,null,null,null,{"$f":"J131*130000","v":260000}]
["Лужский муниципальный район"]
["Муниципальное образование Лужское городское поселение"]
[{"$f":"A129+1","v":87},"Г. Луга, просп. Володарского, д. 26",{"$f":"K134+L134+Z134","v":7400000},null,null,null,null,null,null,2,7000000,{"$f":"K134*0.02","v":140000},null,null,null,null,null,null,null,null,null,null,null,null,null,{"$f":"J134*130000","v":260000}]
[{"$f":"A134+1","v":88},"Г. Луга, просп. Урицкого, д. 101",3876636.46,null,null,null,null,null,null,1,{"$f":"3673173*J135","v":3673173},73463.460000000006,null,null,null,null,null,null,null,null,null,null,null,null,null,130000]
[89,"Г. Луга, просп. Урицкого, д. 99",3876636.46,null,null,null,null,null,null,1,{"$f":"3673173*J136","v":3673173},73463.460000000006,null,null,null,null,null,null,null,null,null,null,null,null,null,130000]
[90,"Г. Луга, ул. Миккели, д. 1, кор. 1",3876636.46,null,null,null,null,null,null,1,{"$f":"3673173*J137","v":3673173},73463.460000000006,null,null,null,null,null,null,null,null,null,null,null,null,null,130000]
[91,"Г. Луга, ул. Миккели, д. 1, кор. 3",3876636.46,null,null,null,null,null,null,1,{"$f":"3673173*J138","v":3673173},73463.460000000006,null,null,null,null,null,null,null,null,null,null,null,null,null,130000]
[92,"Г. Луга, ул. Победы, д. 4",3700000,null,null,null,null,null,null,1,{"$f":"3500000","v":3500000},70000,null,null,null,null,null,null,null,null,null,null,null,null,null,130000]
[93,"Г. Луга, ул. Победы, д. 7",3700000,null,null,null,null,null,null,1,{"$f":"3500000","v":3500000},70000,null,null,null,null,null,null,null,null,null,null,null,null,null,130000]
["Итого по муниципальному образованию",null,{"$f":"SUM(C134:C140)","v":30306545.840000004},null,null,null,null,null,null,{"$f":"SUM(J134:J140)","v":8},{"$f":"SUM(K134:K140)","v":28692692},{"$f":"SUM(L134:L140)","v":573853.84000000008},null,null,null,null,null,null,null,null,null,null,null,null,null,{"$f":"SUM(Z134:Z140)","v":1040000}]
["Итого по Лужскому муниципальному району",null,{"$f":"C141","v":30306545.840000004},null,null,null,null,null,null,{"$f":"J141","v":8},{"$f":"K141","v":28692692},{"$f":"L141","v":573853.84000000008},null,null,null,null,null,null,null,null,null,null,null,null,null,{"$f":"J142*130000","v":1040000}]
["Сосновоборский городской округ"]
["Муниципальное образование Сосновоборский городской округ"]
[{"$f":"A140+1","v":94},"Г. Сосновый Бор, ул. Ленинградская, д. 30",{"$f":"K145+L145+Z145","v":23259818.760000002},null,null,null,null,null,null,6,{"$f":"3673173*J145","v":22039038},{"$f":"K145*0.02","v":440780.76},null,null,null,null,null,null,null,null,null,null,null,null,null,{"$f":"J145*130000","v":780000}]
[{"$f":"A145+1","v":95},"Г. Сосновый Бор, ул. Молодежная, д. 26",7854407.96,null,null,null,null,null,null,2,{"$f":"J146*3641478+162542","v":7445498},148909.96,null,null,null,null,null,null,null,null,null,null,null,null,null,260000]
[96,"Г. Сосновый Бор, ул. Молодежная, д. 54",3876636.46,null,null,null,null,null,null,1,3673173,73463.460000000006,null,null,null,null,null,null,null,null,null,null,null,null,null,130000]
[97,"Г. Сосновый Бор, ул. Парковая, д. 18",15506545.84,null,null,null,null,null,null,4,14692692,293853.84000000003,null,null,null,null,null,null,null,null,null,null,null,null,null,520000]
[98,"Г. Сосновый Бор, ул. Парковая, д. 22",3876636.46,null,null,null,null,null,null,1,3673173,73463.460000000006,null,null,null,null,null,null,null,null,null,null,null,null,null,130000]
[99,"Г. Сосновый Бор, ул. Парковая, д. 24",15506545.84,null,null,null,null,null,null,4,14692692,293853.84000000003,null,null,null,null,null,null,null,null,null,null,null,null,null,520000]
[100,"Г. Сосновый Бор, ул. Парковая, д. 44",11629909.380000001,null,null,null,null,null,null,3,11019519,220390.38,null,null,null,null,null,null,null,null,null,null,null,null,null,390000]
[101,"Г. Сосновый Бор, ул. Сибирская, д. 5",4010100.4,null,null,null,null,null,null,1,{"$f":"J152*3641478+162542","v":3804020},76080.400000000009,null,null,null,null,null,null,null,null,null,null,null,null,null,130000]
[102,"Г. Сосновый Бор, ул. Солнечная, д. 23а",3876636.46,null,null,null,null,null,null,1,3673173,73463.460000000006,null,null,null,null,null,null,null,null,null,null,null,null,null,130000]
[103,"Г. Сосновый Бор, ул. Солнечная, д. 30",4010100.4,null,null,null,null,null,null,1,{"$f":"J154*3641478+162542","v":3804020},76080.400000000009,null,null,null,null,null,null,null,null,null,null,null,null,null,{"$f":"J154*130000","v":130000}]
["Итого по муниципальному образованию",null,{"$f":"SUM(C145:C154)","v":93407337.959999993},null,null,null,null,null,null,{"$f":"SUM(J145:J154)","v":24},{"$f":"SUM(K145:K154)","v":88516998},{"$f":"SUM(L145:L154)","v":1770339.96},null,null,null,null,null,null,null,null,null,null,null,null,null,{"$f":"SUM(Z145:Z154)","v":3120000}]
["Сланцевский муниципальный район"]
["Муниципальное образование Сланцевское городское поселение"]
[{"$f":"A154+1","v":104},"Г. Сланцы, просп. Молодежный, д. 13",{"$f":"K158+L158+Z158","v":15506545.84},null,null,null,null,null,null,4,{"$f":"3673173*J158","v":14692692},{"$f":"K158*0.02","v":293853.84000000003},null,null,null,null,null,null,null,null,null,null,null,null,null,{"$f":"J158*130000","v":520000}]
[{"$f":"A158+1","v":105},"Г. Сланцы, ул. Гагарина, д. 1",3876636.46,null,null,null,null,null,null,1,3673173,73463.460000000006,null,null,null,null,null,null,null,null,null,null,null,null,null,130000]
[106,"Г. Сланцы, ул. Гагарина, д. 5а",3876636.46,null,null,null,null,null,null,1,3673173,73463.460000000006,null,null,null,null,null,null,null,null,null,null,null,null,null,130000]
[107,"Г. Сланцы, ул. Ленина, д. 25, кор. 1",3876636.46,null,null,null,null,null,null,1,3673173,73463.460000000006,null,null,null,null,null,null,null,null,null,null,null,null,null,130000]
[108,"Г. Сланцы, ул. Ленина, д. 25, кор. 4",11629909.380000001,null,null,null,null,null,null,3,11019519,220390.38,null,null,null,null,null,null,null,null,null,null,null,null,null,390000]
[109,"Г. Сланцы, ул. Ленина, д. 25, кор. 6",11629909.380000001,null,null,null,null,null,null,3,11019519,220390.38,null,null,null,null,null,null,null,null,null,null,null,null,null,390000]
[110,"Г. Сланцы, ул. Спортивная, д. 9/2",7753272.9199999999,null,null,null,null,null,null,2,7346346,146926.92000000001,null,null,null,null,null,null,null,null,null,null,null,null,null,260000]
[111,"Г. Сланцы, ул. Шахтерской Славы, д. 14, корп. 1",3876636.46,null,null,null,null,null,null,1,3673173,73463.460000000006,null,null,null,null,null,null,null,null,null,null,null,null,null,130000]
[112,"Г. Сланцы, ул. Шахтерской Славы, д. 9б",15506545.84,null,null,null,null,null,null,4,14692692,293853.84000000003,null,null,null,null,null,null,null,null,null,null,null,null,null,520000]
["Итого по муниципальному образованию",null,{"$f":"SUM(C158:C166)","v":77532729.200000003},null,null,null,null,null,null,{"$f":"SUM(J158:J166)","v":20},{"$f":"SUM(K158:K166)","v":73463460},{"$f":"SUM(L158:L166)","v":1469269.2000000002},null,null,null,null,null,null,null,null,null,null,null,null,null,{"$f":"SUM(Z158:Z166)","v":2600000}]
["Итого по Сланцевскому муниципальному району",null,{"$f":"C167","v":77532729.200000003},null,null,null,null,null,null,{"$f":"J167","v":20},{"$f":"K167","v":73463460},{"$f":"L167","v":1469269.2000000002},null,null,null,null,null,null,null,null,null,null,null,null,null,2600000]
["Тихвинский муниципальный район"]
["Муниципальное образование Тихвинское городское поселение"]
[{"$f":"A166+1","v":113},"Г. Тихвин, микрорайон 1а, д. 45",{"$f":"K171+L171+Z171","v":7753272.9199999999},null,null,null,null,null,null,2,{"$f":"3673173*J171","v":7346346},{"$f":"K171*0.02","v":146926.92000000001},null,null,null,null,null,null,null,null,null,null,null,null,null,{"$f":"J171*130000","v":260000}]
[{"$f":"A171+1","v":114},"Г. Тихвин, ул. Советская, д. 1",{"$f":"K172+L172+Z172","v":7753272.9199999999},null,null,null,null,null,null,2,{"$f":"3673173*J172","v":7346346},{"$f":"K172*0.02","v":146926.92000000001},null,null,null,null,null,null,null,null,null,null,null,null,null,{"$f":"J172*130000","v":260000}]
["Итого по муниципальному образованию",null,{"$f":"SUM(C171:C172)","v":15506545.84},null,null,null,null,null,null,{"$f":"SUM(J171:J172)","v":4},{"$f":"SUM(K171:K172)","v":14692692},{"$f":"SUM(L171:L172)","v":293853.84000000003},null,null,null,null,null,null,null,null,null,null,null,null,null,{"$f":"SUM(Z171:Z172)","v":520000}]
["Итого по Тихвинскому муниципальному району",null,{"$f":"C173","v":15506545.84},null,null,null,null,null,null,{"$f":"J173","v":4},{"$f":"K173","v":14692692},{"$f":"L173","v":293853.84000000003},null,null,null,null,null,null,null,null,null,null,null,null,null,{"$f":"J174*130000","v":520000}]
["Тосненский район"]
["Муниципальное образование Тосненское городское поселение"]
[{"$f":"A172+1","v":115},"Г. Тосно, ул. М. Горького, д. 4",{"$f":"K177+L177+Z177","v":7753272.9199999999},null,null,null,null,null,null,2,{"$f":"3673173*J177","v":7346346},{"$f":"K177*0.02","v":146926.92000000001},null,null,null,null,null,null,null,null,null,null,null,null,null,{"$f":"J177*130000","v":260000}]
[{"$f":"A177+1","v":116},"Г. Тосно, ул. Победы, д. 19А",{"$f":"K178+L178+Z178","v":7753272.9199999999},null,null,null,null,null,null,2,{"$f":"3673173*J178","v":7346346},{"$f":"K178*0.02","v":146926.92000000001},null,null,null,null,null,null,null,null,null,null,null,null,null,{"$f":"J178*130000","v":260000}]
["Итого по муниципальному образованию",null,{"$f":"SUM(C177:C178)","v":15506545.84},null,null,null,null,null,null,{"$f":"SUM(J177:J178)","v":4},{"$f":"SUM(K177:K178)","v":14692692},{"$f":"SUM(L177:L178)","v":293853.84000000003},null,null,null,null,null,null,null,null,null,null,null,null,null,{"$f":"SUM(Z177:Z178)","v":520000}]
["Итого по Тосненскому району",null,{"$f":"C179","v":15506545.84},null,null,null,null,null,null,{"$f":"J179","v":4},{"$f":"K179","v":14692692},{"$f":"L179","v":293853.84000000003},null,null,null,null,null,null,null,null,null,null,null,null,null,{"$f":"J180*130000","v":520000}]
["ИТОГО по Ленинградской области",null,{"$f":"C180+C174+C168+C155+C142+C131+C126+C110+C92+C76+C54+C22","v":949847128.81519997},{"$f":"D180+D174+D168+D155+D142+D131+D126+D110+D92+D76+D54+D22","v":0},0,0,0,0,0,255,897998684.21000004,18308444.605199996,0,0,0,0,0,0,0,0,0,0,0,0,0,33150000,0,0,0,0,0,0,0,0,0,0,0,0,0,0,0,0,0,0,0,0,0,0,0,0,0,0,0,0,0,0,0,0,0,0,0,0,0,0,0,0,0,{"$f":"BP180+BP174+BP168+BP155+BP142+BP131+BP126+BP110+BP92+BP76+BP54+BP22","v":0},0,0,0,0,0,0,0,0,0,0,0,0,0,0,0,0,0,0,0,0,0,0,0,0,0,0,0,0,0,0,0,0,0,0,0,0,0,0,0,0,0,0,0,0,0,0,0,0,0,0,0,0,0,0,0,0,0,0,0,0,0,0,0,{"$f":"EB180+EB174+EB168+EB155+EB142+EB131+EB126+EB110+EB92+EB76+EB54+EB22","v":0},0,0,0,0,0,0,0,0,0,0,0,0,0,0,0,0,0,0,0,0,0,0,0,0,0,0,0,0,0,0,0,0,0,0,0,0,0,0,0,0,0,0,0,0,0,0,0,0,0,0,0,0,0,0,0,0,0,0,0,0,0,0,0,{"$f":"GN180+GN174+GN168+GN155+GN142+GN131+GN126+GN110+GN92+GN76+GN54+GN22","v":0},0,0,0,0,0,0,0,0,0,0,0,0,0,0,0,0,0,0,0,0,0,0,0,0,0,0,0,0,0,0,0,0,0,0,0,0,0,0,0,0,0,0,0,0,0,0,0,0,0,0,0,0,0,0,0,0,0,0,0,0,0,0,0,{"$f":"IZ180+IZ174+IZ168+IZ155+IZ142+IZ131+IZ126+IZ110+IZ92+IZ76+IZ54+IZ22","v":0},0,0,0,0,0,0,0,0,0,0,0,0,0,0,0,0,0,0,0,0,0,0,0,0,0,0,0,0,0,0,0,0,0,0,0,0,0,0,0,0,0,0,0,0,0,0,0,0,0,0,0,0,0,0,0,0,0,0,0,0,0,0,0,{"$f":"LL180+LL174+LL168+LL155+LL142+LL131+LL126+LL110+LL92+LL76+LL54+LL22","v":0},0,0,0,0,0,0,0,0,0,0,0,0,0,0,0,0,0,0,0,0,0,0,0,0,0,0,0,0,0,0,0,0,0,0,0,0,0,0,0,0,0,0,0,0,0,0,0,0,0,0,0,0,0,0,0,0,0,0,0,0,0,0,0,{"$f":"NX180+NX174+NX168+NX155+NX142+NX131+NX126+NX110+NX92+NX76+NX54+NX22","v":0},0,0,0,0,0,0,0,0,0,0,0,0,0,0,0,0,0,0,0,0,0,0,0,0,0,0,0,0,0,0,0,0,0,0,0,0,0,0,0,0,0,0,0,0,0,0,0,0,0,0,0,0,0,0,0,0,0,0,0,0,0,0,0,{"$f":"QJ180+QJ174+QJ168+QJ155+QJ142+QJ131+QJ126+QJ110+QJ92+QJ76+QJ54+QJ22","v":0},0,0,0,0,0,0,0,0,0,0,0,0,0,0,0,0,0,0,0,0,0,0,0,0,0,0,0,0,0,0,0,0,0,0,0,0,0,0,0,0,0,0,0,0,0,0,0,0,0,0,0,0,0,0,0,0,0,0,0,0,0,0,0,{"$f":"SV180+SV174+SV168+SV155+SV142+SV131+SV126+SV110+SV92+SV76+SV54+SV22","v":0},0,0,0,0,0,0,0,0,0,0,0,0,0,0,0,0,0,0,0,0,0,0,0,0,0,0,0,0,0,0,0,0,0,0,0,0,0,0,0,0,0,0,0,0,0,0,0,0,0,0,0,0,0,0,0,0,0,0,0,0,0,0,0,{"$f":"VH180+VH174+VH168+VH155+VH142+VH131+VH126+VH110+VH92+VH76+VH54+VH22","v":0},0,0,0,0,0,0,0,0,0,0,0,0,0,0,0,0,0,0,0,0,0,0,0,0,0,0,0,0,0,0,0,0,0,0,0,0,0,0,0,0,0,0,0,0,0,0,0,0,0,0,0,0,0,0,0,0,0,0,0,0,0,0,0,{"$f":"XT180+XT174+XT168+XT155+XT142+XT131+XT126+XT110+XT92+XT76+XT54+XT22","v":0},0,0,0,0,0,0,0,0,0,0,0,0,0,0,0,0,0,0,0,0,0,0,0,0,0,0,0,0,0,0,0,0,0,0,0,0,0,0,0,0,0,0,0,0,0,0,0,0,0,0,0,0,0,0,0,0,0,0,0,0,0,0,0,{"$f":"AAF180+AAF174+AAF168+AAF155+AAF142+AAF131+AAF126+AAF110+AAF92+AAF76+AAF54+AAF22","v":0},0,0,0,0,0,0,0,0,0,0,0,0,0,0,0,0,0,0,0,0,0,0,0,0,0,0,0,0,0,0,0,0,0,0,0,0,0,0,0,0,0,0,0,0,0,0,0,0,0,0,0,0,0,0,0,0,0,0,0,0,0,0,0,{"$f":"ACR180+ACR174+ACR168+ACR155+ACR142+ACR131+ACR126+ACR110+ACR92+ACR76+ACR54+ACR22","v":0},0,0,0,0,0,0,0,0,0,0,0,0,0,0,0,0,0,0,0,0,0,0,0,0,0,0,0,0,0,0,0,0,0,0,0,0,0,0,0,0,0,0,0,0,0,0,0,0,0,0,0,0,0,0,0,0,0,0,0,0,0,0,0,{"$f":"AFD180+AFD174+AFD168+AFD155+AFD142+AFD131+AFD126+AFD110+AFD92+AFD76+AFD54+AFD22","v":0},0,0,0,0,0,0,0,0,0,0,0,0,0,0,0,0,0,0,0,0,0,0,0,0,0,0,0,0,0,0,0,0,0,0,0,0,0,0,0,0,0,0,0,0,0,0,0,0,0,0,0,0,0,0,0,0,0,0,0,0,0,0,0,{"$f":"AHP180+AHP174+AHP168+AHP155+AHP142+AHP131+AHP126+AHP110+AHP92+AHP76+AHP54+AHP22","v":0},0,0,0,0,0,0,0,0,0,0,0,0,0,0,0,0,0,0,0,0,0,0,0,0,0,0,0,0,0,0,0,0,0,0,0,0,0,0,0,0,0,0,0,0,0,0,0,0,0,0,0,0,0,0,0,0,0,0,0,0,0,0,0,{"$f":"AKB180+AKB174+AKB168+AKB155+AKB142+AKB131+AKB126+AKB110+AKB92+AKB76+AKB54+AKB22","v":0},0,0,0,0,0,0,0,0,0,0,0,0,0,0,0,0,0,0,0,0,0,0,0,0,0,0,0,0,0,0,0,0,0,0,0,0,0,0,0,0,0,0,0,0,0,0,0,0,0,0,0,0,0,0,0,0,0,0,0,0,0,0,0,{"$f":"AMN180+AMN174+AMN168+AMN155+AMN142+AMN131+AMN126+AMN110+AMN92+AMN76+AMN54+AMN22","v":0},0,0,0,0,0,0,0,0,0,0,0,0,0,0,0,0,0,0,0,0,0,0,0,0,0,0,0,0,0,0,0,0,0,0,0,0,0,0,0,0,0,0,0,0,0,0,0,0,0,0,0,0,0,0,0,0,0,0,0,0,0,0,0,{"$f":"AOZ180+AOZ174+AOZ168+AOZ155+AOZ142+AOZ131+AOZ126+AOZ110+AOZ92+AOZ76+AOZ54+AOZ22","v":0},0,0,0,0,0,0,0,0,0,0,0,0,0,0,0,0,0,0,0,0,0,0,0,0,0,0,0,0,0,0,0,0,0,0,0,0,0,0,0,0,0,0,0,0,0,0,0,0,0,0,0,0,0,0,0,0,0,0,0,0,0,0,0,{"$f":"ARL180+ARL174+ARL168+ARL155+ARL142+ARL131+ARL126+ARL110+ARL92+ARL76+ARL54+ARL22","v":0},0,0,0,0,0,0,0,0,0,0,0,0,0,0,0,0,0,0,0,0,0,0,0,0,0,0,0,0,0,0,0,0,0,0,0,0,0,0,0,0,0,0,0,0,0,0,0,0,0,0,0,0,0,0,0,0,0,0,0,0,0,0,0,{"$f":"ATX180+ATX174+ATX168+ATX155+ATX142+ATX131+ATX126+ATX110+ATX92+ATX76+ATX54+ATX22","v":0},0,0,0,0,0,0,0,0,0,0,0,0,0,0,0,0,0,0,0,0,0,0,0,0,0,0,0,0,0,0,0,0,0,0,0,0,0,0,0,0,0,0,0,0,0,0,0,0,0,0,0,0,0,0,0,0,0,0,0,0,0,0,0,{"$f":"AWJ180+AWJ174+AWJ168+AWJ155+AWJ142+AWJ131+AWJ126+AWJ110+AWJ92+AWJ76+AWJ54+AWJ22","v":0},0,0,0,0,0,0,0,0,0,0,0,0,0,0,0,0,0,0,0,0,0,0,0,0,0,0,0,0,0,0,0,0,0,0,0,0,0,0,0,0,0,0,0,0,0,0,0,0,0,0,0,0,0,0,0,0,0,0,0,0,0,0,0,{"$f":"AYV180+AYV174+AYV168+AYV155+AYV142+AYV131+AYV126+AYV110+AYV92+AYV76+AYV54+AYV22","v":0},0,0,0,0,0,0,0,0,0,0,0,0,0,0,0,0,0,0,0,0,0,0,0,0,0,0,0,0,0,0,0,0,0,0,0,0,0,0,0,0,0,0,0,0,0,0,0,0,0,0,0,0,0,0,0,0,0,0,0,0,0,0,0,{"$f":"BBH180+BBH174+BBH168+BBH155+BBH142+BBH131+BBH126+BBH110+BBH92+BBH76+BBH54+BBH22","v":0},0,0,0,0,0,0,0,0,0,0,0,0,0,0,0,0,0,0,0,0,0,0,0,0,0,0,0,0,0,0,0,0,0,0,0,0,0,0,0,0,0,0,0,0,0,0,0,0,0,0,0,0,0,0,0,0,0,0,0,0,0,0,0,{"$f":"BDT180+BDT174+BDT168+BDT155+BDT142+BDT131+BDT126+BDT110+BDT92+BDT76+BDT54+BDT22","v":0},0,0,0,0,0,0,0,0,0,0,0,0,0,0,0,0,0,0,0,0,0,0,0,0,0,0,0,0,0,0,0,0,0,0,0,0,0,0,0,0,0,0,0,0,0,0,0,0,0,0,0,0,0,0,0,0,0,0,0,0,0,0,0,{"$f":"BGF180+BGF174+BGF168+BGF155+BGF142+BGF131+BGF126+BGF110+BGF92+BGF76+BGF54+BGF22","v":0},0,0,0,0,0,0,0,0,0,0,0,0,0,0,0,0,0,0,0,0,0,0,0,0,0,0,0,0,0,0,0,0,0,0,0,0,0,0,0,0,0,0,0,0,0,0,0,0,0,0,0,0,0,0,0,0,0,0,0,0,0,0,0,{"$f":"BIR180+BIR174+BIR168+BIR155+BIR142+BIR131+BIR126+BIR110+BIR92+BIR76+BIR54+BIR22","v":0},0,0,0,0,0,0,0,0,0,0,0,0,0,0,0,0,0,0,0,0,0,0,0,0,0,0,0,0,0,0,0,0,0,0,0,0,0,0,0,0,0,0,0,0,0,0,0,0,0,0,0,0,0,0,0,0,0,0,0,0,0,0,0,{"$f":"BLD180+BLD174+BLD168+BLD155+BLD142+BLD131+BLD126+BLD110+BLD92+BLD76+BLD54+BLD22","v":0},0,0,0,0,0,0,0,0,0,0,0,0,0,0,0,0,0,0,0,0,0,0,0,0,0,0,0,0,0,0,0,0,0,0,0,0,0,0,0,0,0,0,0,0,0,0,0,0,0,0,0,0,0,0,0,0,0,0,0,0,0,0,0,{"$f":"BNP180+BNP174+BNP168+BNP155+BNP142+BNP131+BNP126+BNP110+BNP92+BNP76+BNP54+BNP22","v":0},0,0,0,0,0,0,0,0,0,0,0,0,0,0,0,0,0,0,0,0,0,0,0,0,0,0,0,0,0,0,0,0,0,0,0,0,0,0,0,0,0,0,0,0,0,0,0,0,0,0,0,0,0,0,0,0,0,0,0,0,0,0,0,{"$f":"BQB180+BQB174+BQB168+BQB155+BQB142+BQB131+BQB126+BQB110+BQB92+BQB76+BQB54+BQB22","v":0},0,0,0,0,0,0,0,0,0,0,0,0,0,0,0,0,0,0,0,0,0,0,0,0,0,0,0,0,0,0,0,0,0,0,0,0,0,0,0,0,0,0,0,0,0,0,0,0,0,0,0,0,0,0,0,0,0,0,0,0,0,0,0,{"$f":"BSN180+BSN174+BSN168+BSN155+BSN142+BSN131+BSN126+BSN110+BSN92+BSN76+BSN54+BSN22","v":0},0,0,0,0,0,0,0,0,0,0,0,0,0,0,0,0,0,0,0,0,0,0,0,0,0,0,0,0,0,0,0,0,0,0,0,0,0,0,0,0,0,0,0,0,0,0,0,0,0,0,0,0,0,0,0,0,0,0,0,0,0,0,0,{"$f":"BUZ180+BUZ174+BUZ168+BUZ155+BUZ142+BUZ131+BUZ126+BUZ110+BUZ92+BUZ76+BUZ54+BUZ22","v":0},0,0,0,0,0,0,0,0,0,0,0,0,0,0,0,0,0,0,0,0,0,0,0,0,0,0,0,0,0,0,0,0,0,0,0,0,0,0,0,0,0,0,0,0,0,0,0,0,0,0,0,0,0,0,0,0,0,0,0,0,0,0,0,{"$f":"BXL180+BXL174+BXL168+BXL155+BXL142+BXL131+BXL126+BXL110+BXL92+BXL76+BXL54+BXL22","v":0},0,0,0,0,0,0,0,0,0,0,0,0,0,0,0,0,0,0,0,0,0,0,0,0,0,0,0,0,0,0,0,0,0,0,0,0,0,0,0,0,0,0,0,0,0,0,0,0,0,0,0,0,0,0,0,0,0,0,0,0,0,0,0,{"$f":"BZX180+BZX174+BZX168+BZX155+BZX142+BZX131+BZX126+BZX110+BZX92+BZX76+BZX54+BZX22","v":0},0,0,0,0,0,0,0,0,0,0,0,0,0,0,0,0,0,0,0,0,0,0,0,0,0,0,0,0,0,0,0,0,0,0,0,0,0,0,0,0,0,0,0,0,0,0,0,0,0,0,0,0,0,0,0,0,0,0,0,0,0,0,0,{"$f":"CCJ180+CCJ174+CCJ168+CCJ155+CCJ142+CCJ131+CCJ126+CCJ110+CCJ92+CCJ76+CCJ54+CCJ22","v":0},0,0,0,0,0,0,0,0,0,0,0,0,0,0,0,0,0,0,0,0,0,0,0,0,0,0,0,0,0,0,0,0,0,0,0,0,0,0,0,0,0,0,0,0,0,0,0,0,0,0,0,0,0,0,0,0,0,0,0,0,0,0,0,{"$f":"CEV180+CEV174+CEV168+CEV155+CEV142+CEV131+CEV126+CEV110+CEV92+CEV76+CEV54+CEV22","v":0},0,0,0,0,0,0,0,0,0,0,0,0,0,0,0,0,0,0,0,0,0,0,0,0,0,0,0,0,0,0,0,0,0,0,0,0,0,0,0,0,0,0,0,0,0,0,0,0,0,0,0,0,0,0,0,0,0,0,0,0,0,0,0,{"$f":"CHH180+CHH174+CHH168+CHH155+CHH142+CHH131+CHH126+CHH110+CHH92+CHH76+CHH54+CHH22","v":0},0,0,0,0,0,0,0,0,0,0,0,0,0,0,0,0,0,0,0,0,0,0,0,0,0,0,0,0,0,0,0,0,0,0,0,0,0,0,0,0,0,0,0,0,0,0,0,0,0,0,0,0,0,0,0,0,0,0,0,0,0,0,0,{"$f":"CJT180+CJT174+CJT168+CJT155+CJT142+CJT131+CJT126+CJT110+CJT92+CJT76+CJT54+CJT22","v":0},0,0,0,0,0,0,0,0,0,0,0,0,0,0,0,0,0,0,0,0,0,0,0,0,0,0,0,0,0,0,0,0,0,0,0,0,0,0,0,0,0,0,0,0,0,0,0,0,0,0,0,0,0,0,0,0,0,0,0,0,0,0,0,{"$f":"CMF180+CMF174+CMF168+CMF155+CMF142+CMF131+CMF126+CMF110+CMF92+CMF76+CMF54+CMF22","v":0},0,0,0,0,0,0,0,0,0,0,0,0,0,0,0,0,0,0,0,0,0,0,0,0,0,0,0,0,0,0,0,0,0,0,0,0,0,0,0,0,0,0,0,0,0,0,0,0,0,0,0,0,0,0,0,0,0,0,0,0,0,0,0,{"$f":"COR180+COR174+COR168+COR155+COR142+COR131+COR126+COR110+COR92+COR76+COR54+COR22","v":0},0,0,0,0,0,0,0,0,0,0,0,0,0,0,0,0,0,0,0,0,0,0,0,0,0,0,0,0,0,0,0,0,0,0,0,0,0,0,0,0,0,0,0,0,0,0,0,0,0,0,0,0,0,0,0,0,0,0,0,0,0,0,0,{"$f":"CRD180+CRD174+CRD168+CRD155+CRD142+CRD131+CRD126+CRD110+CRD92+CRD76+CRD54+CRD22","v":0},0,0,0,0,0,0,0,0,0,0,0,0,0,0,0,0,0,0,0,0,0,0,0,0,0,0,0,0,0,0,0,0,0,0,0,0,0,0,0,0,0,0,0,0,0,0,0,0,0,0,0,0,0,0,0,0,0,0,0,0,0,0,0,{"$f":"CTP180+CTP174+CTP168+CTP155+CTP142+CTP131+CTP126+CTP110+CTP92+CTP76+CTP54+CTP22","v":0},0,0,0,0,0,0,0,0,0,0,0,0,0,0,0,0,0,0,0,0,0,0,0,0,0,0,0,0,0,0,0,0,0,0,0,0,0,0,0,0,0,0,0,0,0,0,0,0,0,0,0,0,0,0,0,0,0,0,0,0,0,0,0,{"$f":"CWB180+CWB174+CWB168+CWB155+CWB142+CWB131+CWB126+CWB110+CWB92+CWB76+CWB54+CWB22","v":0},0,0,0,0,0,0,0,0,0,0,0,0,0,0,0,0,0,0,0,0,0,0,0,0,0,0,0,0,0,0,0,0,0,0,0,0,0,0,0,0,0,0,0,0,0,0,0,0,0,0,0,0,0,0,0,0,0,0,0,0,0,0,0,{"$f":"CYN180+CYN174+CYN168+CYN155+CYN142+CYN131+CYN126+CYN110+CYN92+CYN76+CYN54+CYN22","v":0},0,0,0,0,0,0,0,0,0,0,0,0,0,0,0,0,0,0,0,0,0,0,0,0,0,0,0,0,0,0,0,0,0,0,0,0,0,0,0,0,0,0,0,0,0,0,0,0,0,0,0,0,0,0,0,0,0,0,0,0,0,0,0,{"$f":"DAZ180+DAZ174+DAZ168+DAZ155+DAZ142+DAZ131+DAZ126+DAZ110+DAZ92+DAZ76+DAZ54+DAZ22","v":0},0,0,0,0,0,0,0,0,0,0,0,0,0,0,0,0,0,0,0,0,0,0,0,0,0,0,0,0,0,0,0,0,0,0,0,0,0,0,0,0,0,0,0,0,0,0,0,0,0,0,0,0,0,0,0,0,0,0,0,0,0,0,0,{"$f":"DDL180+DDL174+DDL168+DDL155+DDL142+DDL131+DDL126+DDL110+DDL92+DDL76+DDL54+DDL22","v":0},0,0,0,0,0,0,0,0,0,0,0,0,0,0,0,0,0,0,0,0,0,0,0,0,0,0,0,0,0,0,0,0,0,0,0,0,0,0,0,0,0,0,0,0,0,0,0,0,0,0,0,0,0,0,0,0,0,0,0,0,0,0,0,{"$f":"DFX180+DFX174+DFX168+DFX155+DFX142+DFX131+DFX126+DFX110+DFX92+DFX76+DFX54+DFX22","v":0},0,0,0,0,0,0,0,0,0,0,0,0,0,0,0,0,0,0,0,0,0,0,0,0,0,0,0,0,0,0,0,0,0,0,0,0,0,0,0,0,0,0,0,0,0,0,0,0,0,0,0,0,0,0,0,0,0,0,0,0,0,0,0,{"$f":"DIJ180+DIJ174+DIJ168+DIJ155+DIJ142+DIJ131+DIJ126+DIJ110+DIJ92+DIJ76+DIJ54+DIJ22","v":0},0,0,0,0,0,0,0,0,0,0,0,0,0,0,0,0,0,0,0,0,0,0,0,0,0,0,0,0,0,0,0,0,0,0,0,0,0,0,0,0,0,0,0,0,0,0,0,0,0,0,0,0,0,0,0,0,0,0,0,0,0,0,0,{"$f":"DKV180+DKV174+DKV168+DKV155+DKV142+DKV131+DKV126+DKV110+DKV92+DKV76+DKV54+DKV22","v":0},0,0,0,0,0,0,0,0,0,0,0,0,0,0,0,0,0,0,0,0,0,0,0,0,0,0,0,0,0,0,0,0,0,0,0,0,0,0,0,0,0,0,0,0,0,0,0,0,0,0,0,0,0,0,0,0,0,0,0,0,0,0,0,{"$f":"DNH180+DNH174+DNH168+DNH155+DNH142+DNH131+DNH126+DNH110+DNH92+DNH76+DNH54+DNH22","v":0},0,0,0,0,0,0,0,0,0,0,0,0,0,0,0,0,0,0,0,0,0,0,0,0,0,0,0,0,0,0,0,0,0,0,0,0,0,0,0,0,0,0,0,0,0,0,0,0,0,0,0,0,0,0,0,0,0,0,0,0,0,0,0,{"$f":"DPT180+DPT174+DPT168+DPT155+DPT142+DPT131+DPT126+DPT110+DPT92+DPT76+DPT54+DPT22","v":0},0,0,0,0,0,0,0,0,0,0,0,0,0,0,0,0,0,0,0,0,0,0,0,0,0,0,0,0,0,0,0,0,0,0,0,0,0,0,0,0,0,0,0,0,0,0,0,0,0,0,0,0,0,0,0,0,0,0,0,0,0,0,0,{"$f":"DSF180+DSF174+DSF168+DSF155+DSF142+DSF131+DSF126+DSF110+DSF92+DSF76+DSF54+DSF22","v":0},0,0,0,0,0,0,0,0,0,0,0,0,0,0,0,0,0,0,0,0,0,0,0,0,0,0,0,0,0,0,0,0,0,0,0,0,0,0,0,0,0,0,0,0,0,0,0,0,0,0,0,0,0,0,0,0,0,0,0,0,0,0,0,{"$f":"DUR180+DUR174+DUR168+DUR155+DUR142+DUR131+DUR126+DUR110+DUR92+DUR76+DUR54+DUR22","v":0},0,0,0,0,0,0,0,0,0,0,0,0,0,0,0,0,0,0,0,0,0,0,0,0,0,0,0,0,0,0,0,0,0,0,0,0,0,0,0,0,0,0,0,0,0,0,0,0,0,0,0,0,0,0,0,0,0,0,0,0,0,0,0,{"$f":"DXD180+DXD174+DXD168+DXD155+DXD142+DXD131+DXD126+DXD110+DXD92+DXD76+DXD54+DXD22","v":0},0,0,0,0,0,0,0,0,0,0,0,0,0,0,0,0,0,0,0,0,0,0,0,0,0,0,0,0,0,0,0,0,0,0,0,0,0,0,0,0,0,0,0,0,0,0,0,0,0,0,0,0,0,0,0,0,0,0,0,0,0,0,0,{"$f":"DZP180+DZP174+DZP168+DZP155+DZP142+DZP131+DZP126+DZP110+DZP92+DZP76+DZP54+DZP22","v":0},0,0,0,0,0,0,0,0,0,0,0,0,0,0,0,0,0,0,0,0,0,0,0,0,0,0,0,0,0,0,0,0,0,0,0,0,0,0,0,0,0,0,0,0,0,0,0,0,0,0,0,0,0,0,0,0,0,0,0,0,0,0,0,{"$f":"ECB180+ECB174+ECB168+ECB155+ECB142+ECB131+ECB126+ECB110+ECB92+ECB76+ECB54+ECB22","v":0},0,0,0,0,0,0,0,0,0,0,0,0,0,0,0,0,0,0,0,0,0,0,0,0,0,0,0,0,0,0,0,0,0,0,0,0,0,0,0,0,0,0,0,0,0,0,0,0,0,0,0,0,0,0,0,0,0,0,0,0,0,0,0,{"$f":"EEN180+EEN174+EEN168+EEN155+EEN142+EEN131+EEN126+EEN110+EEN92+EEN76+EEN54+EEN22","v":0},0,0,0,0,0,0,0,0,0,0,0,0,0,0,0,0,0,0,0,0,0,0,0,0,0,0,0,0,0,0,0,0,0,0,0,0,0,0,0,0,0,0,0,0,0,0,0,0,0,0,0,0,0,0,0,0,0,0,0,0,0,0,0,{"$f":"EGZ180+EGZ174+EGZ168+EGZ155+EGZ142+EGZ131+EGZ126+EGZ110+EGZ92+EGZ76+EGZ54+EGZ22","v":0},0,0,0,0,0,0,0,0,0,0,0,0,0,0,0,0,0,0,0,0,0,0,0,0,0,0,0,0,0,0,0,0,0,0,0,0,0,0,0,0,0,0,0,0,0,0,0,0,0,0,0,0,0,0,0,0,0,0,0,0,0,0,0,{"$f":"EJL180+EJL174+EJL168+EJL155+EJL142+EJL131+EJL126+EJL110+EJL92+EJL76+EJL54+EJL22","v":0},0,0,0,0,0,0,0,0,0,0,0,0,0,0,0,0,0,0,0,0,0,0,0,0,0,0,0,0,0,0,0,0,0,0,0,0,0,0,0,0,0,0,0,0,0,0,0,0,0,0,0,0,0,0,0,0,0,0,0,0,0,0,0,{"$f":"ELX180+ELX174+ELX168+ELX155+ELX142+ELX131+ELX126+ELX110+ELX92+ELX76+ELX54+ELX22","v":0},0,0,0,0,0,0,0,0,0,0,0,0,0,0,0,0,0,0,0,0,0,0,0,0,0,0,0,0,0,0,0,0,0,0,0,0,0,0,0,0,0,0,0,0,0,0,0,0,0,0,0,0,0,0,0,0,0,0,0,0,0,0,0,{"$f":"EOJ180+EOJ174+EOJ168+EOJ155+EOJ142+EOJ131+EOJ126+EOJ110+EOJ92+EOJ76+EOJ54+EOJ22","v":0},0,0,0,0,0,0,0,0,0,0,0,0,0,0,0,0,0,0,0,0,0,0,0,0,0,0,0,0,0,0,0,0,0,0,0,0,0,0,0,0,0,0,0,0,0,0,0,0,0,0,0,0,0,0,0,0,0,0,0,0,0,0,0,{"$f":"EQV180+EQV174+EQV168+EQV155+EQV142+EQV131+EQV126+EQV110+EQV92+EQV76+EQV54+EQV22","v":0},0,0,0,0,0,0,0,0,0,0,0,0,0,0,0,0,0,0,0,0,0,0,0,0,0,0,0,0,0,0,0,0,0,0,0,0,0,0,0,0,0,0,0,0,0,0,0,0,0,0,0,0,0,0,0,0,0,0,0,0,0,0,0,{"$f":"ETH180+ETH174+ETH168+ETH155+ETH142+ETH131+ETH126+ETH110+ETH92+ETH76+ETH54+ETH22","v":0},0,0,0,0,0,0,0,0,0,0,0,0,0,0,0,0,0,0,0,0,0,0,0,0,0,0,0,0,0,0,0,0,0,0,0,0,0,0,0,0,0,0,0,0,0,0,0,0,0,0,0,0,0,0,0,0,0,0,0,0,0,0,0,{"$f":"EVT180+EVT174+EVT168+EVT155+EVT142+EVT131+EVT126+EVT110+EVT92+EVT76+EVT54+EVT22","v":0},0,0,0,0,0,0,0,0,0,0,0,0,0,0,0,0,0,0,0,0,0,0,0,0,0,0,0,0,0,0,0,0,0,0,0,0,0,0,0,0,0,0,0,0,0,0,0,0,0,0,0,0,0,0,0,0,0,0,0,0,0,0,0,{"$f":"EYF180+EYF174+EYF168+EYF155+EYF142+EYF131+EYF126+EYF110+EYF92+EYF76+EYF54+EYF22","v":0},0,0,0,0,0,0,0,0,0,0,0,0,0,0,0,0,0,0,0,0,0,0,0,0,0,0,0,0,0,0,0,0,0,0,0,0,0,0,0,0,0,0,0,0,0,0,0,0,0,0,0,0,0,0,0,0,0,0,0,0,0,0,0,{"$f":"FAR180+FAR174+FAR168+FAR155+FAR142+FAR131+FAR126+FAR110+FAR92+FAR76+FAR54+FAR22","v":0},0,0,0,0,0,0,0,0,0,0,0,0,0,0,0,0,0,0,0,0,0,0,0,0,0,0,0,0,0,0,0,0,0,0,0,0,0,0,0,0,0,0,0,0,0,0,0,0,0,0,0,0,0,0,0,0,0,0,0,0,0,0,0,{"$f":"FDD180+FDD174+FDD168+FDD155+FDD142+FDD131+FDD126+FDD110+FDD92+FDD76+FDD54+FDD22","v":0},0,0,0,0,0,0,0,0,0,0,0,0,0,0,0,0,0,0,0,0,0,0,0,0,0,0,0,0,0,0,0,0,0,0,0,0,0,0,0,0,0,0,0,0,0,0,0,0,0,0,0,0,0,0,0,0,0,0,0,0,0,0,0,{"$f":"FFP180+FFP174+FFP168+FFP155+FFP142+FFP131+FFP126+FFP110+FFP92+FFP76+FFP54+FFP22","v":0},0,0,0,0,0,0,0,0,0,0,0,0,0,0,0,0,0,0,0,0,0,0,0,0,0,0,0,0,0,0,0,0,0,0,0,0,0,0,0,0,0,0,0,0,0,0,0,0,0,0,0,0,0,0,0,0,0,0,0,0,0,0,0,{"$f":"FIB180+FIB174+FIB168+FIB155+FIB142+FIB131+FIB126+FIB110+FIB92+FIB76+FIB54+FIB22","v":0},0,0,0,0,0,0,0,0,0,0,0,0,0,0,0,0,0,0,0,0,0,0,0,0,0,0,0,0,0,0,0,0,0,0,0,0,0,0,0,0,0,0,0,0,0,0,0,0,0,0,0,0,0,0,0,0,0,0,0,0,0,0,0,{"$f":"FKN180+FKN174+FKN168+FKN155+FKN142+FKN131+FKN126+FKN110+FKN92+FKN76+FKN54+FKN22","v":0},0,0,0,0,0,0,0,0,0,0,0,0,0,0,0,0,0,0,0,0,0,0,0,0,0,0,0,0,0,0,0,0,0,0,0,0,0,0,0,0,0,0,0,0,0,0,0,0,0,0,0,0,0,0,0,0,0,0,0,0,0,0,0,{"$f":"FMZ180+FMZ174+FMZ168+FMZ155+FMZ142+FMZ131+FMZ126+FMZ110+FMZ92+FMZ76+FMZ54+FMZ22","v":0},0,0,0,0,0,0,0,0,0,0,0,0,0,0,0,0,0,0,0,0,0,0,0,0,0,0,0,0,0,0,0,0,0,0,0,0,0,0,0,0,0,0,0,0,0,0,0,0,0,0,0,0,0,0,0,0,0,0,0,0,0,0,0,{"$f":"FPL180+FPL174+FPL168+FPL155+FPL142+FPL131+FPL126+FPL110+FPL92+FPL76+FPL54+FPL22","v":0},0,0,0,0,0,0,0,0,0,0,0,0,0,0,0,0,0,0,0,0,0,0,0,0,0,0,0,0,0,0,0,0,0,0,0,0,0,0,0,0,0,0,0,0,0,0,0,0,0,0,0,0,0,0,0,0,0,0,0,0,0,0,0,{"$f":"FRX180+FRX174+FRX168+FRX155+FRX142+FRX131+FRX126+FRX110+FRX92+FRX76+FRX54+FRX22","v":0},0,0,0,0,0,0,0,0,0,0,0,0,0,0,0,0,0,0,0,0,0,0,0,0,0,0,0,0,0,0,0,0,0,0,0,0,0,0,0,0,0,0,0,0,0,0,0,0,0,0,0,0,0,0,0,0,0,0,0,0,0,0,0,{"$f":"FUJ180+FUJ174+FUJ168+FUJ155+FUJ142+FUJ131+FUJ126+FUJ110+FUJ92+FUJ76+FUJ54+FUJ22","v":0},0,0,0,0,0,0,0,0,0,0,0,0,0,0,0,0,0,0,0,0,0,0,0,0,0,0,0,0,0,0,0,0,0,0,0,0,0,0,0,0,0,0,0,0,0,0,0,0,0,0,0,0,0,0,0,0,0,0,0,0,0,0,0,{"$f":"FWV180+FWV174+FWV168+FWV155+FWV142+FWV131+FWV126+FWV110+FWV92+FWV76+FWV54+FWV22","v":0},0,0,0,0,0,0,0,0,0,0,0,0,0,0,0,0,0,0,0,0,0,0,0,0,0,0,0,0,0,0,0,0,0,0,0,0,0,0,0,0,0,0,0,0,0,0,0,0,0,0,0,0,0,0,0,0,0,0,0,0,0,0,0,{"$f":"FZH180+FZH174+FZH168+FZH155+FZH142+FZH131+FZH126+FZH110+FZH92+FZH76+FZH54+FZH22","v":0},0,0,0,0,0,0,0,0,0,0,0,0,0,0,0,0,0,0,0,0,0,0,0,0,0,0,0,0,0,0,0,0,0,0,0,0,0,0,0,0,0,0,0,0,0,0,0,0,0,0,0,0,0,0,0,0,0,0,0,0,0,0,0,{"$f":"GBT180+GBT174+GBT168+GBT155+GBT142+GBT131+GBT126+GBT110+GBT92+GBT76+GBT54+GBT22","v":0},0,0,0,0,0,0,0,0,0,0,0,0,0,0,0,0,0,0,0,0,0,0,0,0,0,0,0,0,0,0,0,0,0,0,0,0,0,0,0,0,0,0,0,0,0,0,0,0,0,0,0,0,0,0,0,0,0,0,0,0,0,0,0,{"$f":"GEF180+GEF174+GEF168+GEF155+GEF142+GEF131+GEF126+GEF110+GEF92+GEF76+GEF54+GEF22","v":0},0,0,0,0,0,0,0,0,0,0,0,0,0,0,0,0,0,0,0,0,0,0,0,0,0,0,0,0,0,0,0,0,0,0,0,0,0,0,0,0,0,0,0,0,0,0,0,0,0,0,0,0,0,0,0,0,0,0,0,0,0,0,0,{"$f":"GGR180+GGR174+GGR168+GGR155+GGR142+GGR131+GGR126+GGR110+GGR92+GGR76+GGR54+GGR22","v":0},0,0,0,0,0,0,0,0,0,0,0,0,0,0,0,0,0,0,0,0,0,0,0,0,0,0,0,0,0,0,0,0,0,0,0,0,0,0,0,0,0,0,0,0,0,0,0,0,0,0,0,0,0,0,0,0,0,0,0,0,0,0,0,{"$f":"GJD180+GJD174+GJD168+GJD155+GJD142+GJD131+GJD126+GJD110+GJD92+GJD76+GJD54+GJD22","v":0},0,0,0,0,0,0,0,0,0,0,0,0,0,0,0,0,0,0,0,0,0,0,0,0,0,0,0,0,0,0,0,0,0,0,0,0,0,0,0,0,0,0,0,0,0,0,0,0,0,0,0,0,0,0,0,0,0,0,0,0,0,0,0,{"$f":"GLP180+GLP174+GLP168+GLP155+GLP142+GLP131+GLP126+GLP110+GLP92+GLP76+GLP54+GLP22","v":0},0,0,0,0,0,0,0,0,0,0,0,0,0,0,0,0,0,0,0,0,0,0,0,0,0,0,0,0,0,0,0,0,0,0,0,0,0,0,0,0,0,0,0,0,0,0,0,0,0,0,0,0,0,0,0,0,0,0,0,0,0,0,0,{"$f":"GOB180+GOB174+GOB168+GOB155+GOB142+GOB131+GOB126+GOB110+GOB92+GOB76+GOB54+GOB22","v":0},0,0,0,0,0,0,0,0,0,0,0,0,0,0,0,0,0,0,0,0,0,0,0,0,0,0,0,0,0,0,0,0,0,0,0,0,0,0,0,0,0,0,0,0,0,0,0,0,0,0,0,0,0,0,0,0,0,0,0,0,0,0,0,{"$f":"GQN180+GQN174+GQN168+GQN155+GQN142+GQN131+GQN126+GQN110+GQN92+GQN76+GQN54+GQN22","v":0},0,0,0,0,0,0,0,0,0,0,0,0,0,0,0,0,0,0,0,0,0,0,0,0,0,0,0,0,0,0,0,0,0,0,0,0,0,0,0,0,0,0,0,0,0,0,0,0,0,0,0,0,0,0,0,0,0,0,0,0,0,0,0,{"$f":"GSZ180+GSZ174+GSZ168+GSZ155+GSZ142+GSZ131+GSZ126+GSZ110+GSZ92+GSZ76+GSZ54+GSZ22","v":0},0,0,0,0,0,0,0,0,0,0,0,0,0,0,0,0,0,0,0,0,0,0,0,0,0,0,0,0,0,0,0,0,0,0,0,0,0,0,0,0,0,0,0,0,0,0,0,0,0,0,0,0,0,0,0,0,0,0,0,0,0,0,0,{"$f":"GVL180+GVL174+GVL168+GVL155+GVL142+GVL131+GVL126+GVL110+GVL92+GVL76+GVL54+GVL22","v":0},0,0,0,0,0,0,0,0,0,0,0,0,0,0,0,0,0,0,0,0,0,0,0,0,0,0,0,0,0,0,0,0,0,0,0,0,0,0,0,0,0,0,0,0,0,0,0,0,0,0,0,0,0,0,0,0,0,0,0,0,0,0,0,{"$f":"GXX180+GXX174+GXX168+GXX155+GXX142+GXX131+GXX126+GXX110+GXX92+GXX76+GXX54+GXX22","v":0},0,0,0,0,0,0,0,0,0,0,0,0,0,0,0,0,0,0,0,0,0,0,0,0,0,0,0,0,0,0,0,0,0,0,0,0,0,0,0,0,0,0,0,0,0,0,0,0,0,0,0,0,0,0,0,0,0,0,0,0,0,0,0,{"$f":"HAJ180+HAJ174+HAJ168+HAJ155+HAJ142+HAJ131+HAJ126+HAJ110+HAJ92+HAJ76+HAJ54+HAJ22","v":0},0,0,0,0,0,0,0,0,0,0,0,0,0,0,0,0,0,0,0,0,0,0,0,0,0,0,0,0,0,0,0,0,0,0,0,0,0,0,0,0,0,0,0,0,0,0,0,0,0,0,0,0,0,0,0,0,0,0,0,0,0,0,0,{"$f":"HCV180+HCV174+HCV168+HCV155+HCV142+HCV131+HCV126+HCV110+HCV92+HCV76+HCV54+HCV22","v":0},0,0,0,0,0,0,0,0,0,0,0,0,0,0,0,0,0,0,0,0,0,0,0,0,0,0,0,0,0,0,0,0,0,0,0,0,0,0,0,0,0,0,0,0,0,0,0,0,0,0,0,0,0,0,0,0,0,0,0,0,0,0,0,{"$f":"HFH180+HFH174+HFH168+HFH155+HFH142+HFH131+HFH126+HFH110+HFH92+HFH76+HFH54+HFH22","v":0},0,0,0,0,0,0,0,0,0,0,0,0,0,0,0,0,0,0,0,0,0,0,0,0,0,0,0,0,0,0,0,0,0,0,0,0,0,0,0,0,0,0,0,0,0,0,0,0,0,0,0,0,0,0,0,0,0,0,0,0,0,0,0,{"$f":"HHT180+HHT174+HHT168+HHT155+HHT142+HHT131+HHT126+HHT110+HHT92+HHT76+HHT54+HHT22","v":0},0,0,0,0,0,0,0,0,0,0,0,0,0,0,0,0,0,0,0,0,0,0,0,0,0,0,0,0,0,0,0,0,0,0,0,0,0,0,0,0,0,0,0,0,0,0,0,0,0,0,0,0,0,0,0,0,0,0,0,0,0,0,0,{"$f":"HKF180+HKF174+HKF168+HKF155+HKF142+HKF131+HKF126+HKF110+HKF92+HKF76+HKF54+HKF22","v":0},0,0,0,0,0,0,0,0,0,0,0,0,0,0,0,0,0,0,0,0,0,0,0,0,0,0,0,0,0,0,0,0,0,0,0,0,0,0,0,0,0,0,0,0,0,0,0,0,0,0,0,0,0,0,0,0,0,0,0,0,0,0,0,{"$f":"HMR180+HMR174+HMR168+HMR155+HMR142+HMR131+HMR126+HMR110+HMR92+HMR76+HMR54+HMR22","v":0},0,0,0,0,0,0,0,0,0,0,0,0,0,0,0,0,0,0,0,0,0,0,0,0,0,0,0,0,0,0,0,0,0,0,0,0,0,0,0,0,0,0,0,0,0,0,0,0,0,0,0,0,0,0,0,0,0,0,0,0,0,0,0,{"$f":"HPD180+HPD174+HPD168+HPD155+HPD142+HPD131+HPD126+HPD110+HPD92+HPD76+HPD54+HPD22","v":0},0,0,0,0,0,0,0,0,0,0,0,0,0,0,0,0,0,0,0,0,0,0,0,0,0,0,0,0,0,0,0,0,0,0,0,0,0,0,0,0,0,0,0,0,0,0,0,0,0,0,0,0,0,0,0,0,0,0,0,0,0,0,0,{"$f":"HRP180+HRP174+HRP168+HRP155+HRP142+HRP131+HRP126+HRP110+HRP92+HRP76+HRP54+HRP22","v":0},0,0,0,0,0,0,0,0,0,0,0,0,0,0,0,0,0,0,0,0,0,0,0,0,0,0,0,0,0,0,0,0,0,0,0,0,0,0,0,0,0,0,0,0,0,0,0,0,0,0,0,0,0,0,0,0,0,0,0,0,0,0,0,{"$f":"HUB180+HUB174+HUB168+HUB155+HUB142+HUB131+HUB126+HUB110+HUB92+HUB76+HUB54+HUB22","v":0},0,0,0,0,0,0,0,0,0,0,0,0,0,0,0,0,0,0,0,0,0,0,0,0,0,0,0,0,0,0,0,0,0,0,0,0,0,0,0,0,0,0,0,0,0,0,0,0,0,0,0,0,0,0,0,0,0,0,0,0,0,0,0,{"$f":"HWN180+HWN174+HWN168+HWN155+HWN142+HWN131+HWN126+HWN110+HWN92+HWN76+HWN54+HWN22","v":0},0,0,0,0,0,0,0,0,0,0,0,0,0,0,0,0,0,0,0,0,0,0,0,0,0,0,0,0,0,0,0,0,0,0,0,0,0,0,0,0,0,0,0,0,0,0,0,0,0,0,0,0,0,0,0,0,0,0,0,0,0,0,0,{"$f":"HYZ180+HYZ174+HYZ168+HYZ155+HYZ142+HYZ131+HYZ126+HYZ110+HYZ92+HYZ76+HYZ54+HYZ22","v":0},0,0,0,0,0,0,0,0,0,0,0,0,0,0,0,0,0,0,0,0,0,0,0,0,0,0,0,0,0,0,0,0,0,0,0,0,0,0,0,0,0,0,0,0,0,0,0,0,0,0,0,0,0,0,0,0,0,0,0,0,0,0,0,{"$f":"IBL180+IBL174+IBL168+IBL155+IBL142+IBL131+IBL126+IBL110+IBL92+IBL76+IBL54+IBL22","v":0},0,0,0,0,0,0,0,0,0,0,0,0,0,0,0,0,0,0,0,0,0,0,0,0,0,0,0,0,0,0,0,0,0,0,0,0,0,0,0,0,0,0,0,0,0,0,0,0,0,0,0,0,0,0,0,0,0,0,0,0,0,0,0,{"$f":"IDX180+IDX174+IDX168+IDX155+IDX142+IDX131+IDX126+IDX110+IDX92+IDX76+IDX54+IDX22","v":0},0,0,0,0,0,0,0,0,0,0,0,0,0,0,0,0,0,0,0,0,0,0,0,0,0,0,0,0,0,0,0,0,0,0,0,0,0,0,0,0,0,0,0,0,0,0,0,0,0,0,0,0,0,0,0,0,0,0,0,0,0,0,0,{"$f":"IGJ180+IGJ174+IGJ168+IGJ155+IGJ142+IGJ131+IGJ126+IGJ110+IGJ92+IGJ76+IGJ54+IGJ22","v":0},0,0,0,0,0,0,0,0,0,0,0,0,0,0,0,0,0,0,0,0,0,0,0,0,0,0,0,0,0,0,0,0,0,0,0,0,0,0,0,0,0,0,0,0,0,0,0,0,0,0,0,0,0,0,0,0,0,0,0,0,0,0,0,{"$f":"IIV180+IIV174+IIV168+IIV155+IIV142+IIV131+IIV126+IIV110+IIV92+IIV76+IIV54+IIV22","v":0},0,0,0,0,0,0,0,0,0,0,0,0,0,0,0,0,0,0,0,0,0,0,0,0,0,0,0,0,0,0,0,0,0,0,0,0,0,0,0,0,0,0,0,0,0,0,0,0,0,0,0,0,0,0,0,0,0,0,0,0,0,0,0,{"$f":"ILH180+ILH174+ILH168+ILH155+ILH142+ILH131+ILH126+ILH110+ILH92+ILH76+ILH54+ILH22","v":0},0,0,0,0,0,0,0,0,0,0,0,0,0,0,0,0,0,0,0,0,0,0,0,0,0,0,0,0,0,0,0,0,0,0,0,0,0,0,0,0,0,0,0,0,0,0,0,0,0,0,0,0,0,0,0,0,0,0,0,0,0,0,0,{"$f":"INT180+INT174+INT168+INT155+INT142+INT131+INT126+INT110+INT92+INT76+INT54+INT22","v":0},0,0,0,0,0,0,0,0,0,0,0,0,0,0,0,0,0,0,0,0,0,0,0,0,0,0,0,0,0,0,0,0,0,0,0,0,0,0,0,0,0,0,0,0,0,0,0,0,0,0,0,0,0,0,0,0,0,0,0,0,0,0,0,{"$f":"IQF180+IQF174+IQF168+IQF155+IQF142+IQF131+IQF126+IQF110+IQF92+IQF76+IQF54+IQF22","v":0},0,0,0,0,0,0,0,0,0,0,0,0,0,0,0,0,0,0,0,0,0,0,0,0,0,0,0,0,0,0,0,0,0,0,0,0,0,0,0,0,0,0,0,0,0,0,0,0,0,0,0,0,0,0,0,0,0,0,0,0,0,0,0,{"$f":"ISR180+ISR174+ISR168+ISR155+ISR142+ISR131+ISR126+ISR110+ISR92+ISR76+ISR54+ISR22","v":0},0,0,0,0,0,0,0,0,0,0,0,0,0,0,0,0,0,0,0,0,0,0,0,0,0,0,0,0,0,0,0,0,0,0,0,0,0,0,0,0,0,0,0,0,0,0,0,0,0,0,0,0,0,0,0,0,0,0,0,0,0,0,0,{"$f":"IVD180+IVD174+IVD168+IVD155+IVD142+IVD131+IVD126+IVD110+IVD92+IVD76+IVD54+IVD22","v":0},0,0,0,0,0,0,0,0,0,0,0,0,0,0,0,0,0,0,0,0,0,0,0,0,0,0,0,0,0,0,0,0,0,0,0,0,0,0,0,0,0,0,0,0,0,0,0,0,0,0,0,0,0,0,0,0,0,0,0,0,0,0,0,{"$f":"IXP180+IXP174+IXP168+IXP155+IXP142+IXP131+IXP126+IXP110+IXP92+IXP76+IXP54+IXP22","v":0},0,0,0,0,0,0,0,0,0,0,0,0,0,0,0,0,0,0,0,0,0,0,0,0,0,0,0,0,0,0,0,0,0,0,0,0,0,0,0,0,0,0,0,0,0,0,0,0,0,0,0,0,0,0,0,0,0,0,0,0,0,0,0,{"$f":"JAB180+JAB174+JAB168+JAB155+JAB142+JAB131+JAB126+JAB110+JAB92+JAB76+JAB54+JAB22","v":0},0,0,0,0,0,0,0,0,0,0,0,0,0,0,0,0,0,0,0,0,0,0,0,0,0,0,0,0,0,0,0,0,0,0,0,0,0,0,0,0,0,0,0,0,0,0,0,0,0,0,0,0,0,0,0,0,0,0,0,0,0,0,0,{"$f":"JCN180+JCN174+JCN168+JCN155+JCN142+JCN131+JCN126+JCN110+JCN92+JCN76+JCN54+JCN22","v":0},0,0,0,0,0,0,0,0,0,0,0,0,0,0,0,0,0,0,0,0,0,0,0,0,0,0,0,0,0,0,0,0,0,0,0,0,0,0,0,0,0,0,0,0,0,0,0,0,0,0,0,0,0,0,0,0,0,0,0,0,0,0,0,{"$f":"JEZ180+JEZ174+JEZ168+JEZ155+JEZ142+JEZ131+JEZ126+JEZ110+JEZ92+JEZ76+JEZ54+JEZ22","v":0},0,0,0,0,0,0,0,0,0,0,0,0,0,0,0,0,0,0,0,0,0,0,0,0,0,0,0,0,0,0,0,0,0,0,0,0,0,0,0,0,0,0,0,0,0,0,0,0,0,0,0,0,0,0,0,0,0,0,0,0,0,0,0,{"$f":"JHL180+JHL174+JHL168+JHL155+JHL142+JHL131+JHL126+JHL110+JHL92+JHL76+JHL54+JHL22","v":0},0,0,0,0,0,0,0,0,0,0,0,0,0,0,0,0,0,0,0,0,0,0,0,0,0,0,0,0,0,0,0,0,0,0,0,0,0,0,0,0,0,0,0,0,0,0,0,0,0,0,0,0,0,0,0,0,0,0,0,0,0,0,0,{"$f":"JJX180+JJX174+JJX168+JJX155+JJX142+JJX131+JJX126+JJX110+JJX92+JJX76+JJX54+JJX22","v":0},0,0,0,0,0,0,0,0,0,0,0,0,0,0,0,0,0,0,0,0,0,0,0,0,0,0,0,0,0,0,0,0,0,0,0,0,0,0,0,0,0,0,0,0,0,0,0,0,0,0,0,0,0,0,0,0,0,0,0,0,0,0,0,{"$f":"JMJ180+JMJ174+JMJ168+JMJ155+JMJ142+JMJ131+JMJ126+JMJ110+JMJ92+JMJ76+JMJ54+JMJ22","v":0},0,0,0,0,0,0,0,0,0,0,0,0,0,0,0,0,0,0,0,0,0,0,0,0,0,0,0,0,0,0,0,0,0,0,0,0,0,0,0,0,0,0,0,0,0,0,0,0,0,0,0,0,0,0,0,0,0,0,0,0,0,0,0,{"$f":"JOV180+JOV174+JOV168+JOV155+JOV142+JOV131+JOV126+JOV110+JOV92+JOV76+JOV54+JOV22","v":0},0,0,0,0,0,0,0,0,0,0,0,0,0,0,0,0,0,0,0,0,0,0,0,0,0,0,0,0,0,0,0,0,0,0,0,0,0,0,0,0,0,0,0,0,0,0,0,0,0,0,0,0,0,0,0,0,0,0,0,0,0,0,0,{"$f":"JRH180+JRH174+JRH168+JRH155+JRH142+JRH131+JRH126+JRH110+JRH92+JRH76+JRH54+JRH22","v":0},0,0,0,0,0,0,0,0,0,0,0,0,0,0,0,0,0,0,0,0,0,0,0,0,0,0,0,0,0,0,0,0,0,0,0,0,0,0,0,0,0,0,0,0,0,0,0,0,0,0,0,0,0,0,0,0,0,0,0,0,0,0,0,{"$f":"JTT180+JTT174+JTT168+JTT155+JTT142+JTT131+JTT126+JTT110+JTT92+JTT76+JTT54+JTT22","v":0},0,0,0,0,0,0,0,0,0,0,0,0,0,0,0,0,0,0,0,0,0,0,0,0,0,0,0,0,0,0,0,0,0,0,0,0,0,0,0,0,0,0,0,0,0,0,0,0,0,0,0,0,0,0,0,0,0,0,0,0,0,0,0,{"$f":"JWF180+JWF174+JWF168+JWF155+JWF142+JWF131+JWF126+JWF110+JWF92+JWF76+JWF54+JWF22","v":0},0,0,0,0,0,0,0,0,0,0,0,0,0,0,0,0,0,0,0,0,0,0,0,0,0,0,0,0,0,0,0,0,0,0,0,0,0,0,0,0,0,0,0,0,0,0,0,0,0,0,0,0,0,0,0,0,0,0,0,0,0,0,0,{"$f":"JYR180+JYR174+JYR168+JYR155+JYR142+JYR131+JYR126+JYR110+JYR92+JYR76+JYR54+JYR22","v":0},0,0,0,0,0,0,0,0,0,0,0,0,0,0,0,0,0,0,0,0,0,0,0,0,0,0,0,0,0,0,0,0,0,0,0,0,0,0,0,0,0,0,0,0,0,0,0,0,0,0,0,0,0,0,0,0,0,0,0,0,0,0,0,{"$f":"KBD180+KBD174+KBD168+KBD155+KBD142+KBD131+KBD126+KBD110+KBD92+KBD76+KBD54+KBD22","v":0},0,0,0,0,0,0,0,0,0,0,0,0,0,0,0,0,0,0,0,0,0,0,0,0,0,0,0,0,0,0,0,0,0,0,0,0,0,0,0,0,0,0,0,0,0,0,0,0,0,0,0,0,0,0,0,0,0,0,0,0,0,0,0,{"$f":"KDP180+KDP174+KDP168+KDP155+KDP142+KDP131+KDP126+KDP110+KDP92+KDP76+KDP54+KDP22","v":0},0,0,0,0,0,0,0,0,0,0,0,0,0,0,0,0,0,0,0,0,0,0,0,0,0,0,0,0,0,0,0,0,0,0,0,0,0,0,0,0,0,0,0,0,0,0,0,0,0,0,0,0,0,0,0,0,0,0,0,0,0,0,0,{"$f":"KGB180+KGB174+KGB168+KGB155+KGB142+KGB131+KGB126+KGB110+KGB92+KGB76+KGB54+KGB22","v":0},0,0,0,0,0,0,0,0,0,0,0,0,0,0,0,0,0,0,0,0,0,0,0,0,0,0,0,0,0,0,0,0,0,0,0,0,0,0,0,0,0,0,0,0,0,0,0,0,0,0,0,0,0,0,0,0,0,0,0,0,0,0,0,{"$f":"KIN180+KIN174+KIN168+KIN155+KIN142+KIN131+KIN126+KIN110+KIN92+KIN76+KIN54+KIN22","v":0},0,0,0,0,0,0,0,0,0,0,0,0,0,0,0,0,0,0,0,0,0,0,0,0,0,0,0,0,0,0,0,0,0,0,0,0,0,0,0,0,0,0,0,0,0,0,0,0,0,0,0,0,0,0,0,0,0,0,0,0,0,0,0,{"$f":"KKZ180+KKZ174+KKZ168+KKZ155+KKZ142+KKZ131+KKZ126+KKZ110+KKZ92+KKZ76+KKZ54+KKZ22","v":0},0,0,0,0,0,0,0,0,0,0,0,0,0,0,0,0,0,0,0,0,0,0,0,0,0,0,0,0,0,0,0,0,0,0,0,0,0,0,0,0,0,0,0,0,0,0,0,0,0,0,0,0,0,0,0,0,0,0,0,0,0,0,0,{"$f":"KNL180+KNL174+KNL168+KNL155+KNL142+KNL131+KNL126+KNL110+KNL92+KNL76+KNL54+KNL22","v":0},0,0,0,0,0,0,0,0,0,0,0,0,0,0,0,0,0,0,0,0,0,0,0,0,0,0,0,0,0,0,0,0,0,0,0,0,0,0,0,0,0,0,0,0,0,0,0,0,0,0,0,0,0,0,0,0,0,0,0,0,0,0,0,{"$f":"KPX180+KPX174+KPX168+KPX155+KPX142+KPX131+KPX126+KPX110+KPX92+KPX76+KPX54+KPX22","v":0},0,0,0,0,0,0,0,0,0,0,0,0,0,0,0,0,0,0,0,0,0,0,0,0,0,0,0,0,0,0,0,0,0,0,0,0,0,0,0,0,0,0,0,0,0,0,0,0,0,0,0,0,0,0,0,0,0,0,0,0,0,0,0,{"$f":"KSJ180+KSJ174+KSJ168+KSJ155+KSJ142+KSJ131+KSJ126+KSJ110+KSJ92+KSJ76+KSJ54+KSJ22","v":0},0,0,0,0,0,0,0,0,0,0,0,0,0,0,0,0,0,0,0,0,0,0,0,0,0,0,0,0,0,0,0,0,0,0,0,0,0,0,0,0,0,0,0,0,0,0,0,0,0,0,0,0,0,0,0,0,0,0,0,0,0,0,0,{"$f":"KUV180+KUV174+KUV168+KUV155+KUV142+KUV131+KUV126+KUV110+KUV92+KUV76+KUV54+KUV22","v":0},0,0,0,0,0,0,0,0,0,0,0,0,0,0,0,0,0,0,0,0,0,0,0,0,0,0,0,0,0,0,0,0,0,0,0,0,0,0,0,0,0,0,0,0,0,0,0,0,0,0,0,0,0,0,0,0,0,0,0,0,0,0,0,{"$f":"KXH180+KXH174+KXH168+KXH155+KXH142+KXH131+KXH126+KXH110+KXH92+KXH76+KXH54+KXH22","v":0},0,0,0,0,0,0,0,0,0,0,0,0,0,0,0,0,0,0,0,0,0,0,0,0,0,0,0,0,0,0,0,0,0,0,0,0,0,0,0,0,0,0,0,0,0,0,0,0,0,0,0,0,0,0,0,0,0,0,0,0,0,0,0,{"$f":"KZT180+KZT174+KZT168+KZT155+KZT142+KZT131+KZT126+KZT110+KZT92+KZT76+KZT54+KZT22","v":0},0,0,0,0,0,0,0,0,0,0,0,0,0,0,0,0,0,0,0,0,0,0,0,0,0,0,0,0,0,0,0,0,0,0,0,0,0,0,0,0,0,0,0,0,0,0,0,0,0,0,0,0,0,0,0,0,0,0,0,0,0,0,0,{"$f":"LCF180+LCF174+LCF168+LCF155+LCF142+LCF131+LCF126+LCF110+LCF92+LCF76+LCF54+LCF22","v":0},0,0,0,0,0,0,0,0,0,0,0,0,0,0,0,0,0,0,0,0,0,0,0,0,0,0,0,0,0,0,0,0,0,0,0,0,0,0,0,0,0,0,0,0,0,0,0,0,0,0,0,0,0,0,0,0,0,0,0,0,0,0,0,{"$f":"LER180+LER174+LER168+LER155+LER142+LER131+LER126+LER110+LER92+LER76+LER54+LER22","v":0},0,0,0,0,0,0,0,0,0,0,0,0,0,0,0,0,0,0,0,0,0,0,0,0,0,0,0,0,0,0,0,0,0,0,0,0,0,0,0,0,0,0,0,0,0,0,0,0,0,0,0,0,0,0,0,0,0,0,0,0,0,0,0,{"$f":"LHD180+LHD174+LHD168+LHD155+LHD142+LHD131+LHD126+LHD110+LHD92+LHD76+LHD54+LHD22","v":0},0,0,0,0,0,0,0,0,0,0,0,0,0,0,0,0,0,0,0,0,0,0,0,0,0,0,0,0,0,0,0,0,0,0,0,0,0,0,0,0,0,0,0,0,0,0,0,0,0,0,0,0,0,0,0,0,0,0,0,0,0,0,0,{"$f":"LJP180+LJP174+LJP168+LJP155+LJP142+LJP131+LJP126+LJP110+LJP92+LJP76+LJP54+LJP22","v":0},0,0,0,0,0,0,0,0,0,0,0,0,0,0,0,0,0,0,0,0,0,0,0,0,0,0,0,0,0,0,0,0,0,0,0,0,0,0,0,0,0,0,0,0,0,0,0,0,0,0,0,0,0,0,0,0,0,0,0,0,0,0,0,{"$f":"LMB180+LMB174+LMB168+LMB155+LMB142+LMB131+LMB126+LMB110+LMB92+LMB76+LMB54+LMB22","v":0},0,0,0,0,0,0,0,0,0,0,0,0,0,0,0,0,0,0,0,0,0,0,0,0,0,0,0,0,0,0,0,0,0,0,0,0,0,0,0,0,0,0,0,0,0,0,0,0,0,0,0,0,0,0,0,0,0,0,0,0,0,0,0,{"$f":"LON180+LON174+LON168+LON155+LON142+LON131+LON126+LON110+LON92+LON76+LON54+LON22","v":0},0,0,0,0,0,0,0,0,0,0,0,0,0,0,0,0,0,0,0,0,0,0,0,0,0,0,0,0,0,0,0,0,0,0,0,0,0,0,0,0,0,0,0,0,0,0,0,0,0,0,0,0,0,0,0,0,0,0,0,0,0,0,0,{"$f":"LQZ180+LQZ174+LQZ168+LQZ155+LQZ142+LQZ131+LQZ126+LQZ110+LQZ92+LQZ76+LQZ54+LQZ22","v":0},0,0,0,0,0,0,0,0,0,0,0,0,0,0,0,0,0,0,0,0,0,0,0,0,0,0,0,0,0,0,0,0,0,0,0,0,0,0,0,0,0,0,0,0,0,0,0,0,0,0,0,0,0,0,0,0,0,0,0,0,0,0,0,{"$f":"LTL180+LTL174+LTL168+LTL155+LTL142+LTL131+LTL126+LTL110+LTL92+LTL76+LTL54+LTL22","v":0},0,0,0,0,0,0,0,0,0,0,0,0,0,0,0,0,0,0,0,0,0,0,0,0,0,0,0,0,0,0,0,0,0,0,0,0,0,0,0,0,0,0,0,0,0,0,0,0,0,0,0,0,0,0,0,0,0,0,0,0,0,0,0,{"$f":"LVX180+LVX174+LVX168+LVX155+LVX142+LVX131+LVX126+LVX110+LVX92+LVX76+LVX54+LVX22","v":0},0,0,0,0,0,0,0,0,0,0,0,0,0,0,0,0,0,0,0,0,0,0,0,0,0,0,0,0,0,0,0,0,0,0,0,0,0,0,0,0,0,0,0,0,0,0,0,0,0,0,0,0,0,0,0,0,0,0,0,0,0,0,0,{"$f":"LYJ180+LYJ174+LYJ168+LYJ155+LYJ142+LYJ131+LYJ126+LYJ110+LYJ92+LYJ76+LYJ54+LYJ22","v":0},0,0,0,0,0,0,0,0,0,0,0,0,0,0,0,0,0,0,0,0,0,0,0,0,0,0,0,0,0,0,0,0,0,0,0,0,0,0,0,0,0,0,0,0,0,0,0,0,0,0,0,0,0,0,0,0,0,0,0,0,0,0,0,{"$f":"MAV180+MAV174+MAV168+MAV155+MAV142+MAV131+MAV126+MAV110+MAV92+MAV76+MAV54+MAV22","v":0},0,0,0,0,0,0,0,0,0,0,0,0,0,0,0,0,0,0,0,0,0,0,0,0,0,0,0,0,0,0,0,0,0,0,0,0,0,0,0,0,0,0,0,0,0,0,0,0,0,0,0,0,0,0,0,0,0,0,0,0,0,0,0,{"$f":"MDH180+MDH174+MDH168+MDH155+MDH142+MDH131+MDH126+MDH110+MDH92+MDH76+MDH54+MDH22","v":0},0,0,0,0,0,0,0,0,0,0,0,0,0,0,0,0,0,0,0,0,0,0,0,0,0,0,0,0,0,0,0,0,0,0,0,0,0,0,0,0,0,0,0,0,0,0,0,0,0,0,0,0,0,0,0,0,0,0,0,0,0,0,0,{"$f":"MFT180+MFT174+MFT168+MFT155+MFT142+MFT131+MFT126+MFT110+MFT92+MFT76+MFT54+MFT22","v":0},0,0,0,0,0,0,0,0,0,0,0,0,0,0,0,0,0,0,0,0,0,0,0,0,0,0,0,0,0,0,0,0,0,0,0,0,0,0,0,0,0,0,0,0,0,0,0,0,0,0,0,0,0,0,0,0,0,0,0,0,0,0,0,{"$f":"MIF180+MIF174+MIF168+MIF155+MIF142+MIF131+MIF126+MIF110+MIF92+MIF76+MIF54+MIF22","v":0},0,0,0,0,0,0,0,0,0,0,0,0,0,0,0,0,0,0,0,0,0,0,0,0,0,0,0,0,0,0,0,0,0,0,0,0,0,0,0,0,0,0,0,0,0,0,0,0,0,0,0,0,0,0,0,0,0,0,0,0,0,0,0,{"$f":"MKR180+MKR174+MKR168+MKR155+MKR142+MKR131+MKR126+MKR110+MKR92+MKR76+MKR54+MKR22","v":0},0,0,0,0,0,0,0,0,0,0,0,0,0,0,0,0,0,0,0,0,0,0,0,0,0,0,0,0,0,0,0,0,0,0,0,0,0,0,0,0,0,0,0,0,0,0,0,0,0,0,0,0,0,0,0,0,0,0,0,0,0,0,0,{"$f":"MND180+MND174+MND168+MND155+MND142+MND131+MND126+MND110+MND92+MND76+MND54+MND22","v":0},0,0,0,0,0,0,0,0,0,0,0,0,0,0,0,0,0,0,0,0,0,0,0,0,0,0,0,0,0,0,0,0,0,0,0,0,0,0,0,0,0,0,0,0,0,0,0,0,0,0,0,0,0,0,0,0,0,0,0,0,0,0,0,{"$f":"MPP180+MPP174+MPP168+MPP155+MPP142+MPP131+MPP126+MPP110+MPP92+MPP76+MPP54+MPP22","v":0},0,0,0,0,0,0,0,0,0,0,0,0,0,0,0,0,0,0,0,0,0,0,0,0,0,0,0,0,0,0,0,0,0,0,0,0,0,0,0,0,0,0,0,0,0,0,0,0,0,0,0,0,0,0,0,0,0,0,0,0,0,0,0,{"$f":"MSB180+MSB174+MSB168+MSB155+MSB142+MSB131+MSB126+MSB110+MSB92+MSB76+MSB54+MSB22","v":0},0,0,0,0,0,0,0,0,0,0,0,0,0,0,0,0,0,0,0,0,0,0,0,0,0,0,0,0,0,0,0,0,0,0,0,0,0,0,0,0,0,0,0,0,0,0,0,0,0,0,0,0,0,0,0,0,0,0,0,0,0,0,0,{"$f":"MUN180+MUN174+MUN168+MUN155+MUN142+MUN131+MUN126+MUN110+MUN92+MUN76+MUN54+MUN22","v":0},0,0,0,0,0,0,0,0,0,0,0,0,0,0,0,0,0,0,0,0,0,0,0,0,0,0,0,0,0,0,0,0,0,0,0,0,0,0,0,0,0,0,0,0,0,0,0,0,0,0,0,0,0,0,0,0,0,0,0,0,0,0,0,{"$f":"MWZ180+MWZ174+MWZ168+MWZ155+MWZ142+MWZ131+MWZ126+MWZ110+MWZ92+MWZ76+MWZ54+MWZ22","v":0},0,0,0,0,0,0,0,0,0,0,0,0,0,0,0,0,0,0,0,0,0,0,0,0,0,0,0,0,0,0,0,0,0,0,0,0,0,0,0,0,0,0,0,0,0,0,0,0,0,0,0,0,0,0,0,0,0,0,0,0,0,0,0,{"$f":"MZL180+MZL174+MZL168+MZL155+MZL142+MZL131+MZL126+MZL110+MZL92+MZL76+MZL54+MZL22","v":0},0,0,0,0,0,0,0,0,0,0,0,0,0,0,0,0,0,0,0,0,0,0,0,0,0,0,0,0,0,0,0,0,0,0,0,0,0,0,0,0,0,0,0,0,0,0,0,0,0,0,0,0,0,0,0,0,0,0,0,0,0,0,0,{"$f":"NBX180+NBX174+NBX168+NBX155+NBX142+NBX131+NBX126+NBX110+NBX92+NBX76+NBX54+NBX22","v":0},0,0,0,0,0,0,0,0,0,0,0,0,0,0,0,0,0,0,0,0,0,0,0,0,0,0,0,0,0,0,0,0,0,0,0,0,0,0,0,0,0,0,0,0,0,0,0,0,0,0,0,0,0,0,0,0,0,0,0,0,0,0,0,{"$f":"NEJ180+NEJ174+NEJ168+NEJ155+NEJ142+NEJ131+NEJ126+NEJ110+NEJ92+NEJ76+NEJ54+NEJ22","v":0},0,0,0,0,0,0,0,0,0,0,0,0,0,0,0,0,0,0,0,0,0,0,0,0,0,0,0,0,0,0,0,0,0,0,0,0,0,0,0,0,0,0,0,0,0,0,0,0,0,0,0,0,0,0,0,0,0,0,0,0,0,0,0,{"$f":"NGV180+NGV174+NGV168+NGV155+NGV142+NGV131+NGV126+NGV110+NGV92+NGV76+NGV54+NGV22","v":0},0,0,0,0,0,0,0,0,0,0,0,0,0,0,0,0,0,0,0,0,0,0,0,0,0,0,0,0,0,0,0,0,0,0,0,0,0,0,0,0,0,0,0,0,0,0,0,0,0,0,0,0,0,0,0,0,0,0,0,0,0,0,0,{"$f":"NJH180+NJH174+NJH168+NJH155+NJH142+NJH131+NJH126+NJH110+NJH92+NJH76+NJH54+NJH22","v":0},0,0,0,0,0,0,0,0,0,0,0,0,0,0,0,0,0,0,0,0,0,0,0,0,0,0,0,0,0,0,0,0,0,0,0,0,0,0,0,0,0,0,0,0,0,0,0,0,0,0,0,0,0,0,0,0,0,0,0,0,0,0,0,{"$f":"NLT180+NLT174+NLT168+NLT155+NLT142+NLT131+NLT126+NLT110+NLT92+NLT76+NLT54+NLT22","v":0},0,0,0,0,0,0,0,0,0,0,0,0,0,0,0,0,0,0,0,0,0,0,0,0,0,0,0,0,0,0,0,0,0,0,0,0,0,0,0,0,0,0,0,0,0,0,0,0,0,0,0,0,0,0,0,0,0,0,0,0,0,0,0,{"$f":"NOF180+NOF174+NOF168+NOF155+NOF142+NOF131+NOF126+NOF110+NOF92+NOF76+NOF54+NOF22","v":0},0,0,0,0,0,0,0,0,0,0,0,0,0,0,0,0,0,0,0,0,0,0,0,0,0,0,0,0,0,0,0,0,0,0,0,0,0,0,0,0,0,0,0,0,0,0,0,0,0,0,0,0,0,0,0,0,0,0,0,0,0,0,0,{"$f":"NQR180+NQR174+NQR168+NQR155+NQR142+NQR131+NQR126+NQR110+NQR92+NQR76+NQR54+NQR22","v":0},0,0,0,0,0,0,0,0,0,0,0,0,0,0,0,0,0,0,0,0,0,0,0,0,0,0,0,0,0,0,0,0,0,0,0,0,0,0,0,0,0,0,0,0,0,0,0,0,0,0,0,0,0,0,0,0,0,0,0,0,0,0,0,{"$f":"NTD180+NTD174+NTD168+NTD155+NTD142+NTD131+NTD126+NTD110+NTD92+NTD76+NTD54+NTD22","v":0},0,0,0,0,0,0,0,0,0,0,0,0,0,0,0,0,0,0,0,0,0,0,0,0,0,0,0,0,0,0,0,0,0,0,0,0,0,0,0,0,0,0,0,0,0,0,0,0,0,0,0,0,0,0,0,0,0,0,0,0,0,0,0,{"$f":"NVP180+NVP174+NVP168+NVP155+NVP142+NVP131+NVP126+NVP110+NVP92+NVP76+NVP54+NVP22","v":0},0,0,0,0,0,0,0,0,0,0,0,0,0,0,0,0,0,0,0,0,0,0,0,0,0,0,0,0,0,0,0,0,0,0,0,0,0,0,0,0,0,0,0,0,0,0,0,0,0,0,0,0,0,0,0,0,0,0,0,0,0,0,0,{"$f":"NYB180+NYB174+NYB168+NYB155+NYB142+NYB131+NYB126+NYB110+NYB92+NYB76+NYB54+NYB22","v":0},0,0,0,0,0,0,0,0,0,0,0,0,0,0,0,0,0,0,0,0,0,0,0,0,0,0,0,0,0,0,0,0,0,0,0,0,0,0,0,0,0,0,0,0,0,0,0,0,0,0,0,0,0,0,0,0,0,0,0,0,0,0,0,{"$f":"OAN180+OAN174+OAN168+OAN155+OAN142+OAN131+OAN126+OAN110+OAN92+OAN76+OAN54+OAN22","v":0},0,0,0,0,0,0,0,0,0,0,0,0,0,0,0,0,0,0,0,0,0,0,0,0,0,0,0,0,0,0,0,0,0,0,0,0,0,0,0,0,0,0,0,0,0,0,0,0,0,0,0,0,0,0,0,0,0,0,0,0,0,0,0,{"$f":"OCZ180+OCZ174+OCZ168+OCZ155+OCZ142+OCZ131+OCZ126+OCZ110+OCZ92+OCZ76+OCZ54+OCZ22","v":0},0,0,0,0,0,0,0,0,0,0,0,0,0,0,0,0,0,0,0,0,0,0,0,0,0,0,0,0,0,0,0,0,0,0,0,0,0,0,0,0,0,0,0,0,0,0,0,0,0,0,0,0,0,0,0,0,0,0,0,0,0,0,0,{"$f":"OFL180+OFL174+OFL168+OFL155+OFL142+OFL131+OFL126+OFL110+OFL92+OFL76+OFL54+OFL22","v":0},0,0,0,0,0,0,0,0,0,0,0,0,0,0,0,0,0,0,0,0,0,0,0,0,0,0,0,0,0,0,0,0,0,0,0,0,0,0,0,0,0,0,0,0,0,0,0,0,0,0,0,0,0,0,0,0,0,0,0,0,0,0,0,{"$f":"OHX180+OHX174+OHX168+OHX155+OHX142+OHX131+OHX126+OHX110+OHX92+OHX76+OHX54+OHX22","v":0},0,0,0,0,0,0,0,0,0,0,0,0,0,0,0,0,0,0,0,0,0,0,0,0,0,0,0,0,0,0,0,0,0,0,0,0,0,0,0,0,0,0,0,0,0,0,0,0,0,0,0,0,0,0,0,0,0,0,0,0,0,0,0,{"$f":"OKJ180+OKJ174+OKJ168+OKJ155+OKJ142+OKJ131+OKJ126+OKJ110+OKJ92+OKJ76+OKJ54+OKJ22","v":0},0,0,0,0,0,0,0,0,0,0,0,0,0,0,0,0,0,0,0,0,0,0,0,0,0,0,0,0,0,0,0,0,0,0,0,0,0,0,0,0,0,0,0,0,0,0,0,0,0,0,0,0,0,0,0,0,0,0,0,0,0,0,0,{"$f":"OMV180+OMV174+OMV168+OMV155+OMV142+OMV131+OMV126+OMV110+OMV92+OMV76+OMV54+OMV22","v":0},0,0,0,0,0,0,0,0,0,0,0,0,0,0,0,0,0,0,0,0,0,0,0,0,0,0,0,0,0,0,0,0,0,0,0,0,0,0,0,0,0,0,0,0,0,0,0,0,0,0,0,0,0,0,0,0,0,0,0,0,0,0,0,{"$f":"OPH180+OPH174+OPH168+OPH155+OPH142+OPH131+OPH126+OPH110+OPH92+OPH76+OPH54+OPH22","v":0},0,0,0,0,0,0,0,0,0,0,0,0,0,0,0,0,0,0,0,0,0,0,0,0,0,0,0,0,0,0,0,0,0,0,0,0,0,0,0,0,0,0,0,0,0,0,0,0,0,0,0,0,0,0,0,0,0,0,0,0,0,0,0,{"$f":"ORT180+ORT174+ORT168+ORT155+ORT142+ORT131+ORT126+ORT110+ORT92+ORT76+ORT54+ORT22","v":0},0,0,0,0,0,0,0,0,0,0,0,0,0,0,0,0,0,0,0,0,0,0,0,0,0,0,0,0,0,0,0,0,0,0,0,0,0,0,0,0,0,0,0,0,0,0,0,0,0,0,0,0,0,0,0,0,0,0,0,0,0,0,0,{"$f":"OUF180+OUF174+OUF168+OUF155+OUF142+OUF131+OUF126+OUF110+OUF92+OUF76+OUF54+OUF22","v":0},0,0,0,0,0,0,0,0,0,0,0,0,0,0,0,0,0,0,0,0,0,0,0,0,0,0,0,0,0,0,0,0,0,0,0,0,0,0,0,0,0,0,0,0,0,0,0,0,0,0,0,0,0,0,0,0,0,0,0,0,0,0,0,{"$f":"OWR180+OWR174+OWR168+OWR155+OWR142+OWR131+OWR126+OWR110+OWR92+OWR76+OWR54+OWR22","v":0},0,0,0,0,0,0,0,0,0,0,0,0,0,0,0,0,0,0,0,0,0,0,0,0,0,0,0,0,0,0,0,0,0,0,0,0,0,0,0,0,0,0,0,0,0,0,0,0,0,0,0,0,0,0,0,0,0,0,0,0,0,0,0,{"$f":"OZD180+OZD174+OZD168+OZD155+OZD142+OZD131+OZD126+OZD110+OZD92+OZD76+OZD54+OZD22","v":0},0,0,0,0,0,0,0,0,0,0,0,0,0,0,0,0,0,0,0,0,0,0,0,0,0,0,0,0,0,0,0,0,0,0,0,0,0,0,0,0,0,0,0,0,0,0,0,0,0,0,0,0,0,0,0,0,0,0,0,0,0,0,0,{"$f":"PBP180+PBP174+PBP168+PBP155+PBP142+PBP131+PBP126+PBP110+PBP92+PBP76+PBP54+PBP22","v":0},0,0,0,0,0,0,0,0,0,0,0,0,0,0,0,0,0,0,0,0,0,0,0,0,0,0,0,0,0,0,0,0,0,0,0,0,0,0,0,0,0,0,0,0,0,0,0,0,0,0,0,0,0,0,0,0,0,0,0,0,0,0,0,{"$f":"PEB180+PEB174+PEB168+PEB155+PEB142+PEB131+PEB126+PEB110+PEB92+PEB76+PEB54+PEB22","v":0},0,0,0,0,0,0,0,0,0,0,0,0,0,0,0,0,0,0,0,0,0,0,0,0,0,0,0,0,0,0,0,0,0,0,0,0,0,0,0,0,0,0,0,0,0,0,0,0,0,0,0,0,0,0,0,0,0,0,0,0,0,0,0,{"$f":"PGN180+PGN174+PGN168+PGN155+PGN142+PGN131+PGN126+PGN110+PGN92+PGN76+PGN54+PGN22","v":0},0,0,0,0,0,0,0,0,0,0,0,0,0,0,0,0,0,0,0,0,0,0,0,0,0,0,0,0,0,0,0,0,0,0,0,0,0,0,0,0,0,0,0,0,0,0,0,0,0,0,0,0,0,0,0,0,0,0,0,0,0,0,0,{"$f":"PIZ180+PIZ174+PIZ168+PIZ155+PIZ142+PIZ131+PIZ126+PIZ110+PIZ92+PIZ76+PIZ54+PIZ22","v":0},0,0,0,0,0,0,0,0,0,0,0,0,0,0,0,0,0,0,0,0,0,0,0,0,0,0,0,0,0,0,0,0,0,0,0,0,0,0,0,0,0,0,0,0,0,0,0,0,0,0,0,0,0,0,0,0,0,0,0,0,0,0,0,{"$f":"PLL180+PLL174+PLL168+PLL155+PLL142+PLL131+PLL126+PLL110+PLL92+PLL76+PLL54+PLL22","v":0},0,0,0,0,0,0,0,0,0,0,0,0,0,0,0,0,0,0,0,0,0,0,0,0,0,0,0,0,0,0,0,0,0,0,0,0,0,0,0,0,0,0,0,0,0,0,0,0,0,0,0,0,0,0,0,0,0,0,0,0,0,0,0,{"$f":"PNX180+PNX174+PNX168+PNX155+PNX142+PNX131+PNX126+PNX110+PNX92+PNX76+PNX54+PNX22","v":0},0,0,0,0,0,0,0,0,0,0,0,0,0,0,0,0,0,0,0,0,0,0,0,0,0,0,0,0,0,0,0,0,0,0,0,0,0,0,0,0,0,0,0,0,0,0,0,0,0,0,0,0,0,0,0,0,0,0,0,0,0,0,0,{"$f":"PQJ180+PQJ174+PQJ168+PQJ155+PQJ142+PQJ131+PQJ126+PQJ110+PQJ92+PQJ76+PQJ54+PQJ22","v":0},0,0,0,0,0,0,0,0,0,0,0,0,0,0,0,0,0,0,0,0,0,0,0,0,0,0,0,0,0,0,0,0,0,0,0,0,0,0,0,0,0,0,0,0,0,0,0,0,0,0,0,0,0,0,0,0,0,0,0,0,0,0,0,{"$f":"PSV180+PSV174+PSV168+PSV155+PSV142+PSV131+PSV126+PSV110+PSV92+PSV76+PSV54+PSV22","v":0},0,0,0,0,0,0,0,0,0,0,0,0,0,0,0,0,0,0,0,0,0,0,0,0,0,0,0,0,0,0,0,0,0,0,0,0,0,0,0,0,0,0,0,0,0,0,0,0,0,0,0,0,0,0,0,0,0,0,0,0,0,0,0,{"$f":"PVH180+PVH174+PVH168+PVH155+PVH142+PVH131+PVH126+PVH110+PVH92+PVH76+PVH54+PVH22","v":0},0,0,0,0,0,0,0,0,0,0,0,0,0,0,0,0,0,0,0,0,0,0,0,0,0,0,0,0,0,0,0,0,0,0,0,0,0,0,0,0,0,0,0,0,0,0,0,0,0,0,0,0,0,0,0,0,0,0,0,0,0,0,0,{"$f":"PXT180+PXT174+PXT168+PXT155+PXT142+PXT131+PXT126+PXT110+PXT92+PXT76+PXT54+PXT22","v":0},0,0,0,0,0,0,0,0,0,0,0,0,0,0,0,0,0,0,0,0,0,0,0,0,0,0,0,0,0,0,0,0,0,0,0,0,0,0,0,0,0,0,0,0,0,0,0,0,0,0,0,0,0,0,0,0,0,0,0,0,0,0,0,{"$f":"QAF180+QAF174+QAF168+QAF155+QAF142+QAF131+QAF126+QAF110+QAF92+QAF76+QAF54+QAF22","v":0},0,0,0,0,0,0,0,0,0,0,0,0,0,0,0,0,0,0,0,0,0,0,0,0,0,0,0,0,0,0,0,0,0,0,0,0,0,0,0,0,0,0,0,0,0,0,0,0,0,0,0,0,0,0,0,0,0,0,0,0,0,0,0,{"$f":"QCR180+QCR174+QCR168+QCR155+QCR142+QCR131+QCR126+QCR110+QCR92+QCR76+QCR54+QCR22","v":0},0,0,0,0,0,0,0,0,0,0,0,0,0,0,0,0,0,0,0,0,0,0,0,0,0,0,0,0,0,0,0,0,0,0,0,0,0,0,0,0,0,0,0,0,0,0,0,0,0,0,0,0,0,0,0,0,0,0,0,0,0,0,0,{"$f":"QFD180+QFD174+QFD168+QFD155+QFD142+QFD131+QFD126+QFD110+QFD92+QFD76+QFD54+QFD22","v":0},0,0,0,0,0,0,0,0,0,0,0,0,0,0,0,0,0,0,0,0,0,0,0,0,0,0,0,0,0,0,0,0,0,0,0,0,0,0,0,0,0,0,0,0,0,0,0,0,0,0,0,0,0,0,0,0,0,0,0,0,0,0,0,{"$f":"QHP180+QHP174+QHP168+QHP155+QHP142+QHP131+QHP126+QHP110+QHP92+QHP76+QHP54+QHP22","v":0},0,0,0,0,0,0,0,0,0,0,0,0,0,0,0,0,0,0,0,0,0,0,0,0,0,0,0,0,0,0,0,0,0,0,0,0,0,0,0,0,0,0,0,0,0,0,0,0,0,0,0,0,0,0,0,0,0,0,0,0,0,0,0,{"$f":"QKB180+QKB174+QKB168+QKB155+QKB142+QKB131+QKB126+QKB110+QKB92+QKB76+QKB54+QKB22","v":0},0,0,0,0,0,0,0,0,0,0,0,0,0,0,0,0,0,0,0,0,0,0,0,0,0,0,0,0,0,0,0,0,0,0,0,0,0,0,0,0,0,0,0,0,0,0,0,0,0,0,0,0,0,0,0,0,0,0,0,0,0,0,0,{"$f":"QMN180+QMN174+QMN168+QMN155+QMN142+QMN131+QMN126+QMN110+QMN92+QMN76+QMN54+QMN22","v":0},0,0,0,0,0,0,0,0,0,0,0,0,0,0,0,0,0,0,0,0,0,0,0,0,0,0,0,0,0,0,0,0,0,0,0,0,0,0,0,0,0,0,0,0,0,0,0,0,0,0,0,0,0,0,0,0,0,0,0,0,0,0,0,{"$f":"QOZ180+QOZ174+QOZ168+QOZ155+QOZ142+QOZ131+QOZ126+QOZ110+QOZ92+QOZ76+QOZ54+QOZ22","v":0},0,0,0,0,0,0,0,0,0,0,0,0,0,0,0,0,0,0,0,0,0,0,0,0,0,0,0,0,0,0,0,0,0,0,0,0,0,0,0,0,0,0,0,0,0,0,0,0,0,0,0,0,0,0,0,0,0,0,0,0,0,0,0,{"$f":"QRL180+QRL174+QRL168+QRL155+QRL142+QRL131+QRL126+QRL110+QRL92+QRL76+QRL54+QRL22","v":0},0,0,0,0,0,0,0,0,0,0,0,0,0,0,0,0,0,0,0,0,0,0,0,0,0,0,0,0,0,0,0,0,0,0,0,0,0,0,0,0,0,0,0,0,0,0,0,0,0,0,0,0,0,0,0,0,0,0,0,0,0,0,0,{"$f":"QTX180+QTX174+QTX168+QTX155+QTX142+QTX131+QTX126+QTX110+QTX92+QTX76+QTX54+QTX22","v":0},0,0,0,0,0,0,0,0,0,0,0,0,0,0,0,0,0,0,0,0,0,0,0,0,0,0,0,0,0,0,0,0,0,0,0,0,0,0,0,0,0,0,0,0,0,0,0,0,0,0,0,0,0,0,0,0,0,0,0,0,0,0,0,{"$f":"QWJ180+QWJ174+QWJ168+QWJ155+QWJ142+QWJ131+QWJ126+QWJ110+QWJ92+QWJ76+QWJ54+QWJ22","v":0},0,0,0,0,0,0,0,0,0,0,0,0,0,0,0,0,0,0,0,0,0,0,0,0,0,0,0,0,0,0,0,0,0,0,0,0,0,0,0,0,0,0,0,0,0,0,0,0,0,0,0,0,0,0,0,0,0,0,0,0,0,0,0,{"$f":"QYV180+QYV174+QYV168+QYV155+QYV142+QYV131+QYV126+QYV110+QYV92+QYV76+QYV54+QYV22","v":0},0,0,0,0,0,0,0,0,0,0,0,0,0,0,0,0,0,0,0,0,0,0,0,0,0,0,0,0,0,0,0,0,0,0,0,0,0,0,0,0,0,0,0,0,0,0,0,0,0,0,0,0,0,0,0,0,0,0,0,0,0,0,0,{"$f":"RBH180+RBH174+RBH168+RBH155+RBH142+RBH131+RBH126+RBH110+RBH92+RBH76+RBH54+RBH22","v":0},0,0,0,0,0,0,0,0,0,0,0,0,0,0,0,0,0,0,0,0,0,0,0,0,0,0,0,0,0,0,0,0,0,0,0,0,0,0,0,0,0,0,0,0,0,0,0,0,0,0,0,0,0,0,0,0,0,0,0,0,0,0,0,{"$f":"RDT180+RDT174+RDT168+RDT155+RDT142+RDT131+RDT126+RDT110+RDT92+RDT76+RDT54+RDT22","v":0},0,0,0,0,0,0,0,0,0,0,0,0,0,0,0,0,0,0,0,0,0,0,0,0,0,0,0,0,0,0,0,0,0,0,0,0,0,0,0,0,0,0,0,0,0,0,0,0,0,0,0,0,0,0,0,0,0,0,0,0,0,0,0,{"$f":"RGF180+RGF174+RGF168+RGF155+RGF142+RGF131+RGF126+RGF110+RGF92+RGF76+RGF54+RGF22","v":0},0,0,0,0,0,0,0,0,0,0,0,0,0,0,0,0,0,0,0,0,0,0,0,0,0,0,0,0,0,0,0,0,0,0,0,0,0,0,0,0,0,0,0,0,0,0,0,0,0,0,0,0,0,0,0,0,0,0,0,0,0,0,0,{"$f":"RIR180+RIR174+RIR168+RIR155+RIR142+RIR131+RIR126+RIR110+RIR92+RIR76+RIR54+RIR22","v":0},0,0,0,0,0,0,0,0,0,0,0,0,0,0,0,0,0,0,0,0,0,0,0,0,0,0,0,0,0,0,0,0,0,0,0,0,0,0,0,0,0,0,0,0,0,0,0,0,0,0,0,0,0,0,0,0,0,0,0,0,0,0,0,{"$f":"RLD180+RLD174+RLD168+RLD155+RLD142+RLD131+RLD126+RLD110+RLD92+RLD76+RLD54+RLD22","v":0},0,0,0,0,0,0,0,0,0,0,0,0,0,0,0,0,0,0,0,0,0,0,0,0,0,0,0,0,0,0,0,0,0,0,0,0,0,0,0,0,0,0,0,0,0,0,0,0,0,0,0,0,0,0,0,0,0,0,0,0,0,0,0,{"$f":"RNP180+RNP174+RNP168+RNP155+RNP142+RNP131+RNP126+RNP110+RNP92+RNP76+RNP54+RNP22","v":0},0,0,0,0,0,0,0,0,0,0,0,0,0,0,0,0,0,0,0,0,0,0,0,0,0,0,0,0,0,0,0,0,0,0,0,0,0,0,0,0,0,0,0,0,0,0,0,0,0,0,0,0,0,0,0,0,0,0,0,0,0,0,0,{"$f":"RQB180+RQB174+RQB168+RQB155+RQB142+RQB131+RQB126+RQB110+RQB92+RQB76+RQB54+RQB22","v":0},0,0,0,0,0,0,0,0,0,0,0,0,0,0,0,0,0,0,0,0,0,0,0,0,0,0,0,0,0,0,0,0,0,0,0,0,0,0,0,0,0,0,0,0,0,0,0,0,0,0,0,0,0,0,0,0,0,0,0,0,0,0,0,{"$f":"RSN180+RSN174+RSN168+RSN155+RSN142+RSN131+RSN126+RSN110+RSN92+RSN76+RSN54+RSN22","v":0},0,0,0,0,0,0,0,0,0,0,0,0,0,0,0,0,0,0,0,0,0,0,0,0,0,0,0,0,0,0,0,0,0,0,0,0,0,0,0,0,0,0,0,0,0,0,0,0,0,0,0,0,0,0,0,0,0,0,0,0,0,0,0,{"$f":"RUZ180+RUZ174+RUZ168+RUZ155+RUZ142+RUZ131+RUZ126+RUZ110+RUZ92+RUZ76+RUZ54+RUZ22","v":0},0,0,0,0,0,0,0,0,0,0,0,0,0,0,0,0,0,0,0,0,0,0,0,0,0,0,0,0,0,0,0,0,0,0,0,0,0,0,0,0,0,0,0,0,0,0,0,0,0,0,0,0,0,0,0,0,0,0,0,0,0,0,0,{"$f":"RXL180+RXL174+RXL168+RXL155+RXL142+RXL131+RXL126+RXL110+RXL92+RXL76+RXL54+RXL22","v":0},0,0,0,0,0,0,0,0,0,0,0,0,0,0,0,0,0,0,0,0,0,0,0,0,0,0,0,0,0,0,0,0,0,0,0,0,0,0,0,0,0,0,0,0,0,0,0,0,0,0,0,0,0,0,0,0,0,0,0,0,0,0,0,{"$f":"RZX180+RZX174+RZX168+RZX155+RZX142+RZX131+RZX126+RZX110+RZX92+RZX76+RZX54+RZX22","v":0},0,0,0,0,0,0,0,0,0,0,0,0,0,0,0,0,0,0,0,0,0,0,0,0,0,0,0,0,0,0,0,0,0,0,0,0,0,0,0,0,0,0,0,0,0,0,0,0,0,0,0,0,0,0,0,0,0,0,0,0,0,0,0,{"$f":"SCJ180+SCJ174+SCJ168+SCJ155+SCJ142+SCJ131+SCJ126+SCJ110+SCJ92+SCJ76+SCJ54+SCJ22","v":0},0,0,0,0,0,0,0,0,0,0,0,0,0,0,0,0,0,0,0,0,0,0,0,0,0,0,0,0,0,0,0,0,0,0,0,0,0,0,0,0,0,0,0,0,0,0,0,0,0,0,0,0,0,0,0,0,0,0,0,0,0,0,0,{"$f":"SEV180+SEV174+SEV168+SEV155+SEV142+SEV131+SEV126+SEV110+SEV92+SEV76+SEV54+SEV22","v":0},0,0,0,0,0,0,0,0,0,0,0,0,0,0,0,0,0,0,0,0,0,0,0,0,0,0,0,0,0,0,0,0,0,0,0,0,0,0,0,0,0,0,0,0,0,0,0,0,0,0,0,0,0,0,0,0,0,0,0,0,0,0,0,{"$f":"SHH180+SHH174+SHH168+SHH155+SHH142+SHH131+SHH126+SHH110+SHH92+SHH76+SHH54+SHH22","v":0},0,0,0,0,0,0,0,0,0,0,0,0,0,0,0,0,0,0,0,0,0,0,0,0,0,0,0,0,0,0,0,0,0,0,0,0,0,0,0,0,0,0,0,0,0,0,0,0,0,0,0,0,0,0,0,0,0,0,0,0,0,0,0,{"$f":"SJT180+SJT174+SJT168+SJT155+SJT142+SJT131+SJT126+SJT110+SJT92+SJT76+SJT54+SJT22","v":0},0,0,0,0,0,0,0,0,0,0,0,0,0,0,0,0,0,0,0,0,0,0,0,0,0,0,0,0,0,0,0,0,0,0,0,0,0,0,0,0,0,0,0,0,0,0,0,0,0,0,0,0,0,0,0,0,0,0,0,0,0,0,0,{"$f":"SMF180+SMF174+SMF168+SMF155+SMF142+SMF131+SMF126+SMF110+SMF92+SMF76+SMF54+SMF22","v":0},0,0,0,0,0,0,0,0,0,0,0,0,0,0,0,0,0,0,0,0,0,0,0,0,0,0,0,0,0,0,0,0,0,0,0,0,0,0,0,0,0,0,0,0,0,0,0,0,0,0,0,0,0,0,0,0,0,0,0,0,0,0,0,{"$f":"SOR180+SOR174+SOR168+SOR155+SOR142+SOR131+SOR126+SOR110+SOR92+SOR76+SOR54+SOR22","v":0},0,0,0,0,0,0,0,0,0,0,0,0,0,0,0,0,0,0,0,0,0,0,0,0,0,0,0,0,0,0,0,0,0,0,0,0,0,0,0,0,0,0,0,0,0,0,0,0,0,0,0,0,0,0,0,0,0,0,0,0,0,0,0,{"$f":"SRD180+SRD174+SRD168+SRD155+SRD142+SRD131+SRD126+SRD110+SRD92+SRD76+SRD54+SRD22","v":0},0,0,0,0,0,0,0,0,0,0,0,0,0,0,0,0,0,0,0,0,0,0,0,0,0,0,0,0,0,0,0,0,0,0,0,0,0,0,0,0,0,0,0,0,0,0,0,0,0,0,0,0,0,0,0,0,0,0,0,0,0,0,0,{"$f":"STP180+STP174+STP168+STP155+STP142+STP131+STP126+STP110+STP92+STP76+STP54+STP22","v":0},0,0,0,0,0,0,0,0,0,0,0,0,0,0,0,0,0,0,0,0,0,0,0,0,0,0,0,0,0,0,0,0,0,0,0,0,0,0,0,0,0,0,0,0,0,0,0,0,0,0,0,0,0,0,0,0,0,0,0,0,0,0,0,{"$f":"SWB180+SWB174+SWB168+SWB155+SWB142+SWB131+SWB126+SWB110+SWB92+SWB76+SWB54+SWB22","v":0},0,0,0,0,0,0,0,0,0,0,0,0,0,0,0,0,0,0,0,0,0,0,0,0,0,0,0,0,0,0,0,0,0,0,0,0,0,0,0,0,0,0,0,0,0,0,0,0,0,0,0,0,0,0,0,0,0,0,0,0,0,0,0,{"$f":"SYN180+SYN174+SYN168+SYN155+SYN142+SYN131+SYN126+SYN110+SYN92+SYN76+SYN54+SYN22","v":0},0,0,0,0,0,0,0,0,0,0,0,0,0,0,0,0,0,0,0,0,0,0,0,0,0,0,0,0,0,0,0,0,0,0,0,0,0,0,0,0,0,0,0,0,0,0,0,0,0,0,0,0,0,0,0,0,0,0,0,0,0,0,0,{"$f":"TAZ180+TAZ174+TAZ168+TAZ155+TAZ142+TAZ131+TAZ126+TAZ110+TAZ92+TAZ76+TAZ54+TAZ22","v":0},0,0,0,0,0,0,0,0,0,0,0,0,0,0,0,0,0,0,0,0,0,0,0,0,0,0,0,0,0,0,0,0,0,0,0,0,0,0,0,0,0,0,0,0,0,0,0,0,0,0,0,0,0,0,0,0,0,0,0,0,0,0,0,{"$f":"TDL180+TDL174+TDL168+TDL155+TDL142+TDL131+TDL126+TDL110+TDL92+TDL76+TDL54+TDL22","v":0},0,0,0,0,0,0,0,0,0,0,0,0,0,0,0,0,0,0,0,0,0,0,0,0,0,0,0,0,0,0,0,0,0,0,0,0,0,0,0,0,0,0,0,0,0,0,0,0,0,0,0,0,0,0,0,0,0,0,0,0,0,0,0,{"$f":"TFX180+TFX174+TFX168+TFX155+TFX142+TFX131+TFX126+TFX110+TFX92+TFX76+TFX54+TFX22","v":0},0,0,0,0,0,0,0,0,0,0,0,0,0,0,0,0,0,0,0,0,0,0,0,0,0,0,0,0,0,0,0,0,0,0,0,0,0,0,0,0,0,0,0,0,0,0,0,0,0,0,0,0,0,0,0,0,0,0,0,0,0,0,0,{"$f":"TIJ180+TIJ174+TIJ168+TIJ155+TIJ142+TIJ131+TIJ126+TIJ110+TIJ92+TIJ76+TIJ54+TIJ22","v":0},0,0,0,0,0,0,0,0,0,0,0,0,0,0,0,0,0,0,0,0,0,0,0,0,0,0,0,0,0,0,0,0,0,0,0,0,0,0,0,0,0,0,0,0,0,0,0,0,0,0,0,0,0,0,0,0,0,0,0,0,0,0,0,{"$f":"TKV180+TKV174+TKV168+TKV155+TKV142+TKV131+TKV126+TKV110+TKV92+TKV76+TKV54+TKV22","v":0},0,0,0,0,0,0,0,0,0,0,0,0,0,0,0,0,0,0,0,0,0,0,0,0,0,0,0,0,0,0,0,0,0,0,0,0,0,0,0,0,0,0,0,0,0,0,0,0,0,0,0,0,0,0,0,0,0,0,0,0,0,0,0,{"$f":"TNH180+TNH174+TNH168+TNH155+TNH142+TNH131+TNH126+TNH110+TNH92+TNH76+TNH54+TNH22","v":0},0,0,0,0,0,0,0,0,0,0,0,0,0,0,0,0,0,0,0,0,0,0,0,0,0,0,0,0,0,0,0,0,0,0,0,0,0,0,0,0,0,0,0,0,0,0,0,0,0,0,0,0,0,0,0,0,0,0,0,0,0,0,0,{"$f":"TPT180+TPT174+TPT168+TPT155+TPT142+TPT131+TPT126+TPT110+TPT92+TPT76+TPT54+TPT22","v":0},0,0,0,0,0,0,0,0,0,0,0,0,0,0,0,0,0,0,0,0,0,0,0,0,0,0,0,0,0,0,0,0,0,0,0,0,0,0,0,0,0,0,0,0,0,0,0,0,0,0,0,0,0,0,0,0,0,0,0,0,0,0,0,{"$f":"TSF180+TSF174+TSF168+TSF155+TSF142+TSF131+TSF126+TSF110+TSF92+TSF76+TSF54+TSF22","v":0},0,0,0,0,0,0,0,0,0,0,0,0,0,0,0,0,0,0,0,0,0,0,0,0,0,0,0,0,0,0,0,0,0,0,0,0,0,0,0,0,0,0,0,0,0,0,0,0,0,0,0,0,0,0,0,0,0,0,0,0,0,0,0,{"$f":"TUR180+TUR174+TUR168+TUR155+TUR142+TUR131+TUR126+TUR110+TUR92+TUR76+TUR54+TUR22","v":0},0,0,0,0,0,0,0,0,0,0,0,0,0,0,0,0,0,0,0,0,0,0,0,0,0,0,0,0,0,0,0,0,0,0,0,0,0,0,0,0,0,0,0,0,0,0,0,0,0,0,0,0,0,0,0,0,0,0,0,0,0,0,0,{"$f":"TXD180+TXD174+TXD168+TXD155+TXD142+TXD131+TXD126+TXD110+TXD92+TXD76+TXD54+TXD22","v":0},0,0,0,0,0,0,0,0,0,0,0,0,0,0,0,0,0,0,0,0,0,0,0,0,0,0,0,0,0,0,0,0,0,0,0,0,0,0,0,0,0,0,0,0,0,0,0,0,0,0,0,0,0,0,0,0,0,0,0,0,0,0,0,{"$f":"TZP180+TZP174+TZP168+TZP155+TZP142+TZP131+TZP126+TZP110+TZP92+TZP76+TZP54+TZP22","v":0},0,0,0,0,0,0,0,0,0,0,0,0,0,0,0,0,0,0,0,0,0,0,0,0,0,0,0,0,0,0,0,0,0,0,0,0,0,0,0,0,0,0,0,0,0,0,0,0,0,0,0,0,0,0,0,0,0,0,0,0,0,0,0,{"$f":"UCB180+UCB174+UCB168+UCB155+UCB142+UCB131+UCB126+UCB110+UCB92+UCB76+UCB54+UCB22","v":0},0,0,0,0,0,0,0,0,0,0,0,0,0,0,0,0,0,0,0,0,0,0,0,0,0,0,0,0,0,0,0,0,0,0,0,0,0,0,0,0,0,0,0,0,0,0,0,0,0,0,0,0,0,0,0,0,0,0,0,0,0,0,0,{"$f":"UEN180+UEN174+UEN168+UEN155+UEN142+UEN131+UEN126+UEN110+UEN92+UEN76+UEN54+UEN22","v":0},0,0,0,0,0,0,0,0,0,0,0,0,0,0,0,0,0,0,0,0,0,0,0,0,0,0,0,0,0,0,0,0,0,0,0,0,0,0,0,0,0,0,0,0,0,0,0,0,0,0,0,0,0,0,0,0,0,0,0,0,0,0,0,{"$f":"UGZ180+UGZ174+UGZ168+UGZ155+UGZ142+UGZ131+UGZ126+UGZ110+UGZ92+UGZ76+UGZ54+UGZ22","v":0},0,0,0,0,0,0,0,0,0,0,0,0,0,0,0,0,0,0,0,0,0,0,0,0,0,0,0,0,0,0,0,0,0,0,0,0,0,0,0,0,0,0,0,0,0,0,0,0,0,0,0,0,0,0,0,0,0,0,0,0,0,0,0,{"$f":"UJL180+UJL174+UJL168+UJL155+UJL142+UJL131+UJL126+UJL110+UJL92+UJL76+UJL54+UJL22","v":0},0,0,0,0,0,0,0,0,0,0,0,0,0,0,0,0,0,0,0,0,0,0,0,0,0,0,0,0,0,0,0,0,0,0,0,0,0,0,0,0,0,0,0,0,0,0,0,0,0,0,0,0,0,0,0,0,0,0,0,0,0,0,0,{"$f":"ULX180+ULX174+ULX168+ULX155+ULX142+ULX131+ULX126+ULX110+ULX92+ULX76+ULX54+ULX22","v":0},0,0,0,0,0,0,0,0,0,0,0,0,0,0,0,0,0,0,0,0,0,0,0,0,0,0,0,0,0,0,0,0,0,0,0,0,0,0,0,0,0,0,0,0,0,0,0,0,0,0,0,0,0,0,0,0,0,0,0,0,0,0,0,{"$f":"UOJ180+UOJ174+UOJ168+UOJ155+UOJ142+UOJ131+UOJ126+UOJ110+UOJ92+UOJ76+UOJ54+UOJ22","v":0},0,0,0,0,0,0,0,0,0,0,0,0,0,0,0,0,0,0,0,0,0,0,0,0,0,0,0,0,0,0,0,0,0,0,0,0,0,0,0,0,0,0,0,0,0,0,0,0,0,0,0,0,0,0,0,0,0,0,0,0,0,0,0,{"$f":"UQV180+UQV174+UQV168+UQV155+UQV142+UQV131+UQV126+UQV110+UQV92+UQV76+UQV54+UQV22","v":0},0,0,0,0,0,0,0,0,0,0,0,0,0,0,0,0,0,0,0,0,0,0,0,0,0,0,0,0,0,0,0,0,0,0,0,0,0,0,0,0,0,0,0,0,0,0,0,0,0,0,0,0,0,0,0,0,0,0,0,0,0,0,0,{"$f":"UTH180+UTH174+UTH168+UTH155+UTH142+UTH131+UTH126+UTH110+UTH92+UTH76+UTH54+UTH22","v":0},0,0,0,0,0,0,0,0,0,0,0,0,0,0,0,0,0,0,0,0,0,0,0,0,0,0,0,0,0,0,0,0,0,0,0,0,0,0,0,0,0,0,0,0,0,0,0,0,0,0,0,0,0,0,0,0,0,0,0,0,0,0,0,{"$f":"UVT180+UVT174+UVT168+UVT155+UVT142+UVT131+UVT126+UVT110+UVT92+UVT76+UVT54+UVT22","v":0},0,0,0,0,0,0,0,0,0,0,0,0,0,0,0,0,0,0,0,0,0,0,0,0,0,0,0,0,0,0,0,0,0,0,0,0,0,0,0,0,0,0,0,0,0,0,0,0,0,0,0,0,0,0,0,0,0,0,0,0,0,0,0,{"$f":"UYF180+UYF174+UYF168+UYF155+UYF142+UYF131+UYF126+UYF110+UYF92+UYF76+UYF54+UYF22","v":0},0,0,0,0,0,0,0,0,0,0,0,0,0,0,0,0,0,0,0,0,0,0,0,0,0,0,0,0,0,0,0,0,0,0,0,0,0,0,0,0,0,0,0,0,0,0,0,0,0,0,0,0,0,0,0,0,0,0,0,0,0,0,0,{"$f":"VAR180+VAR174+VAR168+VAR155+VAR142+VAR131+VAR126+VAR110+VAR92+VAR76+VAR54+VAR22","v":0},0,0,0,0,0,0,0,0,0,0,0,0,0,0,0,0,0,0,0,0,0,0,0,0,0,0,0,0,0,0,0,0,0,0,0,0,0,0,0,0,0,0,0,0,0,0,0,0,0,0,0,0,0,0,0,0,0,0,0,0,0,0,0,{"$f":"VDD180+VDD174+VDD168+VDD155+VDD142+VDD131+VDD126+VDD110+VDD92+VDD76+VDD54+VDD22","v":0},0,0,0,0,0,0,0,0,0,0,0,0,0,0,0,0,0,0,0,0,0,0,0,0,0,0,0,0,0,0,0,0,0,0,0,0,0,0,0,0,0,0,0,0,0,0,0,0,0,0,0,0,0,0,0,0,0,0,0,0,0,0,0,{"$f":"VFP180+VFP174+VFP168+VFP155+VFP142+VFP131+VFP126+VFP110+VFP92+VFP76+VFP54+VFP22","v":0},0,0,0,0,0,0,0,0,0,0,0,0,0,0,0,0,0,0,0,0,0,0,0,0,0,0,0,0,0,0,0,0,0,0,0,0,0,0,0,0,0,0,0,0,0,0,0,0,0,0,0,0,0,0,0,0,0,0,0,0,0,0,0,{"$f":"VIB180+VIB174+VIB168+VIB155+VIB142+VIB131+VIB126+VIB110+VIB92+VIB76+VIB54+VIB22","v":0},0,0,0,0,0,0,0,0,0,0,0,0,0,0,0,0,0,0,0,0,0,0,0,0,0,0,0,0,0,0,0,0,0,0,0,0,0,0,0,0,0,0,0,0,0,0,0,0,0,0,0,0,0,0,0,0,0,0,0,0,0,0,0,{"$f":"VKN180+VKN174+VKN168+VKN155+VKN142+VKN131+VKN126+VKN110+VKN92+VKN76+VKN54+VKN22","v":0},0,0,0,0,0,0,0,0,0,0,0,0,0,0,0,0,0,0,0,0,0,0,0,0,0,0,0,0,0,0,0,0,0,0,0,0,0,0,0,0,0,0,0,0,0,0,0,0,0,0,0,0,0,0,0,0,0,0,0,0,0,0,0,{"$f":"VMZ180+VMZ174+VMZ168+VMZ155+VMZ142+VMZ131+VMZ126+VMZ110+VMZ92+VMZ76+VMZ54+VMZ22","v":0},0,0,0,0,0,0,0,0,0,0,0,0,0,0,0,0,0,0,0,0,0,0,0,0,0,0,0,0,0,0,0,0,0,0,0,0,0,0,0,0,0,0,0,0,0,0,0,0,0,0,0,0,0,0,0,0,0,0,0,0,0,0,0,{"$f":"VPL180+VPL174+VPL168+VPL155+VPL142+VPL131+VPL126+VPL110+VPL92+VPL76+VPL54+VPL22","v":0},0,0,0,0,0,0,0,0,0,0,0,0,0,0,0,0,0,0,0,0,0,0,0,0,0,0,0,0,0,0,0,0,0,0,0,0,0,0,0,0,0,0,0,0,0,0,0,0,0,0,0,0,0,0,0,0,0,0,0,0,0,0,0,{"$f":"VRX180+VRX174+VRX168+VRX155+VRX142+VRX131+VRX126+VRX110+VRX92+VRX76+VRX54+VRX22","v":0},0,0,0,0,0,0,0,0,0,0,0,0,0,0,0,0,0,0,0,0,0,0,0,0,0,0,0,0,0,0,0,0,0,0,0,0,0,0,0,0,0,0,0,0,0,0,0,0,0,0,0,0,0,0,0,0,0,0,0,0,0,0,0,{"$f":"VUJ180+VUJ174+VUJ168+VUJ155+VUJ142+VUJ131+VUJ126+VUJ110+VUJ92+VUJ76+VUJ54+VUJ22","v":0},0,0,0,0,0,0,0,0,0,0,0,0,0,0,0,0,0,0,0,0,0,0,0,0,0,0,0,0,0,0,0,0,0,0,0,0,0,0,0,0,0,0,0,0,0,0,0,0,0,0,0,0,0,0,0,0,0,0,0,0,0,0,0,{"$f":"VWV180+VWV174+VWV168+VWV155+VWV142+VWV131+VWV126+VWV110+VWV92+VWV76+VWV54+VWV22","v":0},0,0,0,0,0,0,0,0,0,0,0,0,0,0,0,0,0,0,0,0,0,0,0,0,0,0,0,0,0,0,0,0,0,0,0,0,0,0,0,0,0,0,0,0,0,0,0,0,0,0,0,0,0,0,0,0,0,0,0,0,0,0,0,{"$f":"VZH180+VZH174+VZH168+VZH155+VZH142+VZH131+VZH126+VZH110+VZH92+VZH76+VZH54+VZH22","v":0},0,0,0,0,0,0,0,0,0,0,0,0,0,0,0,0,0,0,0,0,0,0,0,0,0,0,0,0,0,0,0,0,0,0,0,0,0,0,0,0,0,0,0,0,0,0,0,0,0,0,0,0,0,0,0,0,0,0,0,0,0,0,0,{"$f":"WBT180+WBT174+WBT168+WBT155+WBT142+WBT131+WBT126+WBT110+WBT92+WBT76+WBT54+WBT22","v":0},0,0,0,0,0,0,0,0,0,0,0,0,0,0,0,0,0,0,0,0,0,0,0,0,0,0,0,0,0,0,0,0,0,0,0,0,0,0,0,0,0,0,0,0,0,0,0,0,0,0,0,0,0,0,0,0,0,0,0,0,0,0,0,{"$f":"WEF180+WEF174+WEF168+WEF155+WEF142+WEF131+WEF126+WEF110+WEF92+WEF76+WEF54+WEF22","v":0},0,0,0,0,0,0,0,0,0,0,0,0,0,0,0,0,0,0,0,0,0,0,0,0,0,0,0,0,0,0,0,0,0,0,0,0,0,0,0,0,0,0,0,0,0,0,0,0,0,0,0,0,0,0,0,0,0,0,0,0,0,0,0,{"$f":"WGR180+WGR174+WGR168+WGR155+WGR142+WGR131+WGR126+WGR110+WGR92+WGR76+WGR54+WGR22","v":0},0,0,0,0,0,0,0,0,0,0,0,0,0,0,0,0,0,0,0,0,0,0,0,0,0,0,0,0,0,0,0,0,0,0,0,0,0,0,0,0,0,0,0,0,0,0,0,0,0,0,0,0,0,0,0,0,0,0,0,0,0,0,0,{"$f":"WJD180+WJD174+WJD168+WJD155+WJD142+WJD131+WJD126+WJD110+WJD92+WJD76+WJD54+WJD22","v":0},0,0,0,0,0,0,0,0,0,0,0,0,0,0,0,0,0,0,0,0,0,0,0,0,0,0,0,0,0,0,0,0,0,0,0,0,0,0,0,0,0,0,0,0,0,0,0,0,0,0,0,0,0,0,0,0,0,0,0,0,0,0,0,{"$f":"WLP180+WLP174+WLP168+WLP155+WLP142+WLP131+WLP126+WLP110+WLP92+WLP76+WLP54+WLP22","v":0},0,0,0,0,0,0,0,0,0,0,0,0,0,0,0,0,0,0,0,0,0,0,0,0,0,0,0,0,0,0,0,0,0,0,0,0,0,0,0,0,0,0,0,0,0,0,0,0,0,0,0,0,0,0,0,0,0,0,0,0,0,0,0,{"$f":"WOB180+WOB174+WOB168+WOB155+WOB142+WOB131+WOB126+WOB110+WOB92+WOB76+WOB54+WOB22","v":0},0,0,0,0,0,0,0,0,0,0,0,0,0,0,0,0,0,0,0,0,0,0,0,0,0,0,0,0,0,0,0,0,0,0,0,0,0,0,0,0,0,0,0,0,0,0,0,0,0,0,0,0,0,0,0,0,0,0,0,0,0,0,0,{"$f":"WQN180+WQN174+WQN168+WQN155+WQN142+WQN131+WQN126+WQN110+WQN92+WQN76+WQN54+WQN22","v":0},0,0,0,0,0,0,0,0,0,0,0,0,0,0,0,0,0,0,0,0,0,0,0,0,0,0,0,0,0,0,0,0,0,0,0,0,0,0,0,0,0,0,0,0,0,0,0,0,0,0,0,0,0,0,0,0,0,0,0,0,0,0,0,{"$f":"WSZ180+WSZ174+WSZ168+WSZ155+WSZ142+WSZ131+WSZ126+WSZ110+WSZ92+WSZ76+WSZ54+WSZ22","v":0},0,0,0,0,0,0,0,0,0,0,0,0,0,0,0,0,0,0,0,0,0,0,0,0,0,0,0,0,0,0,0,0,0,0,0,0,0,0,0,0,0,0,0,0,0,0,0,0,0,0,0,0,0,0,0,0,0,0,0,0,0,0,0,{"$f":"WVL180+WVL174+WVL168+WVL155+WVL142+WVL131+WVL126+WVL110+WVL92+WVL76+WVL54+WVL22","v":0},0,0,0,0,0,0,0,0,0,0,0,0,0,0,0,0,0,0,0,0,0,0,0,0,0,0,0,0,0,0,0,0,0,0,0,0,0,0,0,0,0,0,0,0,0,0,0,0,0,0,0,0,0,0,0,0,0,0,0,0,0,0,0,{"$f":"WXX180+WXX174+WXX168+WXX155+WXX142+WXX131+WXX126+WXX110+WXX92+WXX76+WXX54+WXX22","v":0},0,0,0,0,0,0,0,0,0,0,0,0,0,0,0,0,0,0,0,0,0,0,0,0,0,0,0,0,0,0,0,0,0,0,0,0,0,0,0,0,0,0,0,0,0,0,0,0,0,0,0,0,0,0,0,0,0,0,0,0,0,0,0,{"$f":"XAJ180+XAJ174+XAJ168+XAJ155+XAJ142+XAJ131+XAJ126+XAJ110+XAJ92+XAJ76+XAJ54+XAJ22","v":0},0,0,0,0,0,0,0,0,0,0,0,0,0,0,0,0,0,0,0,0,0,0,0,0,0,0,0,0,0,0,0,0,0,0,0,0,0,0,0,0,0,0,0,0,0,0,0,0,0,0,0,0,0,0,0,0,0,0,0,0,0,0,0,{"$f":"XCV180+XCV174+XCV168+XCV155+XCV142+XCV131+XCV126+XCV110+XCV92+XCV76+XCV54+XCV22","v":0},0,0,0,0,0,0,0,0,0,0,0,0,0,0,0,0,0,0,0,0,0,0,0,0,0,0,0,0,0,0,0,0,0,0,0,0,0,0,0,0,0,0,0,0,0,0,0,0,0,0,0,0,0,0,0,0,0,0,0,0]
["Осуществление строительного контроля",null,{"$f":"(C181-L181-Z181)*0.0214","v":19225517.842093997}]
["Итого по Ленинградской области со строительным контролем",null,{"$f":"C181+C182","v":969072646.65729392},null,null,null,null,null,null,null,{"$f":"C182+L181","v":37533962.447293997}]
[]
[]
[]
[]
[]
[]
[]
[]
[]
[]
[]
[]
[]
[]
[]
[]
[]
[]
[]
[]
[]
[]
[]
[]
[]
[]
[]
[]
[]
[]
[]
[]
[]
[]
[]
[]
[]
[]
[]
[]
[]
[]
[]
[]
[]
[]
[]
[]
[]
[]
[]
[]
[]
[]
[]
[]
[]
[]
[]
[]
[]
[]
[]
[]
[]
[]
[]
[]
[]
[]
[]
[]
[]
[]
[]
[]
[]
[]
[]
[]
[]
[]
[]
[]
[]
[]
[]
[]
[]
[]
[]
[]
[]
[]
[]
[]
[]
[]
[]
[]
[]
[]
[]
[]
[]
[]
[]
[]
[]
[]
[]
[]
[]
[]
[]
[]
[]
[]
[]
[]
[]
[]
[]
[]
[]
[]
[]
[]
[]
[]
[]
[]
[]
[]
[]
[]
[]
[]
[]
[]
[]
[]
[]
[]
[]
[]
[]
[]
[]
[]
[]
[]
[]
[]
[]
[]
[]
[]
[]
[]
[]
[]
[]
[]
[]
[]
[]
[]
[]
[]
[]
[]
[]
[]
[]
[]
[]
[]
[]
[]
[]
[]
[]
[]
[]
[]
[]
[]
[]
[]
[]
[]
[]
[]
[]
[]
[]
[]
[]
[]
[]
[]
[]
[]
[]
[]
[]
[]
[]
[]
[]
[]
[]
[]
[]
[]
[]
[]
[]
[]
[]
[]
[]
[]
[]
[]
[]
[]
[]
[]
[]
[]
[]
[]
[]
[]
[]
[]
[]
[]
[]
[]
[]
[]
[]
[]
[]
[]
[]
[]
[]
[]
[]
[]
[]
[]
[]
[]
[]
[]
[]
[]
[]
[]
[]
[]
[]
[]
[]
[]
[]
[]
[]
[]
[]
[]
[]
[]
[]
[]
[]
[]
[]
[]
[]
[]
[]
[]
[]
[]
[]
[]
[]
[]
[]
[]
[]
[]
[]
[]
[]
[]
[]
[]
[]
[]
[]
[]
[]
[]
[]
[]
[]
[]
[]
[]
[]
[]
[]
[]
[]
[]
[]
[]
[]
[]
[]
[]
[]
[]
[]
[]
[]
[]
[]
[]
[]
[]
[]
[]
[]
[]
[]
[]
[]
[]
[]
[]
[]
[]
[]
[]
[]
[]
[]
[]
[]
[]
[]
[]
[]
[]
[]
[]
[]
[]
[]
[]
[]
[]
[]
[]
[]
[]
[]
[]
[]
[]
[]
[]
[]
[]
[]
[]
[]
[]
[]
[]
[]
[]
[]
[]
[]
[]
[]
[]
[]
[]
[]
[]
[]
[]
[]
[]
[]
[]
[]
[]
[]
[]
[]
[]
[]
[]
[]
[]
[]
[]
[]
[]
[]
[]
[]
[]
[]
[]
[]
[]
[]
[]
[]
[]
[]
[]
[]
[]
[]
[]
[]
[]
[]
[]
[]
[]
[]
[]
[]
[]
[]
[]
[]
[]
[]
[]
[]
[]
[]
[]
[]
[]
[]
[]
[]
[]
[]
[]
[]
[]
[]
[]
[]
[]
[]
[]
[]
[]
[]
[]
[]
[]
[]
[]
[]
[]
[]
[]
[]
[]
[]
[]
[]
[]
[]
[]
[]
[]
[]
[]
[]
[]
[]
[]
[]
[]
[]
[]
[]
[]
[]
[]
[]
[]
[]
[]
[]
[]
[]
[]
[]
[]
[]
[]
[]
[]
[]
[]
[]
[]
[]
[]
[]
[]
[]
[]
[]
[]
[]
[]
[]
[]
[]
[]
[]
[]
[]
[]
[]
[]
[]
[]
[]
[]
[]
[]
[]
[]
[]
[]
[]
[]
[]
[]
[]
[]
[]
[]
[]
[]
[]
[]
[]
[]
[]
[]
[]
[]
[]
[]
[]
[]
[]
[]
[]
[]
[]
[]
[]
[]
[]
[]
[]
[]
[]
[]
[]
[]
[]
[]
[]
[]
[]
[]
[]
[]
[]
[]
[]
[]
[]
[]
[]
[]
[]
[]
[]
[]
[]
[]
[]
[]
[]
[]
[]
[]
[]
[]
[]
[]
[]
[]
[]
[]
[]
[]
[]
[]
[]
[]
[]
[]
[]
[]
[]
[]
[]
[]
[]
[]
[]
[]
[]
[]
[]
[]
[]
[]
[]
[]
[]
[]
[]
[]
[]
[]
[]
[]
[]
[]
[]
[]
[]
[]
[]
[]
[]
[]
[]
[]
[]
[]
[]
[]
[]
[]
[]
[]
[]
[]
[]
[]
[]
[]
[]
[]
[]
[]
[]
[]
[]
[]
[]
[]
[]
[]
[]
[]
[]
[]
[]
[]
[]
[]
[]
[]
[]
[]
[]
[]
[]
[]
[]
[]
[]
[]
[]
[]
[]
[]
[]
[]
[]
[]
[]
[]
[]
[]
[]
[]
[]
[]
[]
[]
[]
[]
[]
[]
[]
[]
[]
[]
[]
[]
[]
[]
[]
[]
[]
[]
[]
[]
[]
[]
[]
[]
[]
[]
[]
[]
[]
[]
[]
[]
[]
[]
[]
[]
[]
[]
[]
[]
[]
[]
[]
[]
[]
[]
[]
[]
[]
[]
[]
[]
[]
[]
[]
[]
[]
[]
[]
[]
[]
[]
[]
[]
[]
[]
[]
[]
[]
[]
[]
[]
[]
[]
[]
[]
[]
[]
[]
[]
[]
[]
[]
[]
[]
[]
[]
[]
[]
[]
[]
[]
[]
[]
[]
[]
[]
[]
[]
[]
[]
[]
[]
[]
[]
[]
[]
[]
[]
[]
[]
[]
[]
[]
[]
[]
[]
[]
[]
[]
[]
[]
[]
[]
[]
[]
[]
[]
[]
[]
[]
[]
[]
[]
[]
[]
[]
[]
[]
[]
[]
[]
[]
[]
[]
[]
[]
[]
[]
[]
[]
[]
[]
[]
[]
[]
[]
[]
[]
[]
[]
[]
[]
[]
[]
[]
[null,null,null,null,null,null,null,null,null,null,null,null,null,null,null,null,null,null,null,null,null,null,null,null,null,{"$f":"#REF!-#REF!","v":{"$error":"#REF!"}}]
[null,null,null,null,null,null,null,null,null,null,null,null,null,null,null,null,null,null,null,null,null,null,null,null,null,{"$f":"#REF!-Z1090","v":{"$error":"#REF!"}}]
[]
[null,null,null,null,null,null,null,null,null,null,null,null,null,null,null,null,null,null,null,null,null,null,null,null,null,80325165.219999999]
[null,null,null,null,null,null,null,null,null,null,null,null,null,null,null,null,null,null,null,null,null,null,null,null,null,{"$f":"Z1090-Z1093","v":{"$error":"#REF!"}}]