{"text_format":"1","workbook":"xlsx","n_sheets":6,"sheets":["4 вариант 15.02","Раздел I","Раздел 2","Раздел 3","Раздел 4","cвод"],"not_rendered":{"charts":0,"images":0,"macros":0,"external_links":1,"defined_names":19,"comments":1,"pivot_tables":0},"unopened":[],"bounds":{"document_bytes":16777216,"sheet_cells":100000,"rows_first":2000,"rows_last":500,"rows_between":2000,"halvings":0,"cell_chars":16384,"cell_head_chars":4096},"cells_cut":0,"cells_raw":0,"read":"whole","date_system":"1900"}

{"sheet":"4 вариант 15.02","index":0,"n_rows":937,"n_cols":26,"rows_kept":937,"cut":false,"hidden":true,"merged":[[2,25,4,25],[0,0,0,25],[1,0,5,0],[1,1,5,1],[1,2,4,2],[1,3,1,25],[2,3,2,8],[2,23,4,23],[2,9,4,10],[2,11,4,12],[3,3,4,3],[3,4,3,8],[2,13,4,14],[2,15,4,16],[24,0,24,1],[25,0,25,1],[2,17,4,18],[2,19,4,20],[2,21,4,22],[7,0,7,24],[8,0,8,19],[2,24,4,24]]}
["IV. Реестр многоквартирных домов, которые подлежат капитальному ремонту в 2018 году, с учетом мер государственной поддержки"]
["№ п\\п","Адрес МКД","Стоимость капитального ремонта ВСЕГО","Виды работ"]
[null,null,null,"Ремонт внутридомовых инженерных систем",null,null,null,null,null,"Ремонт или замена лифтового оборудования",null,"Ремонт крыши",null,"Ремонт подвальных помещений",null,"Ремонт фасада",null,"Ремонт фундамента",null,"Ремонт подъездов",null,"Утепление  фасадов",null,"Установка коллектив-ных (общедо-мовых) ПУ и УУ","Проект-ные работы","Работы по предпроектной подготовке"]
[null,null,null,"Всего работ по инженерным системам","в том числе"]
[null,null,null,null,"Ремонт сетей электроснабжения","Ремонт сетей теплоснабжения","Ремонт сетей холодного водоснабжения","Ремонт сетей горячего водоснабжения","Ремонт систем водоотведения"]
[null,null,"руб.","руб.","руб.","руб.","руб.","руб.","руб.","ед.","руб.","кв.м.","руб.","кв.м.","руб.","кв.м.","руб.","куб.м.","руб.","куб.м.","руб.","кв.м.","руб.","руб.","руб.","руб."]
[1,2,3,4,5,6,7,8,9,10,11,12,13,14,15,16,17,18,19,20,21,22,23,24,25,24]
["Объекты культурного наследия по г. Выборгу"]
["Муниципальное образование \"Город Выборг\""]
[1,"г. Выборг, просп. Ленина, д. 6",{"$f":"M10+Q10","v":49775695.930000007},{"$f":"E10+F10+G10+H10+I10","v":0},null,null,null,null,null,null,null,998,10968656.84,null,null,3425,38807039.090000004]
[{"$f":"A10+1","v":2},"г. Выборг, ул. Железнодорожная, д. 2",{"$f":"M11+Q11","v":71246479.390000001},0,null,null,null,null,null,null,null,2373,27524999,null,null,5336,43721480.390000001]
[{"$f":"A11+1","v":3},"г. Выборг, ул. Железнодорожная, д. 4",32678707.010000002,0,null,null,null,null,null,null,null,872,11984761.140000001,null,null,2144,20693945.870000001]
[4,"г. Выборг, ул. Крепостная, д. 37",35893316.079999998,0,null,null,null,null,null,null,null,null,null,null,null,3816,35893316.079999998]
[5,"г. Выборг, просп. Ленина, д. 20",41972672.829999998,0,null,null,null,null,null,null,null,1343,15061442.029999999,null,null,3979,26911230.800000001]
[6,"г. Выборг, просп. Ленина, д. 18",59578132.510000005,0,null,null,null,null,null,null,null,2045,24228789.09,null,null,6152,35349343.420000002]
[7,"г. Выборг, просп. Суворова, д. 25",45928527.659999996,0,null,null,null,null,null,null,null,844,10966897.220000001,null,null,2501,34961630.439999998]
[8,"г. Выборг, ул. Северная, д. 8",51170285.810000002,0,null,null,null,null,null,null,null,null,null,null,null,6460,51170285.810000002]
[9,"г. Выборг, ул. Северная, д. 10",60495179.119999997,0,null,null,null,null,null,null,null,null,null,null,null,4160,60495179.119999997]
[10,"г. Выборг, Ленинградский пр., д. 14",26008913.349999998,0,null,null,null,null,null,null,null,540,7099248.0599999996,null,null,2623,18909665.289999999]
[11,"г. Выборг, Ленинградский пр., д. 16",26073352.199999999,0,null,null,null,null,null,null,null,760,8877863.9499999993,null,null,1116,17195488.25]
[12,"г. Выборг, Ленинградский пр., д. 31",64195351.770000003,0,null,null,null,null,null,null,null,1598,15544550,null,null,5534,48650801.770000003]
[13,"г. Выборг, Ленинградское ш., д. 1",96318597.449999988,0,null,null,null,null,null,null,null,2280,22581195.350000001,null,null,6423,73737402.099999994]
["Итого по муниципальному образованию",null,{"$f":"SUM(C10:C22)","v":661335211.1099999},{"$f":"SUM(D10:D22)","v":0},0,0,0,0,0,0,0,13653,{"$f":"SUM(M10:M22)","v":154838402.68000001},0,0,53669,506496808.43000007,0,0,0,0,0,0,0,0]
["ИТОГО по Ленинградской области",null,{"$f":"C23","v":661335211.1099999},{"$f":"D23","v":0},0,0,0,0,0,0,0,13653,154838402.68000001,0,0,53669,506496808.43000007,0,0,0,0,0,0,0,0]
["Осуществление строительного контроля",null,{"$f":"C24*0.0214","v":14152573.517753998}]
["Итого по Ленинградской области со строительным контролем",null,{"$f":"C24+C25","v":675487784.62775385}]
[]
[]
[]
[]
[]
[]
[]
[]
[]
[]
[]
[]
[]
[]
[]
[null,null,null,null,null,null,null,null,null,null,null,null,null,null,null,null,null,null,null,null,null,null,null,null,null,{"$f":"SUM(Z24:Z41)","v":0}]
[]
[]
[]
[]
[null,null,null,null,null,null,null,null,null,null,null,null,null,null,null,null,null,null,null,null,null,null,null,null,null,{"$f":"SUM(Z44:Z46)","v":0}]
[null,null,null,null,null,null,null,null,null,null,null,null,null,null,null,null,null,null,null,null,null,null,null,null,null,{"$f":"Z42+#REF!+Z47+#REF!","v":{"$error":"#REF!"}}]
[]
[]
[]
[]
[]
[]
[]
[]
[]
[]
[]
[]
[]
[]
[]
[]
[]
[]
[]
[]
[]
[]
[]
[]
[]
[]
[]
[]
[]
[]
[]
[]
[]
[]
[]
[]
[]
[]
[]
[]
[]
[]
[]
[]
[]
[]
[]
[]
[]
[]
[]
[null,null,null,null,null,null,null,null,null,null,null,null,null,null,null,null,null,null,null,null,null,null,null,null,null,{"$f":"SUM(Z87:Z99)","v":0}]
[]
[]
[]
[]
[]
[]
[]
[]
[]
[]
[]
[]
[]
[]
[]
[]
[]
[]
[]
[]
[]
[]
[null,null,null,null,null,null,null,null,null,null,null,null,null,null,null,null,null,null,null,null,null,null,null,null,null,{"$f":"SUM(Z105:Z122)","v":0}]
[]
[]
[]
[]
[]
[]
[]
[]
[]
[]
[null,null,null,null,null,null,null,null,null,null,null,null,null,null,null,null,null,null,null,null,null,null,null,null,null,{"$f":"SUM(Z128:Z133)","v":0}]
[]
[]
[]
[]
[]
[]
[]
[null,null,null,null,null,null,null,null,null,null,null,null,null,null,null,null,null,null,null,null,null,null,null,null,null,{"$f":"SUM(Z136:Z141)","v":0}]
[]
[]
[]
[]
[]
[null,null,null,null,null,null,null,null,null,null,null,null,null,null,null,null,null,null,null,null,null,null,null,null,null,{"$f":"SUM(Z144:Z146)","v":0}]
[null,null,null,null,null,null,null,null,null,null,null,null,null,null,null,null,null,null,null,null,null,null,null,null,null,{"$f":"Z100+Z123+Z134+Z148+Z142+Z126","v":0}]
[]
[]
[]
[]
[]
[]
[null,null,null,null,null,null,null,null,null,null,null,null,null,null,null,null,null,null,null,null,null,null,null,null,null,{"$f":"SUM(Z152:Z155)","v":0}]
[]
[]
[]
[]
[]
[]
[]
[]
[]
[]
[]
[]
[]
[]
[]
[]
[]
[]
[]
[]
[]
[]
[]
[]
[]
[]
[]
[]
[]
[]
[]
[]
[]
[]
[]
[]
[]
[]
[]
[]
[]
[]
[]
[]
[]
[]
[]
[]
[]
[]
[]
[]
[]
[]
[]
[]
[]
[]
[]
[]
[]
[]
[]
[null,null,null,null,null,null,null,null,null,null,null,null,null,null,null,null,null,null,null,null,null,null,null,null,null,{"$f":"SUM(Z161:Z219)","v":0}]
[]
[]
[]
[]
[]
[]
[null,null,null,null,null,null,null,null,null,null,null,null,null,null,null,null,null,null,null,null,null,null,null,null,null,{"$f":"SUM(Z226)","v":0}]
[]
[]
[]
[]
[]
[]
[null,null,null,null,null,null,null,null,null,null,null,null,null,null,null,null,null,null,null,null,null,null,null,null,null,{"$f":"Z156+Z220+Z227","v":0}]
[]
[]
[]
[]
[]
[]
[]
[]
[]
[]
[]
[]
[]
[]
[null,null,null,null,null,null,null,null,null,null,null,null,null,null,null,null,null,null,null,null,null,null,null,null,null,{"$f":"SUM(Z237:Z248)","v":0}]
[]
[]
[]
[]
[null,null,null,null,null,null,null,null,null,null,null,null,null,null,null,null,null,null,null,null,null,null,null,null,null,{"$f":"SUM(Z251:Z253)","v":0}]
[null,null,null,null,null,null,null,null,null,null,null,null,null,null,null,null,null,null,null,null,null,null,null,null,null,{"$f":"Z249+Z254","v":0}]
[]
[]
[]
[]
[]
[]
[]
[]
[]
[]
[]
[]
[]
[]
[]
[]
[]
[]
[]
[]
[]
[]
[]
[]
[]
[]
[]
[]
[]
[null,null,null,null,null,null,null,null,null,null,null,null,null,null,null,null,null,null,null,null,null,null,null,null,null,{"$f":"SUM(Z258:Z284)","v":0}]
[]
[]
[]
[]
[null,null,null,null,null,null,null,null,null,null,null,null,null,null,null,null,null,null,null,null,null,null,null,null,null,{"$f":"SUM(Z287:Z289)","v":0}]
[]
[]
[]
[null,null,null,null,null,null,null,null,null,null,null,null,null,null,null,null,null,null,null,null,null,null,null,null,null,{"$f":"SUM(Z292:Z293)","v":0}]
[null,null,null,null,null,null,null,null,null,null,null,null,null,null,null,null,null,null,null,null,null,null,null,null,null,{"$f":"Z285+Z294+Z290","v":0}]
[]
[]
[]
[]
[]
[]
[]
[]
[]
[]
[]
[]
[]
[]
[]
[]
[]
[]
[]
[]
[]
[]
[]
[]
[]
[]
[null,null,null,null,null,null,null,null,null,null,null,null,null,null,null,null,null,null,null,null,null,null,null,null,null,{"$f":"SUM(Z298:Z321)","v":0}]
[]
[]
[]
[]
[]
[]
[]
[]
[]
[]
[]
[]
[]
[]
[]
[]
[null,null,null,null,null,null,null,null,null,null,null,null,null,null,null,null,null,null,null,null,null,null,null,null,null,{"$f":"SUM(Z324:Z338)","v":0}]
[]
[]
[]
[]
[]
[]
[null,null,null,null,null,null,null,null,null,null,null,null,null,null,null,null,null,null,null,null,null,null,null,null,null,{"$f":"SUM(Z341:Z345)","v":0}]
[]
[]
[null,null,null,null,null,null,null,null,null,null,null,null,null,null,null,null,null,null,null,null,null,null,null,null,null,{"$f":"SUM(Z348:Z348)","v":0}]
[]
[]
[]
[]
[]
[]
[]
[null,null,null,null,null,null,null,null,null,null,null,null,null,null,null,null,null,null,null,null,null,null,null,null,null,{"$f":"SUM(Z351:Z356)","v":0}]
[]
[]
[]
[]
[]
[]
[]
[null,null,null,null,null,null,null,null,null,null,null,null,null,null,null,null,null,null,null,null,null,null,null,null,null,{"$f":"SUM(Z359:Z364)","v":0}]
[null,null,null,null,null,null,null,null,null,null,null,null,null,null,null,null,null,null,null,null,null,null,null,null,null,{"$f":"E366+F366+G366+H366+I366+K366+M366+O366+Q366+S366+U366+V366+W366+X366","v":0}]
[null,null,null,null,null,null,null,null,null,null,null,null,null,null,null,null,null,null,null,null,null,null,null,null,null,{"$f":"E367+F367+G367+H367+I367+K367+M367+O367+Q367+S367+U367+V367+W367+X367","v":0}]
[null,null,null,null,null,null,null,null,null,null,null,null,null,null,null,null,null,null,null,null,null,null,null,null,null,{"$f":"E368+F368+G368+H368+I368+K368+M368+O368+Q368+S368+U368+V368+W368+X368","v":0}]
[null,null,null,null,null,null,null,null,null,null,null,null,null,null,null,null,null,null,null,null,null,null,null,null,null,{"$f":"E369+F369+G369+H369+I369+K369+M369+O369+Q369+S369+U369+V369+W369+X369","v":0}]
[null,null,null,null,null,null,null,null,null,null,null,null,null,null,null,null,null,null,null,null,null,null,null,null,null,{"$f":"E370+F370+G370+H370+I370+K370+M370+O370+Q370+S370+U370+V370+W370+X370","v":0}]
[]
[]
[]
[]
[]
[]
[]
[]
[]
[]
[]
[]
[]
[]
[]
[]
[]
[]
[]
[]
[]
[]
[]
[]
[]
[null,null,null,null,null,null,null,null,null,null,null,null,null,null,null,null,null,null,null,null,null,null,null,null,null,{"$f":"SUM(Z372:Z395)","v":0}]
[null,null,null,null,null,null,null,null,null,null,null,null,null,null,null,null,null,null,null,null,null,null,null,null,null,{"$f":"SUM(Z396+Z365+Z357+Z349+Z346+Z339+Z322)","v":0}]
[]
[]
[]
[]
[]
[]
[]
[]
[]
[]
[]
[]
[]
[]
[]
[]
[]
[]
[]
[]
[]
[]
[]
[]
[]
[]
[]
[]
[]
[]
[]
[]
[]
[]
[]
[null,null,null,null,null,null,null,null,null,null,null,null,null,null,null,null,null,null,null,null,null,null,null,null,null,{"$f":"SUM(Z400:Z432)","v":0}]
[null,null,null,null,null,null,null,null,null,null,null,null,null,null,null,null,null,null,null,null,null,null,null,null,null,{"$f":"Z433","v":0}]
[]
[]
[]
[]
[]
[]
[]
[]
[null,null,null,null,null,null,null,null,null,null,null,null,null,null,null,null,null,null,null,null,null,null,null,null,null,{"$f":"SUM(Z437:Z440)","v":0}]
[]
[]
[null,null,null,null,null,null,null,null,null,null,null,null,null,null,null,null,null,null,null,null,null,null,null,null,null,{"$f":"SUM(Z445:Z445)","v":0}]
[]
[]
[]
[]
[null,null,null,null,null,null,null,null,null,null,null,null,null,null,null,null,null,null,null,null,null,null,null,null,null,{"$f":"SUM(Z448:Z450)","v":0}]
[]
[]
[]
[]
[]
[null,null,null,null,null,null,null,null,null,null,null,null,null,null,null,null,null,null,null,null,null,null,null,null,null,{"$f":"SUM(Z453:Z456)","v":0}]
[]
[]
[]
[]
[]
[null,null,null,null,null,null,null,null,null,null,null,null,null,null,null,null,null,null,null,null,null,null,null,null,null,{"$f":"SUM(Z459:Z462)","v":0}]
[]
[]
[]
[null,null,null,null,null,null,null,null,null,null,null,null,null,null,null,null,null,null,null,null,null,null,null,null,null,{"$f":"SUM(Z465:Z466)","v":0}]
[]
[]
[]
[]
[]
[null,null,null,null,null,null,null,null,null,null,null,null,null,null,null,null,null,null,null,null,null,null,null,null,null,{"$f":"SUM(Z469:Z472)","v":0}]
[null,null,null,null,null,null,null,null,null,null,null,null,null,null,null,null,null,null,null,null,null,null,null,null,null,{"$f":"Z451+Z443+Z446+Z473+Z467+Z457+Z463","v":0}]
[]
[]
[]
[]
[null,null,null,null,null,null,null,null,null,null,null,null,null,null,null,null,null,null,null,null,null,null,null,null,null,{"$f":"SUM(Z477:Z478)","v":0}]
[]
[]
[]
[]
[]
[]
[]
[]
[]
[]
[]
[]
[]
[]
[]
[]
[]
[]
[]
[]
[]
[]
[null,null,null,null,null,null,null,null,null,null,null,null,null,null,null,null,null,null,null,null,null,null,null,null,null,{"$f":"SUM(Z493:Z501)","v":0}]
[]
[]
[]
[null,null,null,null,null,null,null,null,null,null,null,null,null,null,null,null,null,null,null,null,null,null,null,null,null,{"$f":"SUM(Z504:Z505)","v":0}]
[]
[]
[null,null,null,null,null,null,null,null,null,null,null,null,null,null,null,null,null,null,null,null,null,null,null,null,null,{"$f":"SUM(Z508:Z508)","v":0}]
[]
[]
[]
[]
[]
[]
[]
[]
[null,null,null,null,null,null,null,null,null,null,null,null,null,null,null,null,null,null,null,null,null,null,null,null,null,{"$f":"SUM(Z511:Z517)","v":0}]
[]
[]
[]
[]
[]
[]
[]
[null,null,null,null,null,null,null,null,null,null,null,null,null,null,null,null,null,null,null,null,null,null,null,null,null,{"$f":"SUM(Z520:Z525)","v":0}]
[]
[]
[null,null,null,null,null,null,null,null,null,null,null,null,null,null,null,null,null,null,null,null,null,null,null,null,null,{"$f":"SUM(Z528:Z528)","v":0}]
[]
[]
[null,null,null,null,null,null,null,null,null,null,null,null,null,null,null,null,null,null,null,null,null,null,null,null,null,{"$f":"SUM(Z531)","v":0}]
[]
[]
[]
[]
[]
[]
[null,null,null,null,null,null,null,null,null,null,null,null,null,null,null,null,null,null,null,null,null,null,null,null,null,{"$f":"Z479+Z502+Z506+Z509+Z518+Z526+Z529+Z532+Z538","v":0}]
[]
[]
[]
[]
[]
[]
[]
[]
[]
[]
[null,null,null,null,null,null,null,null,null,null,null,null,null,null,null,null,null,null,null,null,null,null,null,null,null,{"$f":"SUM(Z542:Z549)","v":0}]
[null,null,null,null,null,null,null,null,null,null,null,null,null,null,null,null,null,null,null,null,null,null,null,null,null,{"$f":"Z550","v":0}]
[]
[]
[]
[]
[]
[]
[]
[null,null,null,null,null,null,null,null,null,null,null,null,null,null,null,null,null,null,null,null,null,null,null,null,null,{"$f":"SUM(Z554:Z558)","v":0}]
[]
[]
[]
[]
[]
[null,null,null,null,null,null,null,null,null,null,null,null,null,null,null,null,null,null,null,null,null,null,null,null,null,{"$f":"SUM(Z561:Z564)","v":0}]
[]
[]
[]
[]
[null,null,null,null,null,null,null,null,null,null,null,null,null,null,null,null,null,null,null,null,null,null,null,null,null,{"$f":"SUM(Z567:Z569)","v":0}]
[]
[]
[]
[]
[]
[null,null,null,null,null,null,null,null,null,null,null,null,null,null,null,null,null,null,null,null,null,null,null,null,null,{"$f":"SUM(Z572:Z575)","v":0}]
[]
[]
[]
[null,null,null,null,null,null,null,null,null,null,null,null,null,null,null,null,null,null,null,null,null,null,null,null,null,{"$f":"SUM(Z578:Z579)","v":0}]
[]
[]
[]
[]
[]
[]
[]
[null,null,null,null,null,null,null,null,null,null,null,null,null,null,null,null,null,null,null,null,null,null,null,null,null,{"$f":"Z586+Z587","v":0}]
[null,null,null,null,null,null,null,null,null,null,null,null,null,null,null,null,null,null,null,null,null,null,null,null,null,{"$f":"Z559+Z565+Z570+Z576+Z580","v":0}]
[]
[]
[]
[null,null,null,null,null,null,null,null,null,null,null,null,null,null,null,null,null,null,null,null,null,null,null,null,null,{"$f":"SUM(Z592:Z592)","v":0}]
[]
[]
[null,null,null,null,null,null,null,null,null,null,null,null,null,null,null,null,null,null,null,null,null,null,null,null,null,{"$f":"SUM(Z595)","v":0}]
[]
[]
[]
[]
[]
[]
[]
[]
[]
[]
[]
[]
[]
[]
[]
[]
[]
[]
[]
[]
[]
[]
[]
[]
[]
[]
[]
[]
[]
[]
[]
[]
[]
[]
[]
[]
[]
[null,null,null,null,null,null,null,null,null,null,null,null,null,null,null,null,null,null,null,null,null,null,null,null,null,{"$f":"SUM(Z598:Z633)","v":0}]
[null,null,null,null,null,null,null,null,null,null,null,null,null,null,null,null,null,null,null,null,null,null,null,null,null,{"$f":"Z634+Z596+Z593","v":0}]
[]
[]
[]
[]
[]
[]
[]
[]
[]
[]
[]
[]
[]
[]
[]
[]
[]
[]
[]
[]
[]
[]
[]
[]
[]
[]
[]
[]
[]
[]
[]
[]
[]
[]
[]
[]
[]
[]
[]
[]
[]
[]
[]
[]
[]
[]
[]
[]
[]
[]
[]
[]
[]
[]
[]
[]
[]
[]
[]
[]
[]
[]
[]
[]
[]
[]
[]
[]
[]
[]
[]
[]
[]
[]
[]
[]
[]
[]
[]
[]
[]
[]
[]
[]
[]
[]
[]
[]
[]
[]
[]
[]
[]
[]
[]
[]
[]
[]
[]
[]
[]
[]
[]
[]
[]
[]
[]
[]
[]
[]
[]
[]
[]
[]
[]
[]
[]
[]
[]
[]
[null,null,null,null,null,null,null,null,null,null,null,null,null,null,null,null,null,null,null,null,null,null,null,null,null,{"$f":"SUM(Z637:Z755)","v":0}]
[]
[]
[]
[]
[]
[]
[]
[]
[]
[]
[]
[]
[]
[]
[]
[]
[]
[]
[]
[]
[]
[]
[]
[]
[]
[]
[]
[]
[]
[]
[]
[]
[]
[]
[]
[]
[]
[]
[]
[]
[]
[]
[]
[]
[]
[]
[]
[]
[]
[]
[]
[]
[]
[]
[]
[]
[]
[]
[]
[]
[]
[]
[]
[]
[]
[]
[]
[]
[]
[]
[]
[]
[]
[]
[]
[]
[]
[]
[]
[]
[]
[]
[]
[]
[]
[]
[]
[]
[]
[]
[]
[]
[]
[]
[]
[]
[]
[]
[]
[]
[]
[]
[]
[]
[]
[]
[]
[]
[]
[]
[]
[null,null,null,null,null,null,null,null,null,null,null,null,null,null,null,null,null,null,null,null,null,null,null,null,null,{"$f":"SUM(Z764:Z867)","v":0}]
[]
[]
[]
[]
[]
[]
[]
[]
[]
[]
[]
[]
[]
[]
[]
[]
[]
[]
[]
[null,null,null,null,null,null,null,null,null,null,null,null,null,null,null,null,null,null,null,null,null,null,null,null,null,{"$f":"SUM(Z870:Z887)","v":0}]
[null,null,null,null,null,null,null,null,null,null,null,null,null,null,null,null,null,null,null,null,null,null,null,null,null,{"$f":"Z868+Z888","v":0}]
[]
[]
[]
[null,null,null,null,null,null,null,null,null,null,null,null,null,null,null,null,null,null,null,null,null,null,null,null,null,{"$f":"SUM(Z892:Z892)","v":0}]
[]
[]
[]
[]
[]
[]
[]
[null,null,null,null,null,null,null,null,null,null,null,null,null,null,null,null,null,null,null,null,null,null,null,null,null,{"$f":"SUM(Z895:Z900)","v":0}]
[]
[]
[null,null,null,null,null,null,null,null,null,null,null,null,null,null,null,null,null,null,null,null,null,null,null,null,null,{"$f":"SUM(Z903:Z903)","v":0}]
[]
[]
[]
[]
[]
[]
[]
[]
[]
[]
[]
[]
[]
[]
[]
[]
[]
[]
[]
[null,null,null,null,null,null,null,null,null,null,null,null,null,null,null,null,null,null,null,null,null,null,null,null,null,{"$f":"SUM(Z906:Z923)","v":0}]
[]
[]
[null,null,null,null,null,null,null,null,null,null,null,null,null,null,null,null,null,null,null,null,null,null,null,null,null,{"$f":"SUM(Z926:Z926)","v":0}]
[]
[]
[null,null,null,null,null,null,null,null,null,null,null,null,null,null,null,null,null,null,null,null,null,null,null,null,null,{"$f":"SUM(Z929)","v":0}]
[null,null,null,null,null,null,null,null,null,null,null,null,null,null,null,null,null,null,null,null,null,null,null,null,null,{"$f":"Z901+Z904+Z927+Z924+Z893+Z930","v":0}]
[]
[null,null,null,null,null,null,null,null,null,null,null,null,null,null,null,null,null,null,null,null,null,null,null,null,{"$f":"#REF!-#REF!","v":{"$error":"#REF!"}}]
[null,null,null,null,null,null,null,null,null,null,null,null,null,null,null,null,null,null,null,null,null,null,null,null,{"$f":"#REF!-Y933","v":{"$error":"#REF!"}}]
[]
[null,null,null,null,null,null,null,null,null,null,null,null,null,null,null,null,null,null,null,null,null,null,null,null,80325165.219999999]
[null,null,null,null,null,null,null,null,null,null,null,null,null,null,null,null,null,null,null,null,null,null,null,null,{"$f":"Y933-Y936","v":{"$error":"#REF!"}}]

{"sheet":"Раздел I","index":1,"n_rows":1122,"n_cols":25,"rows_kept":1122,"cut":false,"hidden":false,"merged":[[3,0,3,18],[0,16,0,18],[5,16,7,16],[5,7,8,7],[6,13,7,13],[1,15,1,18],[4,0,4,18],[2,15,2,18],[5,0,8,0],[5,17,8,17],[5,9,5,10],[213,0,213,1],[5,4,8,4],[10,0,10,18],[5,6,8,6],[197,0,197,18],[204,0,204,18],[5,5,8,5],[6,15,7,15],[6,2,8,2],[5,18,8,18],[6,12,7,12],[6,10,7,10],[5,8,7,8],[5,1,8,1],[5,11,7,11],[6,14,7,14],[214,0,214,1],[5,12,5,15],[5,2,5,3],[6,9,7,9],[6,3,8,3],[95,0,95,1],[15,0,15,18],[40,0,40,18],[72,0,72,18],[94,0,94,18],[111,0,111,18],[129,0,129,18],[150,0,150,18],[158,0,158,18],[169,0,169,18],[184,0,184,18]]}
[null,null,null,null,null,null,null,null,null,null,null,null,null,null,null,null,"Приложение 2"]
[null,null,null,null,null,null,null,null,null,null,null,null,null,null,null,"к постановлению Правительства Ленинградской области "]
[null,null,null,null,null,null,null,null,null,null,null,null,null,null,null,"от \"21\" мая 2020 года №323"]
["Краткосрочный план реализации в 2020-2022 годах Региональной программы капитального ремонта общего имущества в многоквартирных домах, расположенных на территории Ленинградской области"]
["Раздел I. Перечень многоквартирных домов, в которых будет проводиться капитальный ремонт лифтового оборудования в период 2020-2022, за счет средств собственников"]
["№ п\\п","Адрес МКД","Год",null,"Материал стен","Количество этажей","Количество лифтов","Количество подъездов","общая площадь МКД, всего","Площадь помещений МКД:",null,"Количество жителей, зарегистрированных в МКД","Стоимость капитального ремонта",null,null,null,"Стоимость капитального ремонта за счет средств собственников помещений в МКД","Плановая дата завершения работ","способ формирования фонда капитального ремонта"]
[null,null,"ввода в эксплуатацию","завершение последнего капитального ремонта",null,null,null,null,null,"всего:","в том числе жилых помещений, находящихся в собственности граждан",null,"всего:","федеральный бюджет","областной бюджет","за счет средств местного бюджета"]
[]
[null,null,null,null,null,null,null,null,"кв.м","кв.м","кв.м","чел.","руб.",null,null,"руб."]
[1,2,3,4,5,6,7,8,9,10,11,12,13,14,15,16,13,14,15,20,21,22,23,24,25]
["Волховский муниципальный район"]
["Муниципальное образование Город Волхов"]
[1,"Г. Волхов, просп. Волховский, д. 57",1994,null,"кирпич",9,1,1,3238.7,2407,2047,111,{"$f":"Q13","v":2735709.46},0,0,0,{"$f":"SUMIF('Раздел 2'!B:B,B13,'Раздел 2'!C:C)+SUMIF('Раздел 3'!B:B,B13,'Раздел 3'!C:C)+SUMIF('Раздел 4'!B:B,B13,'Раздел 4'!C:C)","v":2735709.46},"2022-12-30","РО"]
["Итого по муниципальному образованию",null,"х","х","х","х",{"$f":"SUM(G13)","v":1},"х",{"$f":"SUM(I13)","v":3238.7},{"$f":"SUM(J13)","v":2407},2047,111,{"$f":"M13","v":2735709.46},{"$f":"N13","v":0},0,0,2735709.46,"х","х"]
["Итого по Волховскому муниципальному району",null,"х","х","х","х",{"$f":"SUM(G14)","v":1},"х",{"$f":"SUM(I14)","v":3238.7},2407,2047,111,{"$f":"M14","v":2735709.46},0,0,0,2735709.46,"х","х",{"$f":"Q15-'Раздел 3'!C9-'Раздел 4'!C10","v":0}]
["Всеволожский муниципальный район"]
["Муниципальное образование \"Город Всеволожск\""]
[{"$f":"A13+1","v":2},"Г. Всеволожск, ул. Александровская, д. 81, корп. 3  ",1996,null,null,8,2,2,4215.1000000000004,4215.1000000000004,2782,170,{"$f":"Q18","v":5276630.92},0,0,0,{"$f":"SUMIF('Раздел 2'!B:B,B18,'Раздел 2'!C:C)+SUMIF('Раздел 3'!B:B,B18,'Раздел 3'!C:C)+SUMIF('Раздел 4'!B:B,B18,'Раздел 4'!C:C)","v":5276630.92},"2022-12-30","РО"]
[{"$f":"A18+1","v":3},"Г. Всеволожск, ул. Балашова, д. 8/3  ",1995,null,null,9,2,2,4768.2,4768.2,2407,154,{"$f":"Q19","v":5276630.92},0,0,0,{"$f":"SUMIF('Раздел 2'!B:B,B19,'Раздел 2'!C:C)+SUMIF('Раздел 3'!B:B,B19,'Раздел 3'!C:C)+SUMIF('Раздел 4'!B:B,B19,'Раздел 4'!C:C)","v":5276630.92},"2022-12-30","РО"]
[{"$f":"A19+1","v":4},"Г. Всеволожск, ул. Василеозерская, д. 5  ",1995,null,null,10,2,2,5400.9,5400.9,2392,141,5276630.92,0,0,0,{"$f":"SUMIF('Раздел 2'!B:B,B20,'Раздел 2'!C:C)+SUMIF('Раздел 3'!B:B,B20,'Раздел 3'!C:C)+SUMIF('Раздел 4'!B:B,B20,'Раздел 4'!C:C)","v":5276630.92},"2022-12-30","РО"]
[{"$f":"A20+1","v":5},"Г. Всеволожск, ул. Василеозерская, д. 7  ",1996,null,null,10,2,2,5786.9,5786.9,3645,205,5471418.9199999999,0,0,0,{"$f":"SUMIF('Раздел 2'!B:B,B21,'Раздел 2'!C:C)+SUMIF('Раздел 3'!B:B,B21,'Раздел 3'!C:C)+SUMIF('Раздел 4'!B:B,B21,'Раздел 4'!C:C)","v":5471418.9199999999},"2022-12-30","РО"]
[6,"Г. Всеволожск, ул. Вокка, д. 3  ",1991,null,null,9,2,2,4954.1000000000004,4954.1000000000004,3450,190.5,5471418.9199999999,0,0,0,{"$f":"SUMIF('Раздел 2'!B:B,B22,'Раздел 2'!C:C)+SUMIF('Раздел 3'!B:B,B22,'Раздел 3'!C:C)+SUMIF('Раздел 4'!B:B,B22,'Раздел 4'!C:C)","v":5471418.9199999999},"2022-12-30","РО"]
[7,"Г. Всеволожск, ул. Ленинградская, д. 24/84 ",1994,null,null,10,7,7,13448.5,13448.5,3707.4,199.7,27136455.219999999,0,0,0,{"$f":"SUMIF('Раздел 2'!B:B,B23,'Раздел 2'!C:C)+SUMIF('Раздел 3'!B:B,B23,'Раздел 3'!C:C)+SUMIF('Раздел 4'!B:B,B23,'Раздел 4'!C:C)","v":27136455.219999999},"2022-12-30","РО"]
[8,"Г. Всеволожск, ул. Ленинградская, д. 30, корп. 1 ",1993,null,null,9,1,3,6885.1,6885.1,3964.8,208.9,2735709.46,0,0,0,{"$f":"SUMIF('Раздел 2'!B:B,B24,'Раздел 2'!C:C)+SUMIF('Раздел 3'!B:B,B24,'Раздел 3'!C:C)+SUMIF('Раздел 4'!B:B,B24,'Раздел 4'!C:C)","v":2735709.46},"2022-12-30","РО"]
["Итого по муниципальному образованию",null,"x","x","x","x",{"$f":"SUM(G18:G24)","v":18},"x",{"$f":"SUM(I19:I23)","v":34358.6},{"$f":"SUM(J19:J23)","v":34358.6},{"$f":"SUM(K19:K23)","v":15601.4},{"$f":"SUM(L19:L23)","v":890.2},{"$f":"SUM(M18:M24)","v":56644895.280000001},{"$f":"SUM(N18:N24)","v":0},0,0,{"$f":"SUM(Q18:Q24)","v":56644895.280000001},"x","x",{"$f":"Q25-'Раздел 2'!C11-'Раздел 3'!C19-'Раздел 4'!C16","v":0},{"$f":"M25-'Раздел 2'!C11-'Раздел 3'!C19-'Раздел 4'!C16","v":0}]
["Муниципальное образование Муринское сельское поселение"]
[{"$f":"A24+1","v":9},"Пос. Мурино, ул. Оборонная, д. 12  ",1992,null,"кирпич",9,2,2,5334,4507,2782,170,{"$f":"Q27","v":5276630.92},0,0,0,{"$f":"SUMIF('Раздел 2'!B:B,B27,'Раздел 2'!C:C)+SUMIF('Раздел 3'!B:B,B27,'Раздел 3'!C:C)+SUMIF('Раздел 4'!B:B,B27,'Раздел 4'!C:C)","v":5276630.92},"2022-12-30","РО"]
[{"$f":"A27+1","v":10},"Пос. Мурино, ул. Оборонная, д. 18",1993,null,"Ж/б панели",10,2,2,5861,4909,2407,154,{"$f":"Q28","v":7753272.9199999999},0,0,0,{"$f":"SUMIF('Раздел 2'!B:B,B28,'Раздел 2'!C:C)+SUMIF('Раздел 3'!B:B,B28,'Раздел 3'!C:C)+SUMIF('Раздел 4'!B:B,B28,'Раздел 4'!C:C)","v":7753272.9199999999},"2022-12-30","РО"]
[{"$f":"A28+1","v":11},"Пос. Мурино, ул. Оборонная, д. 22  ",1993,null,"Ж/б панели",10,2,2,5436,4484,2392,141,2638315.46,0,0,0,{"$f":"SUMIF('Раздел 2'!B:B,B29,'Раздел 2'!C:C)+SUMIF('Раздел 3'!B:B,B29,'Раздел 3'!C:C)+SUMIF('Раздел 4'!B:B,B29,'Раздел 4'!C:C)","v":2638315.46},"2022-12-30","РО",null,{"$f":"M31-'Раздел 2'!C17-'Раздел 3'!C24","v":0}]
[{"$f":"A29+1","v":12},"Пос. Мурино, ул. Оборонная, д. 24  ",1994,null,"Ж/б панели",10,3,3,8215,6784,3645,205,7914946.3799999999,{"$f":"'Раздел 3'!#REF!","v":{"$error":"#REF!"}},{"$f":"'Раздел 3'!#REF!","v":{"$error":"#REF!"}},{"$f":"'Раздел 3'!#REF!","v":{"$error":"#REF!"}},{"$f":"SUMIF('Раздел 2'!B:B,B30,'Раздел 2'!C:C)+SUMIF('Раздел 3'!B:B,B30,'Раздел 3'!C:C)+SUMIF('Раздел 4'!B:B,B30,'Раздел 4'!C:C)","v":7914946.3799999999},"2022-12-30","РО"]
["Итого по муниципальному образованию",null,"x","x","x","x",{"$f":"G30","v":3},"x",{"$f":"SUM(I27:I29)","v":16631},13900,7581,465,{"$f":"SUM(M27:M30)","v":23583165.68},{"$f":"SUM(N27:N30)","v":{"$error":"#REF!"}},{"$error":"#REF!"},{"$error":"#REF!"},{"$f":"SUM(Q27:Q30)","v":23583165.68},"x","x",{"$f":"Q31-'Раздел 2'!C17-'Раздел 3'!C24","v":0}]
["Муниципальное образование Свердловское городское поселение"]
[{"$f":"A30+1","v":13},"Пос. им. Свердлова, микрорайон 1, д. 8",1994,null,"Ж/б панели ",9,4,4,8231.7000000000007,8202.2999999999993,8132.9,273,{"$f":"Q33","v":10553261.84},0,0,0,{"$f":"SUMIF('Раздел 2'!B:B,B33,'Раздел 2'!C:C)+SUMIF('Раздел 3'!B:B,B33,'Раздел 3'!C:C)+SUMIF('Раздел 4'!B:B,B33,'Раздел 4'!C:C)","v":10553261.84},"2022-12-30","РО"]
["Итого по муниципальному образованию",null,"x","x","x","x",{"$f":"G33","v":4},{"$f":"SUM(H33)","v":4},{"$f":"SUM(I33)","v":8231.7000000000007},{"$f":"SUM(J33)","v":8202.2999999999993},8132.9,273,{"$f":"M33","v":10553261.84},{"$f":"N33","v":0},0,0,{"$f":"Q33","v":10553261.84},"x","x"]
["Муниципальное образование \"Сертолово\""]
[{"$f":"A33+1","v":14},"Г. Сертолово, микрорайон Сертолово-1, ул. Молодежная, д. 8, корп. 2",1993,null,"панельный",10,3,3,7982.3,7092.3,7092.3,286,{"$f":"Q36","v":7914946.3799999999},0,0,0,{"$f":"SUMIF('Раздел 2'!B:B,B36,'Раздел 2'!C:C)+SUMIF('Раздел 3'!B:B,B36,'Раздел 3'!C:C)+SUMIF('Раздел 4'!B:B,B36,'Раздел 4'!C:C)","v":7914946.3799999999},"2022-12-30","РО"]
[{"$f":"A36+1","v":15},"Г. Сертолово, микрорайон Сертолово-1, ул. Центральная, д. 6, корп. 1",1994,null,"панельный",10,3,3,7572,6727,6727,339,{"$f":"Q37","v":8667924.4699999988},0,0,0,{"$f":"SUMIF('Раздел 2'!B:B,B37,'Раздел 2'!C:C)+SUMIF('Раздел 3'!B:B,B37,'Раздел 3'!C:C)+SUMIF('Раздел 4'!B:B,B37,'Раздел 4'!C:C)","v":8667924.4699999988},"2022-12-30","РО"]
[{"$f":"A37+1","v":16},"Г. Сертолово, микрорайон Сертолово-1, ул. Центральная, д. 7, корп. 1",1993,null,"панельный",10,3,3,7654,6803.8,6803.8,296,8680076.0399999991,0,0,0,{"$f":"SUMIF('Раздел 2'!B:B,B38,'Раздел 2'!C:C)+SUMIF('Раздел 3'!B:B,B38,'Раздел 3'!C:C)+SUMIF('Раздел 4'!B:B,B38,'Раздел 4'!C:C)","v":8680076.0399999991},"2022-12-30","РО"]
["Итого по муниципальному образованию",null,"x","x","x","x",{"$f":"SUM(G36:G38)","v":9},"x",23208.3,20623.099999999999,20623.099999999999,921,{"$f":"SUM(M36:M38)","v":25262946.889999997},{"$f":"SUM(N36:N38)","v":0},0,0,{"$f":"SUM(Q36:Q38)","v":25262946.889999997},"x","x"]
["Итого по Всеволожскому муниципальному району",null,"x","x","x","x",{"$f":"G39+G34+G31+G25","v":34},"х",{"$f":"I39+I34+I31+I25","v":82429.600000000006},{"$f":"J39+J34+J31+J25","v":77084},51938.400000000001,2549.1999999999998,116044269.69,{"$error":"#REF!"},{"$error":"#REF!"},{"$error":"#REF!"},116044269.69,"x","x",{"$f":"Q40-'Раздел 2'!C26-'Раздел 3'!C31-'Раздел 4'!C17","v":0},{"$f":"M40-'Раздел 2'!C26-'Раздел 3'!C31-'Раздел 4'!C17","v":0}]
["Выборгский  район"]
["Муниципальное образование \"Город Выборг"]
[{"$f":"A38+1","v":17},"Г. Выборг, бул. Кутузова, д. 33  ",1940,null,"кирпич",6,3,3,2910.22,2910.22,2630.54,80,{"$f":"Q43","v":2540171.3722000001},0,0,0,{"$f":"SUMIF('Раздел 2'!B:B,B43,'Раздел 2'!C:C)+SUMIF('Раздел 3'!B:B,B43,'Раздел 3'!C:C)+SUMIF('Раздел 4'!B:B,B43,'Раздел 4'!C:C)","v":2540171.3722000001},"2022-12-30","РО"]
[{"$f":"A43+1","v":18},"Г. Выборг, просп. Московский, д. 10 ",1934,null,"шлакоблоки, кирпич","7 и 8",1,3,5809.49,2865.55,5585.42,167,{"$f":"Q44","v":2655861.5674000001},0,0,0,{"$f":"SUMIF('Раздел 2'!B:B,B44,'Раздел 2'!C:C)+SUMIF('Раздел 3'!B:B,B44,'Раздел 3'!C:C)+SUMIF('Раздел 4'!B:B,B44,'Раздел 4'!C:C)","v":2655861.5674000001},"2022-12-30","РО"]
[19,"Г. Выборг, просп. Победы, д. 12  ",1996,null,"Кер.бет.",9,4,4,7257.77,7257.77,6766.67,297,10553261.84,0,0,0,{"$f":"SUMIF('Раздел 2'!B:B,B45,'Раздел 2'!C:C)+SUMIF('Раздел 3'!B:B,B45,'Раздел 3'!C:C)+SUMIF('Раздел 4'!B:B,B45,'Раздел 4'!C:C)","v":10553261.84},"2022-12-30","РО"]
[20,"Г. Выборг, просп. Победы, д. 6  ",1989,null,"Кер.бет.",9,1,1,2002.3,2002.3,1850.9,85,2439950.0787999998,0,0,0,{"$f":"SUMIF('Раздел 2'!B:B,B46,'Раздел 2'!C:C)+SUMIF('Раздел 3'!B:B,B46,'Раздел 3'!C:C)+SUMIF('Раздел 4'!B:B,B46,'Раздел 4'!C:C)","v":2439950.0787999998},"2022-12-30","РО"]
[21,"Г. Выборг, пр. Победы, д. 8",1991,null,"Кер.бет.",9,1,1,2003.5,2003.5,2003.5,88,2438131.6228,0,0,0,{"$f":"SUMIF('Раздел 2'!B:B,B47,'Раздел 2'!C:C)+SUMIF('Раздел 3'!B:B,B47,'Раздел 3'!C:C)+SUMIF('Раздел 4'!B:B,B47,'Раздел 4'!C:C)","v":2438131.6228},"2022-12-30","РО"]
[22,"Г. Выборг, ул. Аристарха Макарова, д. 4  ",1990,null,"панель",9,2,2,4036.8,4036.8,3502.6,173,4914710.1667999998,0,0,0,{"$f":"SUMIF('Раздел 2'!B:B,B48,'Раздел 2'!C:C)+SUMIF('Раздел 3'!B:B,B48,'Раздел 3'!C:C)+SUMIF('Раздел 4'!B:B,B48,'Раздел 4'!C:C)","v":4914710.1667999998},"2022-12-30","РО"]
[23,"Г. Выборг, ул. Гагарина, д. 29  ",1983,null,"Кер.бет.",9,3,3,6092.3,6092.3,5241.8,286,11629909.380000001,0,0,0,{"$f":"SUMIF('Раздел 2'!B:B,B49,'Раздел 2'!C:C)+SUMIF('Раздел 3'!B:B,B49,'Раздел 3'!C:C)+SUMIF('Раздел 4'!B:B,B49,'Раздел 4'!C:C)","v":11629909.380000001},"2022-12-30","РО"]
[24,"Г. Выборг, ул. Гагарина, д. 65  ",1993,null,"панель",9,1,1,1989.5,1989.5,1836.8,82,2438059.6413999996,0,0,0,{"$f":"SUMIF('Раздел 2'!B:B,B50,'Раздел 2'!C:C)+SUMIF('Раздел 3'!B:B,B50,'Раздел 3'!C:C)+SUMIF('Раздел 4'!B:B,B50,'Раздел 4'!C:C)","v":2438059.6413999996},"2022-12-30","РО"]
[25,"Г. Выборг, ул. Гагарина, д. 69  ",1994,null,"панель",9,2,2,4782,4782,3975.5,184,5601418.9199999999,0,0,0,{"$f":"SUMIF('Раздел 2'!B:B,B51,'Раздел 2'!C:C)+SUMIF('Раздел 3'!B:B,B51,'Раздел 3'!C:C)+SUMIF('Раздел 4'!B:B,B51,'Раздел 4'!C:C)","v":5601418.9199999999},"2022-12-30","РО"]
[26,"Г. Выборг, ул. Гагарина, д. 71  ",1995,null,"панель",9,2,2,4031.34,4031.34,3919.44,165,4909588.5121999998,0,0,0,{"$f":"SUMIF('Раздел 2'!B:B,B52,'Раздел 2'!C:C)+SUMIF('Раздел 3'!B:B,B52,'Раздел 3'!C:C)+SUMIF('Раздел 4'!B:B,B52,'Раздел 4'!C:C)","v":4909588.5121999998},"2022-12-30","РО"]
[27,"Г. Выборг, ул. Крепостная, д. 39а  ",1993,null,"кирпич",9,1,1,1886.9,1886.9,1876,42,3876636.46,0,0,0,{"$f":"SUMIF('Раздел 2'!B:B,B53,'Раздел 2'!C:C)+SUMIF('Раздел 3'!B:B,B53,'Раздел 3'!C:C)+SUMIF('Раздел 4'!B:B,B53,'Раздел 4'!C:C)","v":3876636.46},"2022-12-30","РО"]
[28,"Г. Выборг, ул. Офицерская, д. 12  ",1993,null,"Кер.блок",9,1,1,1561.5,1561.5,1422.9,84,2481167.5444,0,0,0,{"$f":"SUMIF('Раздел 2'!B:B,B54,'Раздел 2'!C:C)+SUMIF('Раздел 3'!B:B,B54,'Раздел 3'!C:C)+SUMIF('Раздел 4'!B:B,B54,'Раздел 4'!C:C)","v":2481167.5444},"2022-12-30","РО"]
[29,"Г. Выборг, ул. Офицерская, д. 14  ",1993,null,"Кер.блок",9,1,1,2421.3000000000002,2421.3000000000002,2163.8000000000002,105,2483623.2352,0,0,0,{"$f":"SUMIF('Раздел 2'!B:B,B55,'Раздел 2'!C:C)+SUMIF('Раздел 3'!B:B,B55,'Раздел 3'!C:C)+SUMIF('Раздел 4'!B:B,B55,'Раздел 4'!C:C)","v":2483623.2352},"2022-12-30","РО"]
[30,"Г. Выборг, ул. Офицерская, д. 16  ",1993,null,"Кер.блок",9,1,1,1568.6,1568.6,1464,91,2754215.7508,0,0,0,{"$f":"SUMIF('Раздел 2'!B:B,B56,'Раздел 2'!C:C)+SUMIF('Раздел 3'!B:B,B56,'Раздел 3'!C:C)+SUMIF('Раздел 4'!B:B,B56,'Раздел 4'!C:C)","v":2754215.7508},"2022-12-30","РО"]
[31,"Г. Выборг, ул. Приморская, д. 36  ",1993,null,"Кер.бет.",9,2,2,4017.1,4017.1,3842.1,163,5389943.3137999997,0,0,0,{"$f":"SUMIF('Раздел 2'!B:B,B57,'Раздел 2'!C:C)+SUMIF('Раздел 3'!B:B,B57,'Раздел 3'!C:C)+SUMIF('Раздел 4'!B:B,B57,'Раздел 4'!C:C)","v":5389943.3137999997},"2022-12-30","РО"]
[32,"Г. Выборг, ул. Приморская, д. 40  ",1990,null,"Кер.бет.",9,4,4,6372,6372,5572.7,239,10333120.7422,0,0,0,{"$f":"SUMIF('Раздел 2'!B:B,B58,'Раздел 2'!C:C)+SUMIF('Раздел 3'!B:B,B58,'Раздел 3'!C:C)+SUMIF('Раздел 4'!B:B,B58,'Раздел 4'!C:C)","v":10333120.7422},"2022-12-30","РО"]
[33,"Г. Выборг, ул. Приморская, д. 53  ",1994,null,"Кер.бет.",9,2,2,3968.5,3968.5,3339.9,169,5395520.1433999995,0,0,0,{"$f":"SUMIF('Раздел 2'!B:B,B59,'Раздел 2'!C:C)+SUMIF('Раздел 3'!B:B,B59,'Раздел 3'!C:C)+SUMIF('Раздел 4'!B:B,B59,'Раздел 4'!C:C)","v":5395520.1433999995},"2022-12-30","РО"]
[34,"Г. Выборг, ул. Приморская, д. 64  ",1989,null,"Кер.бет.",9,2,2,4002.8,4002.8,3526.4,173,4345632.0199999996,0,0,0,{"$f":"SUMIF('Раздел 2'!B:B,B60,'Раздел 2'!C:C)+SUMIF('Раздел 3'!B:B,B60,'Раздел 3'!C:C)+SUMIF('Раздел 4'!B:B,B60,'Раздел 4'!C:C)","v":4345632.0199999996},"2022-12-30","РО"]
[35,"Г. Выборг, ул. Травяная, д. 6  ",1994,null,"панель",9,6,2,3229.6,3229.6,3011.1,94,5480984.4848000007,0,0,0,{"$f":"SUMIF('Раздел 2'!B:B,B61,'Раздел 2'!C:C)+SUMIF('Раздел 3'!B:B,B61,'Раздел 3'!C:C)+SUMIF('Раздел 4'!B:B,B61,'Раздел 4'!C:C)","v":5480984.4848000007},"2022-12-30","РО"]
[36,"Г. Выборг, ш. Ленинградское, д. 51а  ",1994,null,"ж/б",9,1,1,2490.5,2490.5,2490.5,73,2699518.7301999996,0,0,0,{"$f":"SUMIF('Раздел 2'!B:B,B62,'Раздел 2'!C:C)+SUMIF('Раздел 3'!B:B,B62,'Раздел 3'!C:C)+SUMIF('Раздел 4'!B:B,B62,'Раздел 4'!C:C)","v":2699518.7301999996},"2022-12-30","РО"]
["Итого по муниципальному образованию",null,"x","x","x","x",{"$f":"SUM(G43:G62)","v":41},"x",{"$f":"SUM(I43:I62)","v":72434.02},{"$f":"SUM(J43:J62)","v":69490.080000000002},66022.570000000007,{"$f":"SUM(L43:L62)","v":2840},{"$f":"SUM(M43:M62)","v":95361425.526399985},{"$f":"SUM(N43:N62)","v":0},0,0,{"$f":"SUM(Q43:Q62)","v":95361425.526399985},"x","x",{"$f":"Q63-'Раздел 2'!C47-'Раздел 3'!C37-'Раздел 4'!C21","v":-1.3038516044616699E-8},{"$f":"M63-'Раздел 2'!C47-'Раздел 3'!C38-'Раздел 4'!C22","v":-1.3038516044616699E-8}]
["Муниципальное образование Светогорское городское поселение"]
[{"$f":"A62+1","v":37},"Г. Светогорск, ул. Красноармейская, д. 26",1984,null,"панель",9,3,3,6751.6,6751.6,4709.1000000000004,217,{"$f":"Q65","v":8324810.25},0,0,0,{"$f":"SUMIF('Раздел 2'!B:B,B65,'Раздел 2'!C:C)+SUMIF('Раздел 3'!B:B,B65,'Раздел 3'!C:C)+SUMIF('Раздел 4'!B:B,B65,'Раздел 4'!C:C)","v":8324810.25},"2022-12-30","РО"]
[{"$f":"A65+1","v":38},"Г. Светогорск, ул. Красноармейская, д. 32",1983,null,"панель",9,5,6,9392.4,9392.4,9392.4,411,{"$f":"Q66","v":13117704.67},0,0,0,{"$f":"SUMIF('Раздел 2'!B:B,B66,'Раздел 2'!C:C)+SUMIF('Раздел 3'!B:B,B66,'Раздел 3'!C:C)+SUMIF('Раздел 4'!B:B,B66,'Раздел 4'!C:C)","v":13117704.67},"2022-12-30","РО"]
[{"$f":"A66+1","v":39},"Г. Светогорск, ул. Красноармейская, д. 8",1984,null,"панель",9,3,3,4683.8999999999996,4683.8999999999996,4650.5,171,7759701.0999999996,0,0,0,{"$f":"SUMIF('Раздел 2'!B:B,B67,'Раздел 2'!C:C)+SUMIF('Раздел 3'!B:B,B67,'Раздел 3'!C:C)+SUMIF('Раздел 4'!B:B,B67,'Раздел 4'!C:C)","v":7759701.0999999996},"2022-12-30","РО"]
["Итого по муниципальному образованию",null,"x","x","x","x",{"$f":"SUM(G65:G67)","v":11},"x",{"$f":"SUM(I65:I67)","v":20827.900000000001},20827.900000000001,18752,799,29202216.020000003,0,{"$f":"SUM(O65:O67)","v":0},0,{"$f":"SUM(Q65:Q67)","v":29202216.020000003},"x","x",null,{"$f":"M69-'Раздел 2'!C53","v":0}]
["Муниципальное образование Советское городское поселение"]
[{"$f":"A67+1","v":40},"Г.п. Советский, ул. Садовая, д. 46",1986,null,"блочный",9,1,1,4024.4,4024.4,3621.96,122,{"$f":"Q70","v":2381097.2199999997},0,0,0,{"$f":"SUMIF('Раздел 2'!B:B,B70,'Раздел 2'!C:C)+SUMIF('Раздел 3'!B:B,B70,'Раздел 3'!C:C)+SUMIF('Раздел 4'!B:B,B70,'Раздел 4'!C:C)","v":2381097.2199999997},"2022-12-30","РО"]
["Итого по муниципальному образованию",null,"x","x","x","x",1,"x",{"$f":"SUM(I70)","v":4024.4},{"$f":"SUM(J70)","v":4024.4},3621.96,122,{"$f":"M70","v":2381097.2199999997},{"$f":"N70","v":0},0,0,2381097.2199999997,"x","x"]
["Итого по Выборгскому району",null,"x","x","x","x",{"$f":"G71+G68+G63","v":53},"x",{"$f":"I71+I68+I63","v":97286.32},{"$f":"J71+J68+J63","v":94342.38},{"$f":"K71+K68+K63","v":88396.53},{"$f":"L71+L68+L63","v":3761},{"$f":"M71+M68+M63","v":126944738.76639998},{"$f":"N71+N68+N63","v":0},0,0,126944738.76639998,"x","x",{"$f":"Q72-'Раздел 2'!C56-'Раздел 3'!C38-'Раздел 4'!C22","v":-2.7939677238464355E-8},{"$f":"M72-'Раздел 2'!C56-'Раздел 3'!C38-'Раздел 4'!C22","v":-2.7939677238464355E-8}]
["Гатчинский муниципальный район"]
["Муниципальное образование Город Гатчина"]
[{"$f":"A70+1","v":41},"Г. Гатчина, просп. 25 Октября, д. 50",1990,null,"кирпич",6,6,6,8643,5163,2879,223,{"$f":"Q75","v":11544197.616},0,0,0,{"$f":"SUMIF('Раздел 2'!B:B,B75,'Раздел 2'!C:C)+SUMIF('Раздел 3'!B:B,B75,'Раздел 3'!C:C)+SUMIF('Раздел 4'!B:B,B75,'Раздел 4'!C:C)","v":11544197.616},"2022-12-30","РО"]
[{"$f":"A75+1","v":42},"Г. Гатчина, просп. 25 Октября, д. 50, кор. 1",1989,null,"панельный",9,2,2,6121.3,4041.4,3953.1,189,{"$f":"Q76","v":5467384.5899999999},0,0,0,{"$f":"SUMIF('Раздел 2'!B:B,B76,'Раздел 2'!C:C)+SUMIF('Раздел 3'!B:B,B76,'Раздел 3'!C:C)+SUMIF('Раздел 4'!B:B,B76,'Раздел 4'!C:C)","v":5467384.5899999999},"2022-12-30","РО"]
[43,"Г. Гатчина, просп. 25 Октября, д. 59",1993,null,"кирпич",6,3,3,15895.7,7164.3,6932.7,239,8207128.3799999999,0,0,0,{"$f":"SUMIF('Раздел 2'!B:B,B77,'Раздел 2'!C:C)+SUMIF('Раздел 3'!B:B,B77,'Раздел 3'!C:C)+SUMIF('Раздел 4'!B:B,B77,'Раздел 4'!C:C)","v":8207128.3799999999},"2022-12-30","РО"]
[44,"Г. Гатчина, просп. 25 Октября, д. 63",1988,null,"кирпич",6,3,3,15055,5826,5522.3,221,6190138.2000000002,0,0,0,{"$f":"SUMIF('Раздел 2'!B:B,B78,'Раздел 2'!C:C)+SUMIF('Раздел 3'!B:B,B78,'Раздел 3'!C:C)+SUMIF('Раздел 4'!B:B,B78,'Раздел 4'!C:C)","v":6190138.2000000002},"2022-12-30","РО"]
[45,"Г. Гатчина, ул. Авиатриссы Зверевой, д. 11",1988,null,"панельный",9,2,2,5884.4,3923,3488.1,200,4275976.2932000002,0,0,0,{"$f":"SUMIF('Раздел 2'!B:B,B79,'Раздел 2'!C:C)+SUMIF('Раздел 3'!B:B,B79,'Раздел 3'!C:C)+SUMIF('Раздел 4'!B:B,B79,'Раздел 4'!C:C)","v":4275976.2932000002},"2022-12-30","РО"]
[46,"Г. Гатчина, ул. Авиатриссы Зверевой, д. 15",1990,null,"панельный",9,2,2,5784.3,4017.3,3925,203,5440054.1099999994,0,0,0,{"$f":"SUMIF('Раздел 2'!B:B,B80,'Раздел 2'!C:C)+SUMIF('Раздел 3'!B:B,B80,'Раздел 3'!C:C)+SUMIF('Раздел 4'!B:B,B80,'Раздел 4'!C:C)","v":5440054.1099999994},"2022-12-30","РО"]
[47,"Г. Гатчина, ул. Авиатриссы Зверевой, д. 20",1991,null,"панельный",9,2,2,5859.5,3957.3,3611.3,192,5467206.1299999999,0,0,0,{"$f":"SUMIF('Раздел 2'!B:B,B81,'Раздел 2'!C:C)+SUMIF('Раздел 3'!B:B,B81,'Раздел 3'!C:C)+SUMIF('Раздел 4'!B:B,B81,'Раздел 4'!C:C)","v":5467206.1299999999},"2022-12-30","РО"]
[48,"Г. Гатчина, ул. Авиатриссы Зверевой, д. 3",1989,null,"панельный",9,2,2,5953.3,3980,3782.5,203,5466365.2699999996,0,0,0,{"$f":"SUMIF('Раздел 2'!B:B,B82,'Раздел 2'!C:C)+SUMIF('Раздел 3'!B:B,B82,'Раздел 3'!C:C)+SUMIF('Раздел 4'!B:B,B82,'Раздел 4'!C:C)","v":5466365.2699999996},"2022-12-30","РО"]
[49,"Г. Гатчина, ул. Володарского, д. 25А",2992,null,"панельный",7,2,2,5070.5,3137,3081.9,158,5177708.0199999996,0,0,0,{"$f":"SUMIF('Раздел 2'!B:B,B83,'Раздел 2'!C:C)+SUMIF('Раздел 3'!B:B,B83,'Раздел 3'!C:C)+SUMIF('Раздел 4'!B:B,B83,'Раздел 4'!C:C)","v":5177708.0199999996},"2022-12-30","РО"]
[50,"Г. Гатчина, ул. Красных Военлётов, д. 9",1990,null,"панельный",9,4,4,12490.5,8071.5,7355.2,387,10532095.24,0,0,0,{"$f":"SUMIF('Раздел 2'!B:B,B84,'Раздел 2'!C:C)+SUMIF('Раздел 3'!B:B,B84,'Раздел 3'!C:C)+SUMIF('Раздел 4'!B:B,B84,'Раздел 4'!C:C)","v":10532095.24},"2022-12-30","РО"]
[51,"Г. Гатчина, ул. Рощинская, д. 11, кор. 1",1993,null,"кирпич",8,1,1,3301.1,1510.1,1328.7,92,2735709.46,0,0,0,{"$f":"SUMIF('Раздел 2'!B:B,B85,'Раздел 2'!C:C)+SUMIF('Раздел 3'!B:B,B85,'Раздел 3'!C:C)+SUMIF('Раздел 4'!B:B,B85,'Раздел 4'!C:C)","v":2735709.46},"2022-12-30","РО"]
[52,"Г. Гатчина, ул. Рощинская, д. 13, кор. 1",1990,null,"кирпич",7,1,1,2965,1535.7,1501.4,80,2196923.5120000001,0,0,0,{"$f":"SUMIF('Раздел 2'!B:B,B86,'Раздел 2'!C:C)+SUMIF('Раздел 3'!B:B,B86,'Раздел 3'!C:C)+SUMIF('Раздел 4'!B:B,B86,'Раздел 4'!C:C)","v":2196923.5120000001},"2022-12-30","РО"]
[53,"Г. Гатчина, ул. Рощинская, д. 13А",1991,null,"кирпич",5,2,2,3831.4,1743.9,2237.8000000000002,95,5471418.9199999999,0,0,0,{"$f":"SUMIF('Раздел 2'!B:B,B87,'Раздел 2'!C:C)+SUMIF('Раздел 3'!B:B,B87,'Раздел 3'!C:C)+SUMIF('Раздел 4'!B:B,B87,'Раздел 4'!C:C)","v":5471418.9199999999},"2022-12-30","РО"]
[54,"Г. Гатчина, ул. Рощинская, д. 19",1994,null,"кирпич",7,4,5,12030.6,11199.2,8436.7999999999993,298,15506545.84,0,0,0,{"$f":"SUMIF('Раздел 2'!B:B,B88,'Раздел 2'!C:C)+SUMIF('Раздел 3'!B:B,B88,'Раздел 3'!C:C)+SUMIF('Раздел 4'!B:B,B88,'Раздел 4'!C:C)","v":15506545.84},"2022-12-30","РО"]
[55,"Г. Гатчина, ул. Рощинская, д. 3А",1993,null,"панельный",9,2,2,6130.2,4094.2,3859.6,95,5471418.9199999999,0,0,0,{"$f":"SUMIF('Раздел 2'!B:B,B89,'Раздел 2'!C:C)+SUMIF('Раздел 3'!B:B,B89,'Раздел 3'!C:C)+SUMIF('Раздел 4'!B:B,B89,'Раздел 4'!C:C)","v":5471418.9199999999},"2022-12-30","РО"]
[56,"Г. Гатчина, ул. Рощинская, д. 9Г",1993,null,"панельный",9,2,2,6222,4056.6,3960.4,194,7753272.9199999999,0,0,0,{"$f":"SUMIF('Раздел 2'!B:B,B90,'Раздел 2'!C:C)+SUMIF('Раздел 3'!B:B,B90,'Раздел 3'!C:C)+SUMIF('Раздел 4'!B:B,B90,'Раздел 4'!C:C)","v":7753272.9199999999},"2022-12-30","РО"]
[57,"Г. Гатчина, ул. Хохлова, д. 2",1995,null,"кирпич",7,3,3,5575.2,3438.6,3109.3,196,7914946.3799999999,0,0,0,{"$f":"SUMIF('Раздел 2'!B:B,B91,'Раздел 2'!C:C)+SUMIF('Раздел 3'!B:B,B91,'Раздел 3'!C:C)+SUMIF('Раздел 4'!B:B,B91,'Раздел 4'!C:C)","v":7914946.3799999999},"2022-12-30","РО"]
[58,"Г. Гатчина, ул. Чехова, д. 14",1989,null,"кирпич",9,2,2,7847.3,3564.3,3232.7,160,4545663.4160000011,0,0,0,{"$f":"SUMIF('Раздел 2'!B:B,B92,'Раздел 2'!C:C)+SUMIF('Раздел 3'!B:B,B92,'Раздел 3'!C:C)+SUMIF('Раздел 4'!B:B,B92,'Раздел 4'!C:C)","v":4545663.4160000011},"2022-12-30","РО"]
["Итого по муниципальному образованию",null,"x","x","x","x",{"$f":"SUM(G75:G92)","v":45},"x",{"$f":"SUM(I75:I92)","v":134660.29999999999},80423.400000000009,{"$f":"SUM(K75:K92)","v":72197.8},3425,{"$f":"SUM(M75:M92)","v":119364153.21719998},{"$f":"SUM(N75:N92)","v":0},0,0,{"$f":"SUM(Q75:Q92)","v":119364153.21719998},"x","x"]
["Итого по Гатчинскому муниципальному району",null,"x","x","x","x",{"$f":"G93","v":45},"x",{"$f":"SUM(I93)","v":134660.29999999999},80423.400000000009,72197.8,3425,{"$f":"M93","v":119364153.21719998},{"$f":"N93","v":0},0,0,119364153.21719998,"x","x",{"$f":"Q94-'Раздел 2'!C73-'Раздел 3'!C53-'Раздел 4'!C30","v":0},{"$f":"M94-'Раздел 2'!C73-'Раздел 3'!C53-'Раздел 4'!C30","v":0}]
["Кингисеппский муниципальный район"]
["Муниципальное образование Кингисеппское городское поселение"]
[{"$f":"A92+1","v":59},"Г. Кингисепп, просп. Карла Маркса, д. 51",1974,null,"кирпич",9,1,1,3863.11,3863.11,3039.33,147,{"$f":"Q97","v":2735709.46},0,0,0,{"$f":"SUMIF('Раздел 2'!B:B,B97,'Раздел 2'!C:C)+SUMIF('Раздел 3'!B:B,B97,'Раздел 3'!C:C)+SUMIF('Раздел 4'!B:B,B97,'Раздел 4'!C:C)","v":2735709.46},"2022-12-30","РО"]
[{"$f":"A97+1","v":60},"Г. Кингисепп, б-р Большой , д. 11",1986,null,"монолит ",9,4,4,8025.7,8025.7,7762.7,350,{"$f":"Q98","v":10942837.84},0,0,0,{"$f":"SUMIF('Раздел 2'!B:B,B98,'Раздел 2'!C:C)+SUMIF('Раздел 3'!B:B,B98,'Раздел 3'!C:C)+SUMIF('Раздел 4'!B:B,B98,'Раздел 4'!C:C)","v":10942837.84},"2022-12-30","РО"]
[61,"Г. Кингисепп, б-р Большой, д. 15",1987,null,"монолит ",9,2,2,4014.8,4014.8,3957.6,172,5471418.9199999999,0,0,0,{"$f":"SUMIF('Раздел 2'!B:B,B99,'Раздел 2'!C:C)+SUMIF('Раздел 3'!B:B,B99,'Раздел 3'!C:C)+SUMIF('Раздел 4'!B:B,B99,'Раздел 4'!C:C)","v":5471418.9199999999},"2022-12-30","РО"]
[62,"Г. Кингисепп, б-р Большой, д. 17",1987,null,"монолит ",9,6,6,12017.6,12017.6,11735.6,541,16414256.76,0,0,0,{"$f":"SUMIF('Раздел 2'!B:B,B100,'Раздел 2'!C:C)+SUMIF('Раздел 3'!B:B,B100,'Раздел 3'!C:C)+SUMIF('Раздел 4'!B:B,B100,'Раздел 4'!C:C)","v":16414256.76},"2022-12-30","РО"]
[63,"Г. Кингисепп, ул. Воровского, д. 31в",null,null,null,null,2,null,null,null,null,null,null,null,null,null,{"$f":"SUMIF('Раздел 2'!B:B,B101,'Раздел 2'!C:C)+SUMIF('Раздел 3'!B:B,B101,'Раздел 3'!C:C)+SUMIF('Раздел 4'!B:B,B101,'Раздел 4'!C:C)","v":5471418.9199999999},"2022-12-30","РО"]
[64,"Г. Кингисепп, ул. Жукова, д. 4А",1968,null,"кирпич",9,1,1,1936.2,1936.2,1807.7,94,130000,0,0,0,{"$f":"SUMIF('Раздел 2'!B:B,B102,'Раздел 2'!C:C)+SUMIF('Раздел 3'!B:B,B102,'Раздел 3'!C:C)+SUMIF('Раздел 4'!B:B,B102,'Раздел 4'!C:C)","v":130000},"2022-12-30","РО"]
[65,"Г. Кингисепп, ул. Жукова, д. 8а",1967,null,"кирпич",9,1,1,1973.1,1973.1,1817.2,80,2735709.46,0,0,0,{"$f":"SUMIF('Раздел 2'!B:B,B103,'Раздел 2'!C:C)+SUMIF('Раздел 3'!B:B,B103,'Раздел 3'!C:C)+SUMIF('Раздел 4'!B:B,B103,'Раздел 4'!C:C)","v":2735709.46},"2022-12-30","РО"]
[66,"Г. Кингисепп, ш. Крикковское, д. 10а",1990,null,"панельный ",9,2,2,4018.5,4018.5,3854.6,193,5471418.9199999999,0,0,0,{"$f":"SUMIF('Раздел 2'!B:B,B104,'Раздел 2'!C:C)+SUMIF('Раздел 3'!B:B,B104,'Раздел 3'!C:C)+SUMIF('Раздел 4'!B:B,B104,'Раздел 4'!C:C)","v":5471418.9199999999},"2022-12-30","РО"]
[67,"Г. Кингисепп, ш. Крикковское, д. 12",1986,null,"панельный ",9,7,7,12986.58,12986.58,11323.03,705,19149966.219999999,0,0,0,{"$f":"SUMIF('Раздел 2'!B:B,B105,'Раздел 2'!C:C)+SUMIF('Раздел 3'!B:B,B105,'Раздел 3'!C:C)+SUMIF('Раздел 4'!B:B,B105,'Раздел 4'!C:C)","v":19149966.219999999},"2022-12-30","РО"]
[68,"Г. Кингисепп, ш. Крикковское, д. 14",1988,null,"панельный ",9,7,7,14504.9,14504.9,13678.1,711,19149966.219999999,0,0,0,{"$f":"SUMIF('Раздел 2'!B:B,B106,'Раздел 2'!C:C)+SUMIF('Раздел 3'!B:B,B106,'Раздел 3'!C:C)+SUMIF('Раздел 4'!B:B,B106,'Раздел 4'!C:C)","v":19149966.219999999},"2022-12-30","РО"]
[69,"Г. Кингисепп, ш. Крикковское, д. 35",1981,null,"панельный ",9,5,5,9763.7999999999993,9763.7999999999993,9171,584,13678547.300000001,0,0,0,{"$f":"SUMIF('Раздел 2'!B:B,B107,'Раздел 2'!C:C)+SUMIF('Раздел 3'!B:B,B107,'Раздел 3'!C:C)+SUMIF('Раздел 4'!B:B,B107,'Раздел 4'!C:C)","v":13678547.300000001},"2022-12-30","РО"]
[70,"Г. Кингисепп, ш. Крикковское, д. 39",1989,null,"панельный ",9,3,3,5976.9,5976.9,5782.17,242,8207128.3799999999,0,0,0,{"$f":"SUMIF('Раздел 2'!B:B,B108,'Раздел 2'!C:C)+SUMIF('Раздел 3'!B:B,B108,'Раздел 3'!C:C)+SUMIF('Раздел 4'!B:B,B108,'Раздел 4'!C:C)","v":8207128.3799999999},"2022-12-30","РО"]
[71,"Г. Кингисепп, ш. Крикковское, д. 6",1986,null,"панельный ",9,6,6,11470.51,11470.51,10040.32,637,16414256.76,0,0,0,{"$f":"SUMIF('Раздел 2'!B:B,B109,'Раздел 2'!C:C)+SUMIF('Раздел 3'!B:B,B109,'Раздел 3'!C:C)+SUMIF('Раздел 4'!B:B,B109,'Раздел 4'!C:C)","v":16414256.76},"2022-12-30","РО"]
["Итого по муниципальному образованию",null,"x","x","x","x",{"$f":"SUM(G97:G109)","v":47},"x",{"$f":"SUM(I97:I109)","v":90551.699999999983},90551.699999999983,83969.35,4456,{"$f":"SUM(M97:M109)","v":120501216.23999999},{"$f":"SUM(N97:N109)","v":0},0,0,125972635.16,"x","x"]
["Итого по Кингисеппскому муниципальному району",null,"x","x","x","x",{"$f":"G110","v":47},"x",{"$f":"SUM(I110)","v":90551.699999999983},90551.699999999983,83969.35,4456,{"$f":"M110","v":120501216.23999999},{"$f":"N110","v":0},0,0,125972635.16,"x","x",{"$f":"Q111-'Раздел 3'!C70-'Раздел 4'!C46","v":0},{"$f":"M111-'Раздел 4'!C46","v":638581.07999999821}]
["Киришский муниципальный район"]
["Муниципальное образование Киришское городское поселение"]
[{"$f":"A109+1","v":72},"Г. Кириши, бул. Плавницкий, д. 16",1992,null,"панель",9,1,1,2398.8000000000002,2121.8000000000002,2121.8000000000002,93,{"$f":"Q114","v":2803026.64},0,0,0,{"$f":"SUMIF('Раздел 2'!B:B,B114,'Раздел 2'!C:C)+SUMIF('Раздел 3'!B:B,B114,'Раздел 3'!C:C)+SUMIF('Раздел 4'!B:B,B114,'Раздел 4'!C:C)","v":2803026.64},"2022-12-30","РО",{"$f":"Q114-'Раздел 2'!C76","v":0}]
[{"$f":"A114+1","v":73},"Г. Кириши, бул. Плавницкий, д. 36",1997,null,"панель",9,1,1,3356,3000,3000,101,{"$f":"Q115","v":2735709.46},0,0,0,{"$f":"SUMIF('Раздел 2'!B:B,B115,'Раздел 2'!C:C)+SUMIF('Раздел 3'!B:B,B115,'Раздел 3'!C:C)+SUMIF('Раздел 4'!B:B,B115,'Раздел 4'!C:C)","v":2735709.46},"2022-12-30","РО",{"$f":"Q115-'Раздел 3'!C73-'Раздел 4'!C49","v":0}]
[74,"Г. Кириши, пер. Березовый, д. 10",1996,null,"панель",9,1,1,2631.1,2344.1,2344.1,101,2638315.46,0,0,0,{"$f":"SUMIF('Раздел 2'!B:B,B116,'Раздел 2'!C:C)+SUMIF('Раздел 3'!B:B,B116,'Раздел 3'!C:C)+SUMIF('Раздел 4'!B:B,B116,'Раздел 4'!C:C)","v":2638315.46},"2022-12-30","РО"]
[75,"Г. Кириши, просп. Героев, д. 15",1994,null,"панель",9,1,1,2426.1,2147,2147,71,2802614.46,0,0,0,{"$f":"SUMIF('Раздел 2'!B:B,B117,'Раздел 2'!C:C)+SUMIF('Раздел 3'!B:B,B117,'Раздел 3'!C:C)+SUMIF('Раздел 4'!B:B,B117,'Раздел 4'!C:C)","v":2802614.46},"2022-12-30","РО"]
[76,"Г. Кириши, просп. Героев, д. 17",1993,null,"панель",9,2,2,5223.7,4642.3,4642.3,159,5567978.9399999995,0,0,0,{"$f":"SUMIF('Раздел 2'!B:B,B118,'Раздел 2'!C:C)+SUMIF('Раздел 3'!B:B,B118,'Раздел 3'!C:C)+SUMIF('Раздел 4'!B:B,B118,'Раздел 4'!C:C)","v":5567978.9399999995},"2022-12-30","РО"]
[77,"Г. Кириши, просп. Ленина, д. 40",1991,null,"панель/кирпич","5/7",1,5,5647,4916.8,3992,176,2735709.46,0,0,0,{"$f":"SUMIF('Раздел 2'!B:B,B119,'Раздел 2'!C:C)+SUMIF('Раздел 3'!B:B,B119,'Раздел 3'!C:C)+SUMIF('Раздел 4'!B:B,B119,'Раздел 4'!C:C)","v":2735709.46},"2022-12-30","РО"]
[78,"Г. Кириши, просп. Ленина, д. 9",1964,null,"кирпич",9,1,1,2289.91,1995.59,1940.69,73,2735709.46,0,0,0,{"$f":"SUMIF('Раздел 2'!B:B,B120,'Раздел 2'!C:C)+SUMIF('Раздел 3'!B:B,B120,'Раздел 3'!C:C)+SUMIF('Раздел 4'!B:B,B120,'Раздел 4'!C:C)","v":2735709.46},"2022-12-30","РО"]
[79,"Г. Кириши, ул. Декабристов Бестужевых, д. 16",1990,null,"панель",9,1,1,3261.7,2702.6,2702.6,108,2803590.77,0,0,0,{"$f":"SUMIF('Раздел 2'!B:B,B121,'Раздел 2'!C:C)+SUMIF('Раздел 3'!B:B,B121,'Раздел 3'!C:C)+SUMIF('Раздел 4'!B:B,B121,'Раздел 4'!C:C)","v":2803590.77},"2022-12-30","РО"]
[80,"Г. Кириши, ул. Строителей, д. 2",1971,null,"кирпич",9,1,5,15493.65,13099.2,11188,519,2735709.46,0,0,0,{"$f":"SUMIF('Раздел 2'!B:B,B122,'Раздел 2'!C:C)+SUMIF('Раздел 3'!B:B,B122,'Раздел 3'!C:C)+SUMIF('Раздел 4'!B:B,B122,'Раздел 4'!C:C)","v":2735709.46},"2022-12-30","РО"]
[81,"Г. Кириши, ул. Строителей, д. 26",1974,null,"кирпич",9,1,5,15470.37,13282.4,11176.5,466,2735709.46,0,0,0,{"$f":"SUMIF('Раздел 2'!B:B,B123,'Раздел 2'!C:C)+SUMIF('Раздел 3'!B:B,B123,'Раздел 3'!C:C)+SUMIF('Раздел 4'!B:B,B123,'Раздел 4'!C:C)","v":2735709.46},"2022-12-30","РО"]
[82,"Г. Кириши, ул. Строителей, д. 28",1993,null,"панель",9,1,1,2749.3,2473.6999999999998,2411.3000000000002,90,2803316.73,0,0,0,{"$f":"SUMIF('Раздел 2'!B:B,B124,'Раздел 2'!C:C)+SUMIF('Раздел 3'!B:B,B124,'Раздел 3'!C:C)+SUMIF('Раздел 4'!B:B,B124,'Раздел 4'!C:C)","v":2803316.73},"2022-12-30","РО"]
[83,"Г. Кириши, ул. Строителей, д. 30",1991,null,"панель",9,3,3,7631.2,6837.2,6765.7,259,8449707.6699999999,0,0,0,{"$f":"SUMIF('Раздел 2'!B:B,B125,'Раздел 2'!C:C)+SUMIF('Раздел 3'!B:B,B125,'Раздел 3'!C:C)+SUMIF('Раздел 4'!B:B,B125,'Раздел 4'!C:C)","v":8449707.6699999999},"2022-12-30","РО"]
[84,"Г. Кириши, ул. Строителей, д. 46",1991,null,"панель",9,4,4,9023.5,7928.7,7928.7,334,11264437.789999999,0,0,0,{"$f":"SUMIF('Раздел 2'!B:B,B126,'Раздел 2'!C:C)+SUMIF('Раздел 3'!B:B,B126,'Раздел 3'!C:C)+SUMIF('Раздел 4'!B:B,B126,'Раздел 4'!C:C)","v":11264437.789999999},"2022-12-30","РО"]
[85,"Г. Кириши, ул. Энергетиков, д. 40",1994,null,"панель",9,1,1,2724.9,2445.3000000000002,2445.3000000000002,87,2803602.38,0,0,0,{"$f":"SUMIF('Раздел 2'!B:B,B127,'Раздел 2'!C:C)+SUMIF('Раздел 3'!B:B,B127,'Раздел 3'!C:C)+SUMIF('Раздел 4'!B:B,B127,'Раздел 4'!C:C)","v":2803602.38},"2022-12-30","РО"]
["Итого по муниципальному образованию",null,"x","x","x","x",{"$f":"SUM(G114:G127)","v":20},"x",{"$f":"SUM(I114:I127)","v":80327.23},{"$f":"SUM(J114:J127)","v":69936.69},64805.99,2637,{"$f":"SUM(M114:M127)","v":55615138.140000001},{"$f":"SUM(N114:N127)","v":0},0,0,{"$f":"SUM(Q114:Q127)","v":55615138.140000001},"x","x"]
["Итого по Киришскому муниципальному району",null,"x","x","x","x",{"$f":"G128","v":20},"x",{"$f":"SUM(I128)","v":80327.23},69936.69,64805.99,2637,{"$f":"M128","v":55615138.140000001},{"$f":"N128","v":0},0,0,55615138.140000001,"x","x",{"$f":"Q129-'Раздел 2'!C86-'Раздел 3'!C80-'Раздел 4'!C55","v":0},{"$f":"M129-'Раздел 2'!C86-'Раздел 3'!#REF!-'Раздел 4'!C55","v":{"$error":"#REF!"}}]
["Кировский муниципальный район"]
["Муниципальное образование Кировское городское поселение"]
[{"$f":"A127+1","v":86},"Г. Кировск, ул. Ладожская, д. 22",1992,null,"панели",9,4,4,8268.77,8268.77,7738.41,351,{"$f":"Q132","v":11213845.77},0,0,0,{"$f":"SUMIF('Раздел 2'!B:B,B132,'Раздел 2'!C:C)+SUMIF('Раздел 3'!B:B,B132,'Раздел 3'!C:C)+SUMIF('Раздел 4'!B:B,B132,'Раздел 4'!C:C)","v":11213845.77},"2022-12-30","РО"]
[{"$f":"A132+1","v":87},"Г. Кировск, ул. Молодежная, д. 3",1994,null,"панели",9,1,1,2073.9,2073.9,2073.9,102,{"$f":"Q133","v":2638315.46},0,0,0,{"$f":"SUMIF('Раздел 2'!B:B,B133,'Раздел 2'!C:C)+SUMIF('Раздел 3'!B:B,B133,'Раздел 3'!C:C)+SUMIF('Раздел 4'!B:B,B133,'Раздел 4'!C:C)","v":2638315.46},"2022-12-30","РО"]
[{"$f":"A133+1","v":88},"Г. Кировск, ул. Молодежная, д. 5",1993,null,"панели",9,1,1,2127.0700000000002,2127.0700000000002,2127.0700000000002,85,2638315.46,0,0,0,{"$f":"SUMIF('Раздел 2'!B:B,B134,'Раздел 2'!C:C)+SUMIF('Раздел 3'!B:B,B134,'Раздел 3'!C:C)+SUMIF('Раздел 4'!B:B,B134,'Раздел 4'!C:C)","v":2638315.46},"2022-12-30","РО"]
[{"$f":"A134+1","v":89},"Г. Кировск, ул. Новая, д. 13, кор. 1",1993,null,"панели",9,1,1,2084.56,2084.56,1634.41,97,2803461.56,0,0,0,{"$f":"SUMIF('Раздел 2'!B:B,B135,'Раздел 2'!C:C)+SUMIF('Раздел 3'!B:B,B135,'Раздел 3'!C:C)+SUMIF('Раздел 4'!B:B,B135,'Раздел 4'!C:C)","v":2803461.56},"2022-12-30","РО"]
[{"$f":"A135+1","v":90},"Г. Кировск, ул. Новая, д. 13, кор. 2",1992,null,"панели",9,1,1,2294.5300000000002,2294.5300000000002,2030.92,99,2803461.56,0,0,0,{"$f":"SUMIF('Раздел 2'!B:B,B136,'Раздел 2'!C:C)+SUMIF('Раздел 3'!B:B,B136,'Раздел 3'!C:C)+SUMIF('Раздел 4'!B:B,B136,'Раздел 4'!C:C)","v":2803461.56},"2022-12-30","РО"]
[{"$f":"A136+1","v":91},"Г. Кировск, ул. Северная, д. 17",1981,null,"панели",9,4,4,8373.15,8373.15,6978.52,383,11213600.860000001,0,0,0,{"$f":"SUMIF('Раздел 2'!B:B,B137,'Раздел 2'!C:C)+SUMIF('Раздел 3'!B:B,B137,'Раздел 3'!C:C)+SUMIF('Раздел 4'!B:B,B137,'Раздел 4'!C:C)","v":11213600.860000001},"2022-12-30","РО"]
["Итого по муниципальному образованию",null,"x","x","x","x",{"$f":"SUM(G132:G137)","v":12},"x",{"$f":"SUM(I132:I137)","v":25221.979999999996},{"$f":"SUM(J132:J137)","v":25221.979999999996},22583.23,{"$f":"SUM(L132:L137)","v":1117},{"$f":"SUM(M132:M137)","v":33311000.670000002},{"$f":"SUM(N132:N137)","v":0},0,0,{"$f":"SUM(Q132:Q137)","v":33311000.670000002},"x","x"]
["Муниципальное образование Отрадненское городское поселение"]
[{"$f":"A137+1","v":92},"Г. Отрадное, ул. Железнодорожная, д. 15",1984,null,"кирпич",9,1,1,2562.44,2562.44,1945.65,104,{"$f":"Q140","v":2802964.66},0,0,0,{"$f":"SUMIF('Раздел 2'!B:B,B140,'Раздел 2'!C:C)+SUMIF('Раздел 3'!B:B,B140,'Раздел 3'!C:C)+SUMIF('Раздел 4'!B:B,B140,'Раздел 4'!C:C)","v":2802964.66},"2022-12-30","РО"]
[{"$f":"A140+1","v":93},"Г. Отрадное, ул. Железнодорожная, д. 13",1991,null,"кирпич",9,2,2,6262.84,6262.84,4134.32,183,{"$f":"Q141","v":5276630.92},0,0,0,{"$f":"SUMIF('Раздел 2'!B:B,B141,'Раздел 2'!C:C)+SUMIF('Раздел 3'!B:B,B141,'Раздел 3'!C:C)+SUMIF('Раздел 4'!B:B,B141,'Раздел 4'!C:C)","v":5276630.92},"2022-12-30","РО"]
[{"$f":"A141+1","v":94},"Г. Отрадное, ул. Зарубина, д. 11а",1990,null,"кирпич",9,1,1,2733.35,2733.35,2724.2,129,2803463.4,0,0,0,{"$f":"SUMIF('Раздел 2'!B:B,B142,'Раздел 2'!C:C)+SUMIF('Раздел 3'!B:B,B142,'Раздел 3'!C:C)+SUMIF('Раздел 4'!B:B,B142,'Раздел 4'!C:C)","v":2803463.4},"2022-12-30","РО"]
[{"$f":"A142+1","v":95},"Г. Отрадное, ул. Зарубина, д. 15",1986,null,"кирпич",9,1,1,1900,1900,2573.98,132,2638315.46,0,0,0,{"$f":"SUMIF('Раздел 2'!B:B,B143,'Раздел 2'!C:C)+SUMIF('Раздел 3'!B:B,B143,'Раздел 3'!C:C)+SUMIF('Раздел 4'!B:B,B143,'Раздел 4'!C:C)","v":2638315.46},"2022-12-30","РО"]
[{"$f":"A143+1","v":96},"Г. Отрадное, ул. Лесная, д. 6",1988,null,"панель",9,1,1,3090.73,3090.73,2002.49,98,2733472.2,0,0,0,{"$f":"SUMIF('Раздел 2'!B:B,B144,'Раздел 2'!C:C)+SUMIF('Раздел 3'!B:B,B144,'Раздел 3'!C:C)+SUMIF('Раздел 4'!B:B,B144,'Раздел 4'!C:C)","v":2733472.2},"2022-12-30","РО"]
[{"$f":"A144+1","v":97},"Г. Отрадное, ул. Лесная, д. 10",1990,null,"панель",9,1,1,3066.28,3066.28,1995.12,83,3288315.46,0,0,0,{"$f":"SUMIF('Раздел 2'!B:B,B145,'Раздел 2'!C:C)+SUMIF('Раздел 3'!B:B,B145,'Раздел 3'!C:C)+SUMIF('Раздел 4'!B:B,B145,'Раздел 4'!C:C)","v":3288315.46},"2022-12-30","РО"]
[{"$f":"A145+1","v":98},"Г. Отрадное, ул. Советская, д. 25",1981,null,"кирпич",9,1,1,3109.14,3109.14,1956.81,105,2803469.7399999998,0,0,0,{"$f":"SUMIF('Раздел 2'!B:B,B146,'Раздел 2'!C:C)+SUMIF('Раздел 3'!B:B,B146,'Раздел 3'!C:C)+SUMIF('Раздел 4'!B:B,B146,'Раздел 4'!C:C)","v":2803469.7399999998},"2022-12-30","РО"]
[99,"Г. Отрадное, ул. Центральная,д.17",1995,null,"панель",9,4,4,12228.58,12228.58,8004.95,276,10553261.84,0,0,0,{"$f":"SUMIF('Раздел 2'!B:B,B147,'Раздел 2'!C:C)+SUMIF('Раздел 3'!B:B,B147,'Раздел 3'!C:C)+SUMIF('Раздел 4'!B:B,B147,'Раздел 4'!C:C)","v":10553261.84},"2022-12-30","РО"]
[100,"Г. Отрадное, ул. Щурова, д.4",1988,null,"панель",9,2,2,6155.35,6155.35,4039.83,176,5276630.92,0,0,0,{"$f":"SUMIF('Раздел 2'!B:B,B148,'Раздел 2'!C:C)+SUMIF('Раздел 3'!B:B,B148,'Раздел 3'!C:C)+SUMIF('Раздел 4'!B:B,B148,'Раздел 4'!C:C)","v":5276630.92},"2022-12-30","РО"]
["Итого по муниципальному образованию",null,"x","x","x","x",{"$f":"SUM(G140:G148)","v":14},"x",{"$f":"SUM(I140:I148)","v":41108.71},{"$f":"SUM(J140:J148)","v":41108.71},29377.35,1286,38176524.600000001,0,0,0,38176524.600000001,"x","x",{"$f":"Q149-'Раздел 2'!C106-'Раздел 3'!C92","v":0}]
["Итого по Кировскому муниципальному району",null,"x","x","x","x",{"$f":"G138+G149","v":26},"x",{"$f":"I149+I138","v":66330.69},{"$f":"J149+J138","v":66330.69},51960.58,2403,{"$f":"M138+M149","v":71487525.270000011},{"$f":"N138+N149","v":0},0,0,{"$f":"Q138+Q149","v":71487525.270000011},"x","x",{"$f":"Q150-'Раздел 2'!C107-'Раздел 3'!C93","v":0},{"$f":"M150-'Раздел 2'!C107-'Раздел 3'!C85","v":25083154.600000009}]
["Ломоносовский муниципальный район"]
["Муниципальное образование Аннинское сельское поселение"]
[{"$f":"A148+1","v":101},"Г.п. Новоселье, д. 7",2002,null,null,8,4,null,8904.2999999999993,8904.2999999999993,4472.8999999999996,159,null,null,null,null,{"$f":"SUMIF('Раздел 2'!B:B,B153,'Раздел 2'!C:C)+SUMIF('Раздел 3'!B:B,B153,'Раздел 3'!C:C)+SUMIF('Раздел 4'!B:B,B153,'Раздел 4'!C:C)","v":10942837.84},"2022-12-30","РО"]
["Итого по муниципальному образованию",null,"x","x","x","x",{"$f":"G153","v":4},"x",{"$f":"I153","v":8904.2999999999993},{"$f":"SUM(J153)","v":8904.2999999999993},4472.8999999999996,159,{"$f":"M153","v":0},{"$f":"N153","v":0},0,0,10942837.84,"x","x"]
["Муниципальное образование Русско-Высоцкое сельское поселение"]
[{"$f":"A153+1","v":102},"С. Русско-Высоцкое, д. 25",1993,null,"панельный",10,2,2,4753.3,4753.3,4472.8999999999996,159,{"$f":"Q156","v":5600112.2699999996},0,0,0,{"$f":"SUMIF('Раздел 2'!B:B,B156,'Раздел 2'!C:C)+SUMIF('Раздел 3'!B:B,B156,'Раздел 3'!C:C)+SUMIF('Раздел 4'!B:B,B156,'Раздел 4'!C:C)","v":5600112.2699999996},"2022-12-30","РО"]
["Итого по муниципальному образованию",null,"x","x","x","x",{"$f":"SUM(G156)","v":2},"x",{"$f":"SUM(I156)","v":4753.3},{"$f":"SUM(J156)","v":4753.3},4472.8999999999996,159,{"$f":"M156","v":5600112.2699999996},{"$f":"N156","v":0},0,0,5600112.2699999996,"x","x"]
["Итого по Ломоносовскому муниципальному району",null,"x","x","x","x",{"$f":"SUM(G157)","v":2},"x",{"$f":"I157+I154","v":13657.599999999999},{"$f":"J157+J154","v":13657.599999999999},8945.7999999999993,318,5600112.2699999996,0,0,0,{"$f":"Q157+Q154","v":16542950.109999999},"x","x",null,{"$f":"M158-'Раздел 2'!C112","v":0}]
["Лужский муниципальный район"]
["Муниципальное образование Лужское городское поселение"]
[{"$f":"A156+1","v":103},"Г. Луга, просп. Володарского, д. 26",1991,null,"панель",9,2,2,4870.2,3988.5,2974.7,168,{"$f":"Q161","v":7140000},0,0,0,{"$f":"SUMIF('Раздел 2'!B:B,B161,'Раздел 2'!C:C)+SUMIF('Раздел 3'!B:B,B161,'Раздел 3'!C:C)+SUMIF('Раздел 4'!B:B,B161,'Раздел 4'!C:C)","v":7140000},"2022-12-30","РО"]
[{"$f":"A161+1","v":104},"Г. Луга, просп. Урицкого, д. 101",1993,null,"панель",9,1,1,2745.8,2014.5,1974.3,59,{"$f":"Q162","v":2638315.46},0,0,0,{"$f":"SUMIF('Раздел 2'!B:B,B162,'Раздел 2'!C:C)+SUMIF('Раздел 3'!B:B,B162,'Раздел 3'!C:C)+SUMIF('Раздел 4'!B:B,B162,'Раздел 4'!C:C)","v":2638315.46},"2022-12-30","РО"]
[105,"Г. Луга, просп. Урицкого, д. 99",1993,null,"панель",9,1,1,2737.5,2006.2,1877.9,81,2638315.46,0,0,0,{"$f":"SUMIF('Раздел 2'!B:B,B163,'Раздел 2'!C:C)+SUMIF('Раздел 3'!B:B,B163,'Раздел 3'!C:C)+SUMIF('Раздел 4'!B:B,B163,'Раздел 4'!C:C)","v":2638315.46},"2022-12-30","РО"]
[106,"Г. Луга, ул. Миккели, д. 1, кор. 1",1993,null,"панель","5/9",1,5,7582,5566,5357.5,202,3876636.46,0,0,0,{"$f":"SUMIF('Раздел 2'!B:B,B164,'Раздел 2'!C:C)+SUMIF('Раздел 3'!B:B,B164,'Раздел 3'!C:C)+SUMIF('Раздел 4'!B:B,B164,'Раздел 4'!C:C)","v":3876636.46},"2022-12-30","РО"]
[107,"Г. Луга, ул. Миккели, д. 1, кор. 3",1994,null,"панель","5/9",1,5,7571.2,5555.2,5201.3,189,3876636.46,0,0,0,{"$f":"SUMIF('Раздел 2'!B:B,B165,'Раздел 2'!C:C)+SUMIF('Раздел 3'!B:B,B165,'Раздел 3'!C:C)+SUMIF('Раздел 4'!B:B,B165,'Раздел 4'!C:C)","v":3876636.46},"2022-12-30","РО"]
[108,"Г. Луга, ул. Победы, д. 4",1988,null,"панель",9,1,1,3004.6,1954.4,1803.1,82,3570000,0,0,0,{"$f":"SUMIF('Раздел 2'!B:B,B166,'Раздел 2'!C:C)+SUMIF('Раздел 3'!B:B,B166,'Раздел 3'!C:C)+SUMIF('Раздел 4'!B:B,B166,'Раздел 4'!C:C)","v":3570000},"2022-12-30","РО"]
[109,"Г. Луга, ул. Победы, д. 7",1977,null,"кирпич",10,1,1,2562.3000000000002,2180.6999999999998,1976.5,89,3700000,0,0,0,{"$f":"SUMIF('Раздел 2'!B:B,B167,'Раздел 2'!C:C)+SUMIF('Раздел 3'!B:B,B167,'Раздел 3'!C:C)+SUMIF('Раздел 4'!B:B,B167,'Раздел 4'!C:C)","v":3700000},"2022-12-30","РО"]
["Итого по муниципальному образованию",null,"x","x","x","x",{"$f":"SUM(G161:G167)","v":8},"x",{"$f":"SUM(I161:I167)","v":31073.599999999999},{"$f":"SUM(J161:J167)","v":23265.500000000004},21165.3,870,{"$f":"SUM(M161:M167)","v":27439903.840000004},{"$f":"SUM(N161:N167)","v":0},0,0,27439903.840000004,"x","x"]
["Итого по Лужскому муниципальному району",null,"x","x","x","x",{"$f":"G168","v":8},"x",{"$f":"SUM(I168)","v":31073.599999999999},23265.500000000004,21165.3,870,{"$f":"M168","v":27439903.840000004},{"$f":"N168","v":0},0,0,27439903.840000004,"x","x",{"$f":"Q169-'Раздел 2'!C123-'Раздел 3'!C104","v":0},{"$f":"M169-'Раздел 2'!C123-'Раздел 3'!C85","v":0}]
["Сосновоборский городской округ"]
["Муниципальное образование Сосновоборский городской округ"]
[{"$f":"A167+1","v":110},"Г. Сосновый Бор, ул. Ленинградская, д. 30",1989,null,"кирпич"," 5;7",6,8,10517.1,10517.1,7125.9,491,{"$f":"Q172","v":15932497.799999999},0,0,0,{"$f":"SUMIF('Раздел 2'!B:B,B172,'Раздел 2'!C:C)+SUMIF('Раздел 3'!B:B,B172,'Раздел 3'!C:C)+SUMIF('Раздел 4'!B:B,B172,'Раздел 4'!C:C)","v":15932497.799999999},"2022-12-30","РО"]
[{"$f":"A172+1","v":111},"Г. Сосновый Бор, ул. Ленинградская, д. 38",1987,null,"кирпич",9,1,1,1790.8,1090.4000000000001,1090.4000000000001,82,{"$f":"Q173","v":2735709.46},0,0,0,{"$f":"SUMIF('Раздел 2'!B:B,B173,'Раздел 2'!C:C)+SUMIF('Раздел 3'!B:B,B173,'Раздел 3'!C:C)+SUMIF('Раздел 4'!B:B,B173,'Раздел 4'!C:C)","v":2735709.46},"2022-12-30","РО"]
[112,"Г. Сосновый Бор, ул. Молодежная, д. 26",1989,null,"панель",9,2,2,3940.2,3940.2,2291.4,166,7594407.96,0,0,0,{"$f":"SUMIF('Раздел 2'!B:B,B174,'Раздел 2'!C:C)+SUMIF('Раздел 3'!B:B,B174,'Раздел 3'!C:C)+SUMIF('Раздел 4'!B:B,B174,'Раздел 4'!C:C)","v":7594407.96},"2022-12-30","РО"]
[113,"Г. Сосновый Бор, ул. Молодежная, д. 54",1991,null,"кирпич",9,1,1,3207.7,3207.7,1960.8,158,2804202.48,0,0,0,{"$f":"SUMIF('Раздел 2'!B:B,B175,'Раздел 2'!C:C)+SUMIF('Раздел 3'!B:B,B175,'Раздел 3'!C:C)+SUMIF('Раздел 4'!B:B,B175,'Раздел 4'!C:C)","v":2804202.48},"2022-12-30","РО"]
[114,"Г. Сосновый Бор, ул. Парковая, д. 18",1993,null,"панель",9,4,4,8212,8212,4889.2,337,11079698,0,0,0,{"$f":"SUMIF('Раздел 2'!B:B,B176,'Раздел 2'!C:C)+SUMIF('Раздел 3'!B:B,B176,'Раздел 3'!C:C)+SUMIF('Раздел 4'!B:B,B176,'Раздел 4'!C:C)","v":11079698},"2022-12-30","РО"]
[{"$f":"A176+1","v":115},"Г. Сосновый Бор, ул. Парковая, д. 22",1993,null,"кирпич",9,1,1,3241.7,2642.9,2094.1,72,2773711.94,0,0,0,{"$f":"SUMIF('Раздел 2'!B:B,B177,'Раздел 2'!C:C)+SUMIF('Раздел 3'!B:B,B177,'Раздел 3'!C:C)+SUMIF('Раздел 4'!B:B,B177,'Раздел 4'!C:C)","v":2773711.94},"2022-12-30","РО"]
[116,"Г. Сосновый Бор, ул. Парковая, д. 24",1992,null,"панель",9,4,4,8341.9,8341.9,4802.7,418,10776014.600000001,0,0,0,{"$f":"SUMIF('Раздел 2'!B:B,B178,'Раздел 2'!C:C)+SUMIF('Раздел 3'!B:B,B178,'Раздел 3'!C:C)+SUMIF('Раздел 4'!B:B,B178,'Раздел 4'!C:C)","v":10776014.600000001},"2022-12-30","РО"]
[117,"Г. Сосновый Бор, ул. Парковая, д. 44",1992,null,"монолит",9,3,3,9059.2999999999993,9059.2999999999993,8969.2000000000007,326,8367472,0,0,0,{"$f":"SUMIF('Раздел 2'!B:B,B179,'Раздел 2'!C:C)+SUMIF('Раздел 3'!B:B,B179,'Раздел 3'!C:C)+SUMIF('Раздел 4'!B:B,B179,'Раздел 4'!C:C)","v":8367472},"2022-12-30","РО"]
[118,"Г. Сосновый Бор, ул. Парковая, д. 70",1994,null,"кирпич",9,1,1,2238.1,2238.1,1332.8,98,2735709.46,0,0,0,{"$f":"SUMIF('Раздел 2'!B:B,B180,'Раздел 2'!C:C)+SUMIF('Раздел 3'!B:B,B180,'Раздел 3'!C:C)+SUMIF('Раздел 4'!B:B,B180,'Раздел 4'!C:C)","v":2735709.46},"2022-12-30","РО"]
[119,"Г. Сосновый Бор, ул. Сибирская, д. 5",1973,null,"кирпич",9,1,1,2017.7,2017.7,1989,85,3880100.4,0,0,0,{"$f":"SUMIF('Раздел 2'!B:B,B181,'Раздел 2'!C:C)+SUMIF('Раздел 3'!B:B,B181,'Раздел 3'!C:C)+SUMIF('Раздел 4'!B:B,B181,'Раздел 4'!C:C)","v":3880100.4},"2022-12-30","РО"]
[120,"Г. Сосновый Бор, ул. Солнечная, д. 23а",1985,null,"кирпич","5,7,9",1,1,4397.6000000000004,4397.6000000000004,2188.1,195,2790756.58,0,0,0,{"$f":"SUMIF('Раздел 2'!B:B,B182,'Раздел 2'!C:C)+SUMIF('Раздел 3'!B:B,B182,'Раздел 3'!C:C)+SUMIF('Раздел 4'!B:B,B182,'Раздел 4'!C:C)","v":2790756.58},"2022-12-30","РО"]
[121,"Г. Сосновый Бор, ул. Солнечная, д. 30",1977,null,"кирпич",12,1,1,3993,3993,2332.6999999999998,171,5901813.6000000006,0,0,0,{"$f":"SUMIF('Раздел 2'!B:B,B183,'Раздел 2'!C:C)+SUMIF('Раздел 3'!B:B,B183,'Раздел 3'!C:C)+SUMIF('Раздел 4'!B:B,B183,'Раздел 4'!C:C)","v":5901813.6000000006},"2022-12-30","РО"]
["Итого по муниципальному образованию",null,"x","x","x","x",{"$f":"SUM(G172:G183)","v":26},"x",{"$f":"SUM(I172:I183)","v":60957.099999999991},{"$f":"SUM(J172:J183)","v":59657.899999999994},41066.299999999996,2599,{"$f":"SUM(M172:M183)","v":77372094.280000001},{"$f":"SUM(N172:N183)","v":0},0,0,77372094.280000001,"x","x",{"$f":"Q184-'Раздел 2'!C136-'Раздел 3'!C109-'Раздел 4'!C65","v":1.6763806343078613E-8},{"$f":"M184-'Раздел 2'!C136","v":5471418.9200000167}]
["Сланцевский муниципальный район"]
["Муниципальное образование Сланцевское городское поселение"]
[{"$f":"A183+1","v":122},"Г. Сланцы, просп. Молодежный, д. 13",1987,null,"панель",9,4,4,8096.4,4324.6000000000004,4117.5,310,{"$f":"Q187","v":10976456.25},0,0,0,{"$f":"SUMIF('Раздел 2'!B:B,B187,'Раздел 2'!C:C)+SUMIF('Раздел 3'!B:B,B187,'Раздел 3'!C:C)+SUMIF('Раздел 4'!B:B,B187,'Раздел 4'!C:C)","v":10976456.25},"2022-12-30","РО",null,{"$f":"M187-'Раздел 2'!C139","v":0}]
[{"$f":"A187+1","v":123},"Г. Сланцы, ул. Гагарина, д. 1",1983,null,"кирпич",9,1,1,2690.5,2070.8000000000002,1897.64,94,{"$f":"Q188","v":2802349.3},0,0,0,{"$f":"SUMIF('Раздел 2'!B:B,B188,'Раздел 2'!C:C)+SUMIF('Раздел 3'!B:B,B188,'Раздел 3'!C:C)+SUMIF('Раздел 4'!B:B,B188,'Раздел 4'!C:C)","v":2802349.3},"2022-12-30","РО",null,{"$f":"M188-'Раздел 2'!C140","v":0}]
[124,"Г. Сланцы, ул. Гагарина, д. 5а",1988,null,"кирпич",9,1,1,2733.7,2080.4,1918.33,108,3746636.46,0,0,0,{"$f":"SUMIF('Раздел 2'!B:B,B189,'Раздел 2'!C:C)+SUMIF('Раздел 3'!B:B,B189,'Раздел 3'!C:C)+SUMIF('Раздел 4'!B:B,B189,'Раздел 4'!C:C)","v":3746636.46},"2022-12-30","РО",null,{"$f":"M189-'Раздел 2'!C141","v":0}]
[125,"Г. Сланцы, ул. Ленина, д. 25, кор. 1",1990,null,"панель",9,1,1,2906.8,2026.8,1971.6,84,2733515.56,0,0,0,{"$f":"SUMIF('Раздел 2'!B:B,B190,'Раздел 2'!C:C)+SUMIF('Раздел 3'!B:B,B190,'Раздел 3'!C:C)+SUMIF('Раздел 4'!B:B,B190,'Раздел 4'!C:C)","v":2733515.56},"2022-12-30","РО",null,{"$f":"M190-'Раздел 2'!C142","v":0}]
[126,"Г. Сланцы, ул. Ленина, д. 25, кор. 4",1990,null,"панель",9,3,3,8837.2999999999993,6067.6,6027.7,218,8199017.0300000003,0,0,0,{"$f":"SUMIF('Раздел 2'!B:B,B191,'Раздел 2'!C:C)+SUMIF('Раздел 3'!B:B,B191,'Раздел 3'!C:C)+SUMIF('Раздел 4'!B:B,B191,'Раздел 4'!C:C)","v":8199017.0300000003},"2022-12-30","РО",null,{"$f":"M191-'Раздел 2'!C143","v":0}]
[127,"Г. Сланцы, ул. Ленина, д. 25, кор. 6",1992,null,"панель",9,3,3,8843.2999999999993,6079,5966.5,226,8179528.2599999998,0,0,0,{"$f":"SUMIF('Раздел 2'!B:B,B192,'Раздел 2'!C:C)+SUMIF('Раздел 3'!B:B,B192,'Раздел 3'!C:C)+SUMIF('Раздел 4'!B:B,B192,'Раздел 4'!C:C)","v":8179528.2599999998},"2022-12-30","РО",null,{"$f":"M192-'Раздел 2'!C144","v":0}]
[128,"Г. Сланцы, ул. Спортивная, д. 9/2",1987,null,"панель",9,2,2,4071.9,1806.9,1806.9,180,5467331.2300000004,0,0,0,{"$f":"SUMIF('Раздел 2'!B:B,B193,'Раздел 2'!C:C)+SUMIF('Раздел 3'!B:B,B193,'Раздел 3'!C:C)+SUMIF('Раздел 4'!B:B,B193,'Раздел 4'!C:C)","v":5467331.2300000004},"2022-12-30","РО",null,{"$f":"M193-'Раздел 2'!C145","v":0}]
[129,"Г. Сланцы, ул. Шахтерской Славы, д. 14, корп. 1",1996,null,"кирпич",10,1,1,3373.8,2535.9,2472.59,96,2873700.45,0,0,0,{"$f":"SUMIF('Раздел 2'!B:B,B194,'Раздел 2'!C:C)+SUMIF('Раздел 3'!B:B,B194,'Раздел 3'!C:C)+SUMIF('Раздел 4'!B:B,B194,'Раздел 4'!C:C)","v":2873700.45},"2022-12-30","РО",null,{"$f":"M194-'Раздел 2'!C146","v":0}]
[130,"Г. Сланцы, ул. Шахтерской Славы, д. 9б",1989,null,"панель",9,4,4,7964.43,4481.3900000000003,3991.17,379,10933757.170000002,0,0,0,{"$f":"SUMIF('Раздел 2'!B:B,B195,'Раздел 2'!C:C)+SUMIF('Раздел 3'!B:B,B195,'Раздел 3'!C:C)+SUMIF('Раздел 4'!B:B,B195,'Раздел 4'!C:C)","v":10933757.170000002},"2022-12-30","РО",null,{"$f":"M195-'Раздел 2'!C147","v":0}]
["Итого по муниципальному образованию",null,"x","x","x","x",{"$f":"SUM(G187:G195)","v":20},"x",{"$f":"SUM(I187:I195)","v":49518.130000000005},{"$f":"SUM(J187:J195)","v":31473.390000000003},30169.93,1695,{"$f":"SUM(M187:M195)","v":55912291.710000008},{"$f":"SUM(N187:N195)","v":0},0,0,55912291.710000008,"x","x",null,{"$f":"M196-'Раздел 2'!C148","v":0}]
["Итого по Сланцевскому муниципальному району",null,"x","x","x","x",{"$f":"G196","v":20},"x",{"$f":"SUM(I196)","v":49518.130000000005},31473.390000000003,30169.93,1695,{"$f":"M196","v":55912291.710000008},{"$f":"N196","v":0},0,0,55912291.710000008,"x","x",{"$f":"Q197-'Раздел 2'!C149","v":0},{"$f":"M197-'Раздел 2'!C149","v":0}]
["Тихвинский муниципальный район"]
["Муниципальное образование Тихвинское городское поселение"]
[{"$f":"A195+1","v":131},"Г. Тихвин, микрорайон 1а, д. 45",1995,null,"панель",9,2,2,5566.2,4027.8,2440.9,423,{"$f":"Q200","v":5433061.9500000002},0,0,0,{"$f":"SUMIF('Раздел 2'!B:B,B200,'Раздел 2'!C:C)+SUMIF('Раздел 3'!B:B,B200,'Раздел 3'!C:C)+SUMIF('Раздел 4'!B:B,B200,'Раздел 4'!C:C)","v":5433061.9500000002},"2022-12-30","РО"]
[{"$f":"A200+1","v":132},"Г. Тихвин, ул. Советская, д. 1",1994,null,"панель",10,2,2,3864,4108.5,2258.6999999999998,360,{"$f":"Q201","v":5459425.3499999996},0,0,0,{"$f":"SUMIF('Раздел 2'!B:B,B201,'Раздел 2'!C:C)+SUMIF('Раздел 3'!B:B,B201,'Раздел 3'!C:C)+SUMIF('Раздел 4'!B:B,B201,'Раздел 4'!C:C)","v":5459425.3499999996},"2022-12-30","РО"]
[{"$f":"A201+1","v":133},"Г. Тихвин, ул. Машиностроителей, д.46",1988,null,"панель",9,5,5,14841.1,10091.299999999999,8441.6,521,13191577.300000001,0,0,0,{"$f":"SUMIF('Раздел 2'!B:B,B202,'Раздел 2'!C:C)+SUMIF('Раздел 3'!B:B,B202,'Раздел 3'!C:C)+SUMIF('Раздел 4'!B:B,B202,'Раздел 4'!C:C)","v":13191577.300000001},"2022-12-30","РО"]
["Итого по муниципальному образованию",null,"x","x","x","x",{"$f":"SUM(G200:G202)","v":9},"x",{"$f":"SUM(I200:I202)","v":24271.300000000003},{"$f":"SUM(J200:J202)","v":18227.599999999999},13141.2,1304,24084064.600000001,0,0,0,24084064.600000001,"x","x"]
["Итого по Тихвинскому муниципальному району",null,"x","x","x","x",{"$f":"G203","v":9},"x",{"$f":"SUM(I203)","v":24271.300000000003},{"$f":"SUM(J203)","v":18227.599999999999},13141.2,1304,24084064.600000001,0,0,0,24084064.600000001,"x","x",{"$f":"Q204-'Раздел 2'!C156-'Раздел 3'!C113","v":0}]
["Тосненский район"]
["Муниципальное образование Тосненское городское поселение"]
[{"$f":"A202+1","v":134},"Г. Тосно, ул. М. Горького, д. 4",1994,null,"Блочный Ж/Б",9,2,2,4085.35,4085.35,4031.85,153,{"$f":"Q207","v":5467451.4399999995},0,0,0,{"$f":"SUMIF('Раздел 2'!B:B,B207,'Раздел 2'!C:C)+SUMIF('Раздел 3'!B:B,B207,'Раздел 3'!C:C)+SUMIF('Раздел 4'!B:B,B207,'Раздел 4'!C:C)","v":5467451.4399999995},"2022-12-30","РО"]
[{"$f":"A207+1","v":135},"Г. Тосно, ул. М. Горького, д. 8а",null,null,null,null,2,null,null,null,null,null,{"$f":"Q208","v":5276630.92},0,0,0,{"$f":"SUMIF('Раздел 2'!B:B,B208,'Раздел 2'!C:C)+SUMIF('Раздел 3'!B:B,B208,'Раздел 3'!C:C)+SUMIF('Раздел 4'!B:B,B208,'Раздел 4'!C:C)","v":5276630.92},"2022-12-30","РО"]
[{"$f":"A208+1","v":136},"Г. Тосно, ул. Победы, д. 19А",1994,null,"Блочный Ж/Б",9,2,2,4088.05,4088.05,4088.05,159,5467371.3799999999,0,0,0,{"$f":"SUMIF('Раздел 2'!B:B,B209,'Раздел 2'!C:C)+SUMIF('Раздел 3'!B:B,B209,'Раздел 3'!C:C)+SUMIF('Раздел 4'!B:B,B209,'Раздел 4'!C:C)","v":5467371.3799999999},"2022-12-30","РО"]
[137,"Г. Тосно, пр. Ленина, д. 19",null,null,null,null,4,null,null,null,null,null,10553261.84,0,0,0,{"$f":"SUMIF('Раздел 2'!B:B,B210,'Раздел 2'!C:C)+SUMIF('Раздел 3'!B:B,B210,'Раздел 3'!C:C)+SUMIF('Раздел 4'!B:B,B210,'Раздел 4'!C:C)","v":10553261.84},"2022-12-30","РО"]
["Итого по муниципальному образованию",null,"x","x","x","x",{"$f":"SUM(G207:G210)","v":10},"x",{"$f":"SUM(I207:I209)","v":8173.4},8173.4,8119.9,312,16211453.739999998,0,0,0,{"$f":"SUM(Q207:Q210)","v":26764715.579999998},"x","x"]
["Итого по Тосненскому району",null,"x","x","x","x",{"$f":"G211","v":10},"x",{"$f":"SUM(I211)","v":8173.4},{"$f":"SUM(J211)","v":8173.4},8119.9,312,{"$f":"M211","v":16211453.739999998},{"$f":"N211","v":0},0,0,{"$f":"Q211","v":26764715.579999998},"x","x",{"$f":"Q212-'Раздел 2'!C164-'Раздел 3'!C120","v":0}]
["ИТОГО по Ленинградской области",null,"x","x","x","x",{"$f":"G212+G204+G197+G184+G169+G158+G150+G129+G111+G94+G72+G40+G15","v":301},"х",{"$f":"I212+I204+I197+I184+I169+I158+I150+I129+I111+I94+I72+I40+I15","v":742475.67},635531.25,537924.07999999996,26440.2,819312671.22359991,{"$error":"#REF!"},{"$error":"#REF!"},{"$error":"#REF!"},846280189.82359982,"x","x",{"$f":"Q213-'Раздел 2'!C165-'Раздел 3'!C121-'Раздел 4'!C66","v":0}]
["Осуществление строительного контроля",null,"x","x","x","x","x","x","x","x","x","x",{"$f":"'Раздел 2'!C166+'Раздел 3'!C122+'Раздел 4'!C67","v":16863034.479132},0,0,0,{"$f":"'Раздел 2'!C166+'Раздел 3'!C122+'Раздел 4'!C67","v":16863034.479132},"х","х"]
["Итого по Ленинградской области со строительным контролем",null,"x","x","x","x","x","x","x","x","x","x",{"$f":"M213+M214","v":836175705.70273197},{"$f":"N213+N214","v":{"$error":"#REF!"}},{"$error":"#REF!"},{"$error":"#REF!"},{"$f":"M214+Q213","v":863143224.30273187},"х","х",{"$f":"Q215-'Раздел 2'!C167-'Раздел 3'!C123-'Раздел 4'!C68","v":0}]
[]
[]
[]
[]
[]
[]
[]
[]
[]
[]
[]
[]
[]
[]
[]
[]
[]
[]
[]
[]
[]
[]
[]
[]
[]
[]
[]
[]
[]
[]
[]
[]
[]
[]
[]
[]
[]
[]
[]
[]
[]
[]
[]
[]
[]
[]
[]
[]
[]
[]
[]
[]
[]
[]
[]
[]
[]
[]
[]
[]
[]
[]
[]
[]
[]
[]
[]
[]
[]
[]
[]
[]
[]
[]
[]
[]
[]
[]
[]
[]
[]
[]
[]
[]
[]
[]
[]
[]
[]
[]
[]
[]
[]
[]
[]
[]
[]
[]
[]
[]
[]
[]
[]
[]
[]
[]
[]
[]
[]
[]
[]
[]
[]
[]
[]
[]
[]
[]
[]
[]
[]
[]
[]
[]
[]
[]
[]
[]
[]
[]
[]
[]
[]
[]
[]
[]
[]
[]
[]
[]
[]
[]
[]
[]
[]
[]
[]
[]
[]
[]
[]
[]
[]
[]
[]
[]
[]
[]
[]
[]
[]
[]
[]
[]
[]
[]
[]
[]
[]
[]
[]
[]
[]
[]
[]
[]
[]
[]
[]
[]
[]
[]
[]
[]
[]
[]
[]
[]
[]
[]
[]
[]
[]
[]
[]
[]
[]
[]
[]
[]
[]
[]
[]
[]
[]
[]
[]
[]
[]
[]
[]
[]
[]
[]
[]
[]
[]
[]
[]
[]
[]
[]
[]
[]
[]
[]
[]
[]
[]
[]
[]
[]
[]
[]
[]
[]
[]
[]
[]
[]
[]
[]
[]
[]
[]
[]
[]
[]
[]
[]
[]
[]
[]
[]
[]
[]
[]
[]
[]
[]
[]
[]
[]
[]
[]
[]
[]
[]
[]
[]
[]
[]
[]
[]
[]
[]
[]
[]
[]
[]
[]
[]
[]
[]
[]
[]
[]
[]
[]
[]
[]
[]
[]
[]
[]
[]
[]
[]
[]
[]
[]
[]
[]
[]
[]
[]
[]
[]
[]
[]
[]
[]
[]
[]
[]
[]
[]
[]
[]
[]
[]
[]
[]
[]
[]
[]
[]
[]
[]
[]
[]
[]
[]
[]
[]
[]
[]
[]
[]
[]
[]
[]
[]
[]
[]
[]
[]
[]
[]
[]
[]
[]
[]
[]
[]
[]
[]
[]
[]
[]
[]
[]
[]
[]
[]
[]
[]
[]
[]
[]
[]
[]
[]
[]
[]
[]
[]
[]
[]
[]
[]
[]
[]
[]
[]
[]
[]
[]
[]
[]
[]
[]
[]
[]
[]
[]
[]
[]
[]
[]
[]
[]
[]
[]
[]
[]
[]
[]
[]
[]
[]
[]
[]
[]
[]
[]
[]
[]
[]
[]
[]
[]
[]
[]
[]
[]
[]
[]
[]
[]
[]
[]
[]
[]
[]
[]
[]
[]
[]
[]
[]
[]
[]
[]
[]
[]
[]
[]
[]
[]
[]
[]
[]
[]
[]
[]
[]
[]
[]
[]
[]
[]
[]
[]
[]
[]
[]
[]
[]
[]
[]
[]
[]
[]
[]
[]
[]
[]
[]
[]
[]
[]
[]
[]
[]
[]
[]
[]
[]
[]
[]
[]
[]
[]
[]
[]
[]
[]
[]
[]
[]
[]
[]
[]
[]
[]
[]
[]
[]
[]
[]
[]
[]
[]
[]
[]
[]
[]
[]
[]
[]
[]
[]
[]
[]
[]
[]
[]
[]
[]
[]
[]
[]
[]
[]
[]
[]
[]
[]
[]
[]
[]
[]
[]
[]
[]
[]
[]
[]
[]
[]
[]
[]
[]
[]
[]
[]
[]
[]
[]
[]
[]
[]
[]
[]
[]
[]
[]
[]
[]
[]
[]
[]
[]
[]
[]
[]
[]
[]
[]
[]
[]
[]
[]
[]
[]
[]
[]
[]
[]
[]
[]
[]
[]
[]
[]
[]
[]
[]
[]
[]
[]
[]
[]
[]
[]
[]
[]
[]
[]
[]
[]
[]
[]
[]
[]
[]
[]
[]
[]
[]
[]
[]
[]
[]
[]
[]
[]
[]
[]
[]
[]
[]
[]
[]
[]
[]
[]
[]
[]
[]
[]
[]
[]
[]
[]
[]
[]
[]
[]
[]
[]
[]
[]
[]
[]
[]
[]
[]
[]
[]
[]
[]
[]
[]
[]
[]
[]
[]
[]
[]
[]
[]
[]
[]
[]
[]
[]
[]
[]
[]
[]
[]
[]
[]
[]
[]
[]
[]
[]
[]
[]
[]
[]
[]
[]
[]
[]
[]
[]
[]
[]
[]
[]
[]
[]
[]
[]
[]
[]
[]
[]
[]
[]
[]
[]
[]
[]
[]
[]
[]
[]
[]
[]
[]
[]
[]
[null,null,null,null,null,null,null,null,null,null,null,null,null,null,null,null,null,null,{"$f":"M320+#REF!+#REF!+#REF!+#REF!+#REF!","v":{"$error":"#REF!"}}]
[]
[]
[]
[]
[]
[]
[]
[]
[]
[]
[]
[]
[]
[]
[]
[]
[]
[]
[]
[]
[]
[]
[]
[]
[]
[]
[]
[]
[]
[]
[]
[]
[]
[]
[]
[]
[]
[]
[]
[]
[]
[]
[]
[]
[]
[]
[]
[]
[]
[]
[]
[]
[]
[]
[]
[]
[]
[]
[]
[]
[]
[]
[]
[]
[]
[]
[]
[]
[]
[]
[]
[]
[]
[]
[]
[]
[]
[]
[]
[]
[]
[]
[]
[]
[]
[]
[]
[]
[]
[]
[]
[]
[]
[]
[]
[]
[]
[]
[]
[]
[]
[]
[]
[]
[]
[]
[]
[]
[]
[]
[]
[]
[]
[]
[]
[]
[]
[]
[]
[]
[]
[]
[]
[]
[]
[]
[]
[]
[]
[]
[]
[]
[]
[]
[]
[]
[]
[]
[]
[]
[]
[]
[]
[]
[]
[]
[]
[]
[]
[]
[]
[]
[]
[]
[]
[]
[]
[]
[]
[]
[]
[]
[]
[]
[]
[]
[]
[]
[]
[]
[]
[]
[]
[]
[]
[]
[]
[null,null,null,null,null,null,{"$f":"G213-'Раздел 2'!D165-'Раздел 3'!D121-'Раздел 4'!D66","v":0}]
[null,null,null,null,null,null,null,null,null,null,null,null,{"$f":"M215-'Раздел 2'!C167-'Раздел 3'!C123-'Раздел 4'!C68","v":-26967518.600000054},null,null,null,{"$f":"Q215-'Раздел 2'!C167-'Раздел 3'!C123-'Раздел 4'!C68","v":0}]

{"sheet":"Раздел 2","index":2,"n_rows":1087,"n_cols":8,"rows_kept":1087,"cut":false,"hidden":false,"merged":[[0,0,0,6],[73,0,73,6],[86,0,86,6],[1,0,2,0],[1,1,2,1],[56,0,56,6],[26,0,26,6],[4,0,4,6],[1,3,1,4],[166,0,166,1],[149,0,149,6],[165,0,165,1],[107,0,107,6],[112,0,112,6],[123,0,123,6],[156,0,156,6],[136,0,136,6]]}
["Раздел II. Реестр многоквартирных домов, в которых будет проводиться капитальный ремонт лифтового оборудования в 2020 году, за счет средств собственников"]
["№ п\\п","Адрес МКД","Стоимость капитального ремонта ВСЕГО","Ремонт или замена лифтового оборудования",null,"ТО","Проектные работы"]
[null,null,"руб.","ед.","руб","руб.","руб."]
[1,2,3,4,5,6,7]
["Всеволожский муниципальный район"]
["Муниципальное образование \"Город Всеволожск\""]
[1,"Г. Всеволожск, ул. Александровская, д. 81, корп. 3  ",{"$f":"E7+F7+G7","v":260000},null,null,null,260000,260000]
[{"$f":"A7+1","v":2},"Г. Всеволожск, ул. Балашова, д. 8/3  ",{"$f":"E8+F8+G8","v":260000},null,null,null,260000]
[{"$f":"A8+1","v":3},"Г. Всеволожск, ул. Василеозерская, д. 5  ",{"$f":"E9+F9+G9","v":260000},null,null,null,260000]
[{"$f":"A9+1","v":4},"Г. Всеволожск, ул. Ленинградская, д. 24/84 ",{"$f":"E10+F10+G10","v":910000},null,null,null,910000]
["Итого по муниципальному образованию",null,{"$f":"SUM(C7:C10)","v":1690000},{"$f":"SUM(D7:D10)","v":0},0,0,1690000]
["Муниципальное образование Муринское сельское поселение"]
[{"$f":"A10+1","v":5},"Пос. Мурино, ул. Оборонная, д. 12  ",{"$f":"E13+F13+G13","v":260000},null,null,null,260000]
[{"$f":"A13+1","v":6},"Пос. Мурино, ул. Оборонная, д. 24  ",{"$f":"E14+F14+G14","v":390000},null,null,null,{"$f":"130000*3","v":390000}]
[{"$f":"A14+1","v":7},"Пос. Мурино, ул. Оборонная, д. 18",{"$f":"E15+F15+G15","v":7753272.9199999999},{"$f":"cвод!J11","v":2},{"$f":"cвод!K11","v":7346346},{"$f":"cвод!L11","v":146926.92000000001},{"$f":"D15*130000","v":260000}]
[8,"Пос. Мурино, ул. Оборонная, д. 22  ",{"$f":"E16+F16+G16","v":130000},null,null,null,130000]
["Итого по муниципальному образованию",null,{"$f":"SUM(C13:C16)","v":8533272.9199999999},{"$f":"SUM(D13:D16)","v":2},7346346,146926.92000000001,1040000]
["Муниципальное образование Свердловское городское поселение"]
[{"$f":"A16+1","v":9},"Пос. им. Свердлова, микрорайон 1, д. 8",{"$f":"E19+F19+G19","v":520000},null,null,null,520000]
["Итого по муниципальному образованию",null,{"$f":"C19","v":520000},{"$f":"D19","v":0},0,0,520000]
["Муниципальное образование \"Сертолово\""]
[{"$f":"A19+1","v":10},"Г. Сертолово, микрорайон Сертолово-1, ул. Молодежная, д. 8, корп. 2",{"$f":"E22+F22+G22","v":390000},null,null,null,390000]
[{"$f":"A22+1","v":11},"Г. Сертолово, микрорайон Сертолово-1, ул. Центральная, д. 6, корп. 1",{"$f":"E23+F23+G23","v":8667924.4699999988},{"$f":"cвод!J19","v":3},{"$f":"SUM([1]субсидия!$C$166:$C$168)","v":8057534.0899999999},{"$f":"cвод!L19","v":220390.38},{"$f":"D23*130000","v":390000}]
[{"$f":"A23+1","v":12},"Г. Сертолово, микрорайон Сертолово-1, ул. Центральная, д. 7, корп. 1",{"$f":"E24+F24+G24","v":8680076.0399999991},{"$f":"cвод!J20","v":3},{"$f":"SUM([1]субсидия!$C$169:$C$171)","v":8069685.6600000001},{"$f":"cвод!L20","v":220390.38},{"$f":"D24*130000","v":390000}]
["Итого по муниципальному образованию",null,{"$f":"SUM(C22:C24)","v":17738000.509999998},{"$f":"SUM(D22:D24)","v":6},16127219.75,440780.76,1170000]
["Итого по Всеволожскому муниципальному району",null,{"$f":"C25+C17+C11+C20","v":28481273.43},{"$f":"D25+D17+D11+D20","v":8},23473565.75,587707.68000000005,4420000]
["Выборгский  район"]
["Муниципальное образование \"Город Выборг"]
[{"$f":"A24+1","v":13},"Г. Выборг, бул. Кутузова, д. 33  ",{"$f":"E29+F29+G29","v":2540171.3722000001},{"$f":"cвод!J25","v":1},{"$f":"[1]субсидия!$C$295","v":2362913.11},{"$f":"E29*0.02","v":47258.262199999997},{"$f":"D29*130000","v":130000}]
[{"$f":"A29+1","v":14},"Г. Выборг, просп. Московский, д. 10 ",2655861.5674000001,{"$f":"cвод!J26","v":1},{"$f":"[1]субсидия!$C$285","v":2476334.87},49526.697400000005,{"$f":"D30*130000","v":130000}]
[15,"Г. Выборг, просп. Победы, д. 6  ",2439950.0787999998,{"$f":"cвод!J28","v":1},{"$f":"[1]субсидия!$C$286","v":2264656.94},45293.138800000001,{"$f":"D31*130000","v":130000}]
[16,"Г. Выборг, пр. Победы, д. 8",2438131.6228,{"$f":"cвод!J29","v":1},{"$f":"[1]субсидия!$C$287","v":2262874.14},45257.482800000005,{"$f":"D32*130000","v":130000}]
[{"$f":"A32+1","v":17},"Г. Выборг, просп. Победы, д. 12  ",520000,null,null,null,520000]
[{"$f":"A33+1","v":18},"Г. Выборг, ул. Аристарха Макарова, д. 4  ",4914710.1667999998,{"$f":"cвод!J30","v":2},{"$f":"SUM([1]субсидия!$C$288:$C$289)","v":4563441.34},91268.826799999995,{"$f":"D34*130000","v":260000}]
[19,"Г. Выборг, ул. Гагарина, д. 29  ",11629909.380000001,{"$f":"cвод!J31","v":3},{"$f":"cвод!K31","v":11019519},220390.38,390000]
[20,"Г. Выборг, ул. Гагарина, д. 65  ",2438059.6413999996,{"$f":"cвод!J32","v":1},{"$f":"[1]субсидия!$C$290","v":2262803.5699999998},45256.071400000001,130000]
[21,"Г. Выборг, ул. Гагарина, д. 71  ",4909588.5121999998,{"$f":"cвод!J34","v":2},{"$f":"SUM([1]субсидия!$C$291:$C$292)","v":4558420.1099999994},91168.402199999997,260000]
[22,"Г. Выборг, ул. Крепостная, д. 39а  ",3876636.46,{"$f":"cвод!J35","v":1},{"$f":"cвод!K35","v":3673173},73463.460000000006,130000]
[23,"Г. Выборг, ул. Офицерская, д. 12  ",2481167.5444,{"$f":"cвод!J36","v":1},{"$f":"[1]субсидия!$C$293","v":2305066.2200000002},46101.324400000005,130000]
[24,"Г. Выборг, ул. Офицерская, д. 14  ",2483623.2352,{"$f":"cвод!J37","v":1},{"$f":"[1]субсидия!$C$294","v":2307473.7599999998},46149.475199999993,130000]
[25,"Г. Выборг, ул. Офицерская, д. 16  ",2754215.7508,{"$f":"cвод!J38","v":1},{"$f":"[1]субсидия!$C$274","v":2572760.54},51455.210800000001,130000]
[26,"Г. Выборг, ул. Приморская, д. 36  ",5389943.3137999997,{"$f":"cвод!J39","v":2},{"$f":"SUM([1]субсидия!$C$275:$C$276)","v":5029356.1899999995},100587.12379999999,260000]
[27,"Г. Выборг, ул. Приморская, д. 40  ",10333120.7422,{"$f":"cвод!J40","v":4},{"$f":"SUM([1]субсидия!$C$277:$C$280)","v":9620706.6099999994},192414.13219999999,520000]
[28,"Г. Выборг, ул. Приморская, д. 53  ",5395520.1433999995,{"$f":"cвод!J41","v":2},{"$f":"SUM([1]субсидия!$C$281:$C$282)","v":5034823.67},100696.4734,260000]
[{"$f":"A44+1","v":29},"Г. Выборг, ул. Травяная, д. 6  ",5480984.4848000007,{"$f":"cвод!J43","v":2},{"$f":"SUM([1]субсидия!$C$283:$C$284)","v":5118612.24},102372.2448,260000]
[30,"Г. Выборг, ш. Ленинградское, д. 51а  ",2699518.7301999996,{"$f":"cвод!J44","v":1},{"$f":"[1]субсидия!$C$273","v":2519136.0099999998},50382.720199999996,130000]
["Итого по муниципальному образованию",null,{"$f":"SUM(C29:C46)","v":75381112.746399999},{"$f":"SUM(D29:D46)","v":27},69952071.319999993,1399041.4264,4030000]
["Муниципальное образование Светогорское городское поселение"]
[{"$f":"A46+1","v":31},"Г. Светогорск, ул. Красноармейская, д. 26",{"$f":"E49+F49+G49","v":8324810.25},3,8126680.6500000004,198129.6,0]
[{"$f":"A49+1","v":32},"Г. Светогорск, ул. Красноармейская, д. 32",{"$f":"E50+F50+G50","v":13117704.67},6,{"$f":"SUM([1]субсидия!$C$299:$C$303)","v":11888945.949999999},{"$f":"cвод!L48","v":448758.72},{"$f":"cвод!Z48","v":780000}]
[{"$f":"A50+1","v":33},"Г. Светогорск, ул. Красноармейская, д. 8",{"$f":"E51+F51+G51","v":7759701.0999999996},3,{"$f":"SUM([1]субсидия!$C$296:$C$298)","v":7170098.1999999993},{"$f":"66534.3+66534.3+66534.3","v":199602.90000000002},{"$f":"D51*130000","v":390000}]
["Итого по муниципальному образованию",null,{"$f":"SUM(C49:C51)","v":29202216.020000003},{"$f":"SUM(D49:D51)","v":12},27185724.800000001,846491.22,1170000]
["Муниципальное образование Советское городское поселение"]
[{"$f":"A51+1","v":34},"Г.п. Советский, ул. Садовая, д. 46",{"$f":"E54+F54+G54","v":2381097.2199999997},1,2313231.88,67865.34]
["Итого по муниципальному образованию",null,{"$f":"SUM(C54)","v":2381097.2199999997},{"$f":"SUM(D54)","v":1},2313231.88,67865.34,0]
["Итого по Выборгскому району",null,{"$f":"C52+C47+C55","v":106964425.98640001},{"$f":"D52+D47+D55","v":40},99451027.999999985,2313397.9863999998,5200000]
["Гатчинский муниципальный район"]
["Муниципальное образование Город Гатчина"]
[{"$f":"A54+1","v":35},"Г. Гатчина, просп. 25 Октября, д. 50, кор. 1",{"$f":"E59+F59+G59","v":5467384.5899999999},{"$f":"cвод!J58","v":2},{"$f":"[1]субсидия!$C$262+[1]субсидия!$C$263","v":5060457.67},{"$f":"cвод!L58","v":146926.92000000001},{"$f":"D59*130000","v":260000}]
[{"$f":"A59+1","v":36},"Г. Гатчина, просп. 25 Октября, д. 63",390000,null,null,null,390000]
[37,"Г. Гатчина, ул. Авиатриссы Зверевой, д. 11",260000,null,null,null,260000]
[38,"Г. Гатчина, ул. Авиатриссы Зверевой, д. 15",5440054.1099999994,{"$f":"cвод!J62","v":2},{"$f":"[1]субсидия!$C$264+[1]субсидия!$C$265","v":5033127.1899999995},{"$f":"cвод!L62","v":146926.92000000001},{"$f":"D62*130000","v":260000}]
[39,"Г. Гатчина, ул. Авиатриссы Зверевой, д. 20",5467206.1299999999,{"$f":"cвод!J63","v":2},{"$f":"[1]субсидия!$C$266+[1]субсидия!$C$267","v":5060279.21},{"$f":"cвод!L63","v":146926.92000000001},{"$f":"D63*130000","v":260000}]
[40,"Г. Гатчина, ул. Авиатриссы Зверевой, д. 3",5466365.2699999996,{"$f":"cвод!J64","v":2},{"$f":"SUM([1]субсидия!$C$268:$C$269)","v":5059438.3499999996},{"$f":"cвод!L64","v":146926.92000000001},{"$f":"D64*130000","v":260000}]
[41,"Г. Гатчина, ул. Володарского, д. 25А",5177708.0199999996,{"$f":"cвод!J65","v":2},{"$f":"SUM([1]субсидия!$C$270:$C$271)","v":4770781.0999999996},{"$f":"cвод!L65","v":146926.92000000001},{"$f":"D65*130000","v":260000}]
[42,"Г. Гатчина, ул. Красных Военлётов, д. 9",520000,null,null,null,{"$f":"4*130000","v":520000}]
[43,"Г. Гатчина, ул. Рощинская, д. 19",15506545.84,{"$f":"cвод!J70","v":4},{"$f":"cвод!K70","v":14692692},{"$f":"cвод!L70","v":293853.84000000003},{"$f":"D67*130000","v":520000}]
[44,"Г. Гатчина, ул. Рощинская, д. 9Г",7753272.9199999999,{"$f":"cвод!J72","v":2},{"$f":"cвод!K72","v":7346346},{"$f":"cвод!L72","v":146926.92000000001},{"$f":"D68*130000","v":260000}]
[45,"Г. Гатчина, ул. Рощинская, д. 13, кор. 1",130000,null,null,null,130000]
[46,"Г. Гатчина, ул. Чехова, д. 14",260000,null,null,null,260000]
[47,"Г. Гатчина, ул. Хохлова, д. 2",390000,null,null,null,390000]
["Итого по муниципальному образованию",null,{"$f":"SUM(C59:C71)","v":52228536.879999995},{"$f":"SUM(D59:D71)","v":16},47023121.520000003,1175415.3600000001,4030000]
["Итого по Гатчинскому муниципальному району",null,{"$f":"C72","v":52228536.879999995},{"$f":"D72","v":16},47023121.520000003,1175415.3600000001,4030000]
["Киришский муниципальный район"]
["Муниципальное образование Киришское городское поселение"]
[{"$f":"A71+1","v":48},"Г. Кириши, бул. Плавницкий, д. 16",{"$f":"E76+F76+G76","v":2803026.64},{"$f":"cвод!J95","v":1},{"$f":"[1]субсидия!$C$322","v":2599563.1800000002},{"$f":"cвод!L95","v":73463.460000000006},{"$f":"D76*130000","v":130000}]
[{"$f":"A76+1","v":49},"Г. Кириши, пер. Березовый, д. 10",130000,null,null,null,130000]
[50,"Г. Кириши, просп. Героев, д. 15",2802614.46,{"$f":"cвод!J98","v":1},{"$f":"[1]субсидия!$C$323","v":2599151},{"$f":"cвод!L98","v":73463.460000000006},{"$f":"D78*130000","v":130000}]
[51,"Г. Кириши, просп. Героев, д. 17",5567978.9399999995,{"$f":"cвод!J99","v":2},{"$f":"SUM([1]субсидия!$C$324:$C$325)","v":5161052.0199999996},{"$f":"cвод!L99","v":146926.92000000001},260000]
[52,"Г. Кириши, ул. Декабристов Бестужевых, д. 16",2803590.77,{"$f":"cвод!J102","v":1},{"$f":"[1]субсидия!$C$326","v":2600127.31},{"$f":"cвод!L102","v":73463.460000000006},130000]
[53,"Г. Кириши, ул. Строителей, д. 28",2803316.73,{"$f":"cвод!J105","v":1},{"$f":"[1]субсидия!$C$327","v":2599853.27},{"$f":"cвод!L105","v":73463.460000000006},130000]
[54,"Г. Кириши, ул. Строителей, д. 30",8449707.6699999999,{"$f":"cвод!J106","v":3},{"$f":"SUM([1]субсидия!$C$328:$C$330)","v":7839317.29},{"$f":"cвод!L106","v":220390.38},390000]
[55,"Г. Кириши, ул. Строителей, д. 46",11264437.789999999,{"$f":"cвод!J107","v":4},{"$f":"SUM([1]субсидия!$C$331:$C$334)","v":10450583.949999999},{"$f":"cвод!L107","v":293853.84000000003},520000]
[{"$f":"A83+1","v":56},"Г. Кириши, ул. Энергетиков, д. 40",2803602.38,{"$f":"cвод!J108","v":1},{"$f":"[1]субсидия!$C$335","v":2600138.92},{"$f":"cвод!L108","v":73463.460000000006},130000]
["Итого по муниципальному образованию",null,{"$f":"SUM(C76:C84)","v":39428275.380000003},{"$f":"SUM(D76:D84)","v":14},{"$f":"SUM(E76:E84)","v":36449786.939999998},{"$f":"SUM(F76:F84)","v":1028488.4400000002},{"$f":"SUM(G76:G84)","v":1950000}]
["Итого по Киришскому муниципальному району",null,{"$f":"C85","v":39428275.380000003},{"$f":"D85","v":14},36449786.939999998,1028488.4400000002,1950000]
["Кировский муниципальный район"]
["Муниципальное образование Кировское городское поселение"]
[{"$f":"A84+1","v":57},"Г. Кировск, ул. Ладожская, д. 22",{"$f":"E89+F89+G89","v":11213845.77},{"$f":"cвод!J113","v":4},{"$f":"SUM([1]субсидия!$C$207:$C$210)","v":10399991.93},{"$f":"cвод!L113","v":293853.84000000003},{"$f":"D89*130000","v":520000}]
[{"$f":"A89+1","v":58},"Г. Кировск, ул. Молодежная, д. 3",130000,null,null,null,130000]
[59,"Г. Кировск, ул. Молодежная, д. 5",130000,null,null,null,130000]
[60,"Г. Кировск, ул. Новая, д. 13, кор. 1",2803461.56,{"$f":"cвод!J116","v":1},{"$f":"[1]субсидия!$C$211","v":2599998.1},{"$f":"cвод!L116","v":73463.460000000006},{"$f":"D92*130000","v":130000}]
[61,"Г. Кировск, ул. Новая, д. 13, кор. 2",2803461.56,{"$f":"cвод!J117","v":1},{"$f":"[1]субсидия!$C$212","v":2599998.1},{"$f":"cвод!L117","v":73463.460000000006},{"$f":"D93*130000","v":130000}]
[{"$f":"A93+1","v":62},"Г. Кировск, ул. Северная, д. 17",11213600.860000001,{"$f":"cвод!J118","v":4},{"$f":"SUM([1]субсидия!$C$213:$C$216)","v":10399747.020000001},{"$f":"cвод!L118","v":293853.84000000003},{"$f":"D94*130000","v":520000}]
["Итого по муниципальному образованию",null,{"$f":"SUM(C89:C94)","v":28294369.75},{"$f":"SUM(D89:D94)","v":10},25999735.149999999,734634.60000000009,1560000]
["Муниципальное образование Отрадненское городское поселение"]
[{"$f":"A94+1","v":63},"Г. Отрадное, ул. Железнодорожная, д. 13",{"$f":"E97+F97+G97","v":260000},null,null,null,260000]
[{"$f":"A97+1","v":64},"Г. Отрадное, ул. Железнодорожная, д. 15",2802964.66,{"$f":"cвод!J121","v":1},{"$f":"[1]субсидия!$C$203","v":2599501.2000000002},{"$f":"cвод!L121","v":73463.460000000006},{"$f":"D98*130000","v":130000}]
[{"$f":"A98+1","v":65},"Г. Отрадное, ул. Зарубина, д. 11а",2803463.4,{"$f":"cвод!J122","v":1},{"$f":"[1]субсидия!$C$204","v":2599999.94},{"$f":"cвод!L122","v":73463.460000000006},{"$f":"D99*130000","v":130000}]
[{"$f":"A99+1","v":66},"Г. Отрадное, ул. Зарубина, д. 15",130000,null,null,null,130000]
[{"$f":"A100+1","v":67},"Г. Отрадное, ул. Лесная, д. 10",780000,null,null,null,780000]
[{"$f":"A101+1","v":68},"Г. Отрадное, ул. Лесная, д. 6",2733472.2,{"$f":"cвод!J123","v":1},{"$f":"[1]субсидия!$C$205","v":2530008.7400000002},{"$f":"cвод!L123","v":73463.460000000006},{"$f":"D102*130000","v":130000}]
[69,"Г. Отрадное, ул. Советская, д. 25",2803469.7399999998,{"$f":"cвод!J124","v":1},{"$f":"[1]субсидия!$C$206","v":2600006.2799999998},{"$f":"cвод!L124","v":73463.460000000006},{"$f":"D103*130000","v":130000}]
[70,"Г. Отрадное, ул. Центральная,д.17",520000,null,null,null,520000]
[71,"Г. Отрадное, ул. Щурова, д.4",260000,null,null,null,260000]
["Итого по муниципальному образованию",null,{"$f":"SUM(C97:C105)","v":13093370.000000002},{"$f":"SUM(D97:D105)","v":4},10329516.16,293853.84000000003,2470000]
["Итого по Кировскому муниципальному району",null,{"$f":"+C106+C95","v":41387739.75},{"$f":"+D106+D95","v":14},36329251.310000002,1028488.4400000002,4030000]
["Ломоносовский муниципальный район"]
["Муниципальное образование Русско-Высоцкое сельское поселение"]
[{"$f":"A105+1","v":72},"С. Русско-Высоцкое, д. 25",{"$f":"E110+F110+G110","v":5600112.2699999996},{"$f":"cвод!J129","v":2},{"$f":"[1]субсидия!$C$239+[1]субсидия!$C$240","v":5193185.3499999996},{"$f":"cвод!L129","v":146926.92000000001},{"$f":"D110*130000","v":260000}]
["Итого по муниципальному образованию",null,{"$f":"SUM(C110)","v":5600112.2699999996},{"$f":"SUM(D110)","v":2},5193185.3499999996,146926.92000000001,260000]
["Итого по Ломоносовскому муниципальному району",null,{"$f":"C111","v":5600112.2699999996},{"$f":"D111","v":2},5193185.3499999996,146926.92000000001,260000]
["Лужский муниципальный район"]
["Муниципальное образование Лужское городское поселение"]
[{"$f":"A110+1","v":73},"Г. Луга, просп. Володарского, д. 26",{"$f":"E115+F115+G115","v":7140000},{"$f":"cвод!J134","v":2},{"$f":"cвод!K134","v":7000000},{"$f":"cвод!L134","v":140000}]
[{"$f":"A115+1","v":74},"Г. Луга, ул. Миккели, д. 1, кор. 1",3876636.46,{"$f":"cвод!J137","v":1},{"$f":"cвод!K137","v":3673173},{"$f":"cвод!L137","v":73463.460000000006},{"$f":"D116*130000","v":130000}]
[{"$f":"A116+1","v":75},"Г. Луга, ул. Миккели, д. 1, кор. 3",3876636.46,{"$f":"cвод!J138","v":1},{"$f":"cвод!K138","v":3673173},{"$f":"cвод!L138","v":73463.460000000006},{"$f":"D117*130000","v":130000}]
[{"$f":"A117+1","v":76},"Г. Луга, ул. Победы, д. 4",3570000,{"$f":"cвод!J139","v":1},{"$f":"cвод!K139","v":3500000},{"$f":"cвод!L139","v":70000}]
[{"$f":"A118+1","v":77},"Г. Луга, ул. Победы, д. 7",3700000,{"$f":"cвод!J140","v":1},{"$f":"cвод!K140","v":3500000},{"$f":"cвод!L140","v":70000},{"$f":"D119*130000","v":130000}]
[{"$f":"A119+1","v":78},"Г. Луга, просп. Урицкого, д. 101",130000,{"$f":"cвод!J194","v":0},{"$f":"cвод!K194","v":0},{"$f":"cвод!L194","v":0},130000]
[79,"Г. Луга, просп. Урицкого, д. 99",130000,{"$f":"cвод!J195","v":0},{"$f":"cвод!K195","v":0},{"$f":"cвод!L195","v":0},130000]
["Итого по муниципальному образованию",null,{"$f":"SUM(C115:C121)","v":22423272.920000002},{"$f":"SUM(D115:D121)","v":6},21346346,426926.92000000004,650000]
["Итого по Лужскому муниципальному району",null,{"$f":"C122","v":22423272.920000002},{"$f":"D122","v":6},21346346,426926.92000000004,650000]
["Сосновоборский городской округ"]
["Муниципальное образование Сосновоборский городской округ"]
[{"$f":"A121+1","v":80},"Г. Сосновый Бор, ул. Ленинградская, д. 30",{"$f":"E126+F126+G126","v":15932497.799999999},{"$f":"cвод!J145","v":6},{"$f":"SUM([1]субсидия!$C$232:$C$237)","v":14711717.039999999},{"$f":"cвод!L145","v":440780.76},{"$f":"D126*130000","v":780000}]
[{"$f":"A126+1","v":81},"Г. Сосновый Бор, ул. Молодежная, д. 26",7594407.96,2,{"$f":"D127*3641478+162542","v":7445498},{"$f":"E127*0.02","v":148909.96}]
[{"$f":"A127+1","v":82},"Г. Сосновый Бор, ул. Молодежная, д. 54",2804202.48,{"$f":"cвод!J147","v":1},{"$f":"[1]субсидия!$C$231","v":2600739.02},{"$f":"cвод!L147","v":73463.460000000006},{"$f":"D128*130000","v":130000}]
[83,"Г. Сосновый Бор, ул. Парковая, д. 18",11079698,{"$f":"cвод!J148","v":4},{"$f":"SUM([1]субсидия!$C$218:$C$221)","v":10265844.16},{"$f":"cвод!L148","v":293853.84000000003},{"$f":"D129*130000","v":520000}]
[84,"Г. Сосновый Бор, ул. Парковая, д. 22",2773711.94,{"$f":"cвод!J149","v":1},{"$f":"[1]субсидия!$C$222","v":2570248.48},{"$f":"cвод!L149","v":73463.460000000006},{"$f":"D130*130000","v":130000}]
[85,"Г. Сосновый Бор, ул. Парковая, д. 24",10776014.600000001,{"$f":"cвод!J150","v":4},{"$f":"SUM([1]субсидия!$C$223:$C$226)","v":9962160.7600000016},{"$f":"cвод!L150","v":293853.84000000003},{"$f":"D131*130000","v":520000}]
[86,"Г. Сосновый Бор, ул. Парковая, д. 44",8367472,{"$f":"cвод!J151","v":3},{"$f":"SUM([1]субсидия!$C$227:$C$229)","v":7757081.6200000001},{"$f":"cвод!L151","v":220390.38},{"$f":"D132*130000","v":390000}]
[87,"Г. Сосновый Бор, ул. Сибирская, д. 5",3880100.4,{"$f":"cвод!J152","v":1},{"$f":"cвод!K152","v":3804020},{"$f":"cвод!L152","v":76080.400000000009}]
[88,"Г. Сосновый Бор, ул. Солнечная, д. 23а",2790756.58,{"$f":"cвод!J153","v":1},{"$f":"[1]субсидия!$C$230","v":2587293.12},{"$f":"cвод!L153","v":73463.460000000006},{"$f":"D134*130000","v":130000}]
[89,"Г. Сосновый Бор, ул. Солнечная, д. 30",5901813.6000000006,2,5753330.4000000004,148483.20000000001]
["Итого по муниципальному образованию",null,{"$f":"SUM(C126:C135)","v":71900675.359999985},{"$f":"SUM(D126:D135)","v":25},67457932.599999994,1842742.76,2600000]
["Сланцевский муниципальный район"]
["Муниципальное образование Сланцевское городское поселение"]
[{"$f":"A135+1","v":90},"Г. Сланцы, просп. Молодежный, д. 13",{"$f":"E139+F139+G139","v":10976456.25},{"$f":"cвод!J158","v":4},{"$f":"SUM([1]субсидия!$C$242:$C$245)","v":10162602.41},{"$f":"cвод!L158","v":293853.84000000003},{"$f":"D139*130000","v":520000}]
[{"$f":"A139+1","v":91},"Г. Сланцы, ул. Гагарина, д. 1",2802349.3,{"$f":"cвод!J159","v":1},{"$f":"[1]субсидия!$C$246","v":2598885.84},{"$f":"cвод!L159","v":73463.460000000006},{"$f":"D140*130000","v":130000}]
[92,"Г. Сланцы, ул. Гагарина, д. 5а",3746636.46,{"$f":"cвод!J160","v":1},{"$f":"cвод!K160","v":3673173},{"$f":"cвод!L160","v":73463.460000000006}]
[93,"Г. Сланцы, ул. Ленина, д. 25, кор. 1",2733515.56,{"$f":"cвод!J161","v":1},{"$f":"[1]субсидия!$C$247","v":2530052.1},{"$f":"cвод!L161","v":73463.460000000006},{"$f":"D142*130000","v":130000}]
[94,"Г. Сланцы, ул. Ленина, д. 25, кор. 4",8199017.0300000003,{"$f":"cвод!J162","v":3},{"$f":"SUM([1]субсидия!$C$248:$C$250)","v":7588626.6500000004},{"$f":"cвод!L162","v":220390.38},390000]
[95,"Г. Сланцы, ул. Ленина, д. 25, кор. 6",8179528.2599999998,{"$f":"cвод!J163","v":3},{"$f":"SUM([1]субсидия!$C$251:$C$253)","v":7569137.8799999999},{"$f":"cвод!L163","v":220390.38},390000]
[96,"Г. Сланцы, ул. Спортивная, д. 9/2",5467331.2300000004,{"$f":"cвод!J164","v":2},{"$f":"SUM([1]субсидия!$C$254:$C$255)","v":5060404.3100000005},{"$f":"cвод!L164","v":146926.92000000001},260000]
[97,"Г. Сланцы, ул. Шахтерской Славы, д. 14, корп. 1",2873700.45,{"$f":"cвод!J165","v":1},{"$f":"[1]субсидия!$C$260","v":2670236.9900000002},{"$f":"cвод!L165","v":73463.460000000006},130000]
[98,"Г. Сланцы, ул. Шахтерской Славы, д. 9б",10933757.170000002,{"$f":"cвод!J166","v":4},{"$f":"SUM([1]субсидия!$C$256:$C$259)","v":10119903.330000002},{"$f":"cвод!L166","v":293853.84000000003},520000]
["Итого по муниципальному образованию",null,{"$f":"SUM(C139:C147)","v":55912291.710000008},{"$f":"SUM(D139:D147)","v":20},51973022.510000005,1469269.2000000002,2470000]
["Итого по Сланцевскому муниципальному району",null,{"$f":"C148","v":55912291.710000008},{"$f":"D148","v":20},51973022.510000005,1469269.2000000002,2470000]
["Тихвинский муниципальный район"]
["Муниципальное образование Тихвинское городское поселение"]
[{"$f":"A147+1","v":99},"Г. Тихвин, микрорайон 1а, д. 45",{"$f":"E152+F152+G152","v":5433061.9500000002},{"$f":"cвод!J171","v":2},{"$f":"SUM([1]субсидия!$C$317:$C$318)","v":5026135.03},{"$f":"cвод!L171","v":146926.92000000001},{"$f":"D152*130000","v":260000}]
[{"$f":"A152+1","v":100},"Г. Тихвин, ул. Машиностроителей, д.46",{"$f":"E153+F153+G153","v":650000},null,null,null,650000]
[{"$f":"A153+1","v":101},"Г. Тихвин, ул. Советская, д. 1",{"$f":"E154+F154+G154","v":5459425.3499999996},{"$f":"cвод!J172","v":2},{"$f":"SUM([1]субсидия!$C$319:$C$320)","v":5052498.43},{"$f":"cвод!L172","v":146926.92000000001},{"$f":"D154*130000","v":260000}]
["Итого по муниципальному образованию",null,{"$f":"SUM(C152:C154)","v":11542487.300000001},{"$f":"SUM(D152:D154)","v":4},10078633.460000001,293853.84000000003,1170000]
["Итого по Тихвинскому муниципальному району",null,{"$f":"C155","v":11542487.300000001},{"$f":"D155","v":4},10078633.460000001,293853.84000000003,1170000]
["Тосненский район"]
["Муниципальное образование Тосненское городское поселение"]
[{"$f":"A154+1","v":102},"Г. Тосно, ул. М. Горького, д. 4",{"$f":"E159+F159+G159","v":5467451.4399999995},{"$f":"cвод!J177","v":2},{"$f":"[1]субсидия!$C$10+[1]субсидия!$C$11","v":5060524.5199999996},{"$f":"cвод!L177","v":146926.92000000001},{"$f":"D159*130000","v":260000}]
[{"$f":"A159+1","v":103},"Г. Тосно, ул. М. Горького, д. 8а",{"$f":"E160+F160+G160","v":260000},null,null,null,260000]
[{"$f":"A160+1","v":104},"Г. Тосно, ул. Победы, д. 19А",{"$f":"E161+F161+G161","v":5467371.3799999999},{"$f":"cвод!J178","v":2},{"$f":"[1]субсидия!$C$12+[1]субсидия!$C$13","v":5060444.46},{"$f":"cвод!L178","v":146926.92000000001},{"$f":"D161*130000","v":260000}]
[105,"Г. Тосно, пр. Ленина, д. 19",{"$f":"E162+F162+G162","v":520000},null,null,null,{"$f":"130000*4","v":520000}]
["Итого по муниципальному образованию",null,{"$f":"SUM(C159:C162)","v":11714822.82},{"$f":"SUM(D159:D162)","v":4},{"$f":"SUM(E159:E162)","v":10120968.98},{"$f":"SUM(F159:F162)","v":293853.84000000003},{"$f":"SUM(G159:G162)","v":1300000}]
["Итого по Тосненскому району",null,{"$f":"C163","v":11714822.82},{"$f":"D163","v":4},10120968.98,293853.84000000003,1300000]
["ИТОГО по Ленинградской области",null,{"$f":"C164+C156+C149+C136+C123+C112+C107+C86+C73+C56+C26","v":447583913.8064},{"$f":"D164+D156+D149+D136+D123+D112+D107+D86+D73+D56+D26","v":153},408896842.42000002,10607071.386400001,28080000]
["Осуществление строительного контроля",null,{"$f":"(C165-F165-G165)*0.0214","v":8750392.4277880006}]
["Итого по Ленинградской области со строительным контролем",null,{"$f":"C165+C166","v":456334306.23418802}]
[]
[]
[]
[]
[]
[]
[]
[]
[]
[]
[]
[]
[]
[]
[]
[]
[]
[]
[]
[]
[]
[]
[]
[]
[]
[]
[]
[]
[]
[]
[]
[]
[]
[]
[]
[]
[]
[]
[]
[]
[]
[]
[]
[]
[]
[]
[]
[]
[]
[]
[]
[]
[]
[]
[]
[]
[]
[]
[]
[]
[]
[]
[]
[]
[]
[]
[]
[]
[]
[]
[]
[]
[]
[null,null,null,null,null,null,{"$f":"SUM(G228:G240)","v":0}]
[]
[]
[]
[]
[]
[]
[]
[]
[]
[]
[]
[]
[]
[]
[]
[]
[]
[]
[]
[]
[]
[]
[null,null,null,null,null,null,{"$f":"SUM(G246:G263)","v":0}]
[]
[]
[]
[]
[]
[]
[]
[]
[]
[]
[null,null,null,null,null,null,{"$f":"SUM(G269:G274)","v":0}]
[]
[]
[]
[]
[]
[]
[]
[null,null,null,null,null,null,{"$f":"SUM(G277:G282)","v":0}]
[]
[]
[]
[]
[]
[null,null,null,null,null,null,{"$f":"SUM(G285:G287)","v":0}]
[null,null,null,null,null,null,{"$f":"G241+G264+G275+G289+G283+G267","v":0}]
[]
[]
[]
[]
[]
[]
[null,null,null,null,null,null,{"$f":"SUM(G293:G296)","v":0}]
[]
[]
[]
[]
[]
[]
[]
[]
[]
[]
[]
[]
[]
[]
[]
[]
[]
[]
[]
[]
[]
[]
[]
[]
[]
[]
[]
[]
[]
[]
[]
[]
[]
[]
[]
[]
[]
[]
[]
[]
[]
[]
[]
[]
[]
[]
[]
[]
[]
[]
[]
[]
[]
[]
[]
[]
[]
[]
[]
[]
[]
[]
[]
[null,null,null,null,null,null,{"$f":"SUM(G302:G360)","v":0}]
[]
[]
[]
[]
[]
[]
[null,null,null,null,null,null,{"$f":"SUM(G367)","v":0}]
[]
[]
[]
[]
[]
[]
[null,null,null,null,null,null,{"$f":"G297+G361+G368","v":0}]
[]
[]
[]
[]
[]
[]
[]
[]
[]
[]
[]
[]
[]
[]
[null,null,null,null,null,null,{"$f":"SUM(G378:G389)","v":0}]
[]
[]
[]
[]
[null,null,null,null,null,null,{"$f":"SUM(G392:G394)","v":0}]
[null,null,null,null,null,null,{"$f":"G390+G395","v":0}]
[]
[]
[]
[]
[]
[]
[]
[]
[]
[]
[]
[]
[]
[]
[]
[]
[]
[]
[]
[]
[]
[]
[]
[]
[]
[]
[]
[]
[]
[null,null,null,null,null,null,{"$f":"SUM(G399:G425)","v":0}]
[]
[]
[]
[]
[null,null,null,null,null,null,{"$f":"SUM(G428:G430)","v":0}]
[]
[]
[]
[null,null,null,null,null,null,{"$f":"SUM(G433:G434)","v":0}]
[null,null,null,null,null,null,{"$f":"G426+G435+G431","v":0}]
[]
[]
[]
[]
[]
[]
[]
[]
[]
[]
[]
[]
[]
[]
[]
[]
[]
[]
[]
[]
[]
[]
[]
[]
[]
[]
[null,null,null,null,null,null,{"$f":"SUM(G439:G462)","v":0}]
[]
[]
[]
[]
[]
[]
[]
[]
[]
[]
[]
[]
[]
[]
[]
[]
[null,null,null,null,null,null,{"$f":"SUM(G465:G479)","v":0}]
[]
[]
[]
[]
[]
[]
[null,null,null,null,null,null,{"$f":"SUM(G482:G486)","v":0}]
[]
[]
[null,null,null,null,null,null,{"$f":"SUM(G489:G489)","v":0}]
[]
[]
[]
[]
[]
[]
[]
[null,null,null,null,null,null,{"$f":"SUM(G492:G497)","v":0}]
[]
[]
[]
[]
[]
[]
[]
[null,null,null,null,null,null,{"$f":"SUM(G500:G505)","v":0}]
[null,null,null,null,null,null,{"$f":"#REF!+#REF!+#REF!+#REF!+#REF!+F507+#REF!+#REF!+#REF!+#REF!+#REF!+#REF!+#REF!+#REF!","v":{"$error":"#REF!"}}]
[null,null,null,null,null,null,{"$f":"#REF!+#REF!+#REF!+#REF!+#REF!+F508+#REF!+#REF!+#REF!+#REF!+#REF!+#REF!+#REF!+#REF!","v":{"$error":"#REF!"}}]
[null,null,null,null,null,null,{"$f":"#REF!+#REF!+#REF!+#REF!+#REF!+F509+#REF!+#REF!+#REF!+#REF!+#REF!+#REF!+#REF!+#REF!","v":{"$error":"#REF!"}}]
[null,null,null,null,null,null,{"$f":"#REF!+#REF!+#REF!+#REF!+#REF!+F510+#REF!+#REF!+#REF!+#REF!+#REF!+#REF!+#REF!+#REF!","v":{"$error":"#REF!"}}]
[null,null,null,null,null,null,{"$f":"#REF!+#REF!+#REF!+#REF!+#REF!+F511+#REF!+#REF!+#REF!+#REF!+#REF!+#REF!+#REF!+#REF!","v":{"$error":"#REF!"}}]
[]
[]
[]
[]
[]
[]
[]
[]
[]
[]
[]
[]
[]
[]
[]
[]
[]
[]
[]
[]
[]
[]
[]
[]
[]
[null,null,null,null,null,null,{"$f":"SUM(G513:G536)","v":0}]
[null,null,null,null,null,null,{"$f":"SUM(G537+G506+G498+G490+G487+G480+G463)","v":0}]
[]
[]
[]
[]
[]
[]
[]
[]
[]
[]
[]
[]
[]
[]
[]
[]
[]
[]
[]
[]
[]
[]
[]
[]
[]
[]
[]
[]
[]
[]
[]
[]
[]
[]
[]
[null,null,null,null,null,null,{"$f":"SUM(G541:G573)","v":0}]
[null,null,null,null,null,null,{"$f":"G574","v":0}]
[]
[]
[]
[]
[]
[]
[]
[]
[null,null,null,null,null,null,{"$f":"SUM(G578:G581)","v":0}]
[]
[]
[null,null,null,null,null,null,{"$f":"SUM(G586:G586)","v":0}]
[]
[]
[]
[]
[null,null,null,null,null,null,{"$f":"SUM(G589:G591)","v":0}]
[]
[]
[]
[]
[]
[null,null,null,null,null,null,{"$f":"SUM(G594:G597)","v":0}]
[]
[]
[]
[]
[]
[null,null,null,null,null,null,{"$f":"SUM(G600:G603)","v":0}]
[]
[]
[]
[null,null,null,null,null,null,{"$f":"SUM(G606:G607)","v":0}]
[]
[]
[]
[]
[]
[null,null,null,null,null,null,{"$f":"SUM(G610:G613)","v":0}]
[null,null,null,null,null,null,{"$f":"G592+G584+G587+G614+G608+G598+G604","v":0}]
[]
[]
[]
[]
[null,null,null,null,null,null,{"$f":"SUM(G618:G619)","v":0}]
[]
[]
[]
[]
[]
[]
[]
[]
[]
[]
[]
[]
[]
[]
[]
[]
[]
[]
[]
[]
[]
[]
[null,null,null,null,null,null,{"$f":"SUM(G634:G642)","v":0}]
[]
[]
[]
[null,null,null,null,null,null,{"$f":"SUM(G645:G646)","v":0}]
[]
[]
[null,null,null,null,null,null,{"$f":"SUM(G649:G649)","v":0}]
[]
[]
[]
[]
[]
[]
[]
[]
[null,null,null,null,null,null,{"$f":"SUM(G652:G658)","v":0}]
[]
[]
[]
[]
[]
[]
[]
[null,null,null,null,null,null,{"$f":"SUM(G661:G666)","v":0}]
[]
[]
[null,null,null,null,null,null,{"$f":"SUM(G669:G669)","v":0}]
[]
[]
[null,null,null,null,null,null,{"$f":"SUM(G672)","v":0}]
[]
[]
[]
[]
[]
[]
[null,null,null,null,null,null,{"$f":"G620+G643+G647+G650+G659+G667+G670+G673+G679","v":0}]
[]
[]
[]
[]
[]
[]
[]
[]
[]
[]
[null,null,null,null,null,null,{"$f":"SUM(G683:G690)","v":0}]
[null,null,null,null,null,null,{"$f":"G691","v":0}]
[]
[]
[]
[]
[]
[]
[]
[null,null,null,null,null,null,{"$f":"SUM(G695:G699)","v":0}]
[]
[]
[]
[]
[]
[null,null,null,null,null,null,{"$f":"SUM(G702:G705)","v":0}]
[]
[]
[]
[]
[null,null,null,null,null,null,{"$f":"SUM(G708:G710)","v":0}]
[]
[]
[]
[]
[]
[null,null,null,null,null,null,{"$f":"SUM(G713:G716)","v":0}]
[]
[]
[]
[null,null,null,null,null,null,{"$f":"SUM(G719:G720)","v":0}]
[]
[]
[]
[]
[]
[]
[]
[null,null,null,null,null,null,{"$f":"G727+G728","v":0}]
[null,null,null,null,null,null,{"$f":"G700+G706+G711+G717+G721","v":0}]
[]
[]
[]
[null,null,null,null,null,null,{"$f":"SUM(G733:G733)","v":0}]
[]
[]
[null,null,null,null,null,null,{"$f":"SUM(G736)","v":0}]
[]
[]
[]
[]
[]
[]
[]
[]
[]
[]
[]
[]
[]
[]
[]
[]
[]
[]
[]
[]
[]
[]
[]
[]
[]
[]
[]
[]
[]
[]
[]
[]
[]
[]
[]
[]
[]
[null,null,null,null,null,null,{"$f":"SUM(G739:G774)","v":0}]
[null,null,null,null,null,null,{"$f":"G775+G737+G734","v":0}]
[]
[]
[]
[]
[]
[]
[]
[]
[]
[]
[]
[]
[]
[]
[]
[]
[]
[]
[]
[]
[]
[]
[]
[]
[]
[]
[]
[]
[]
[]
[]
[]
[]
[]
[]
[]
[]
[]
[]
[]
[]
[]
[]
[]
[]
[]
[]
[]
[]
[]
[]
[]
[]
[]
[]
[]
[]
[]
[]
[]
[]
[]
[]
[]
[]
[]
[]
[]
[]
[]
[]
[]
[]
[]
[]
[]
[]
[]
[]
[]
[]
[]
[]
[]
[]
[]
[]
[]
[]
[]
[]
[]
[]
[]
[]
[]
[]
[]
[]
[]
[]
[]
[]
[]
[]
[]
[]
[]
[]
[]
[]
[]
[]
[]
[]
[]
[]
[]
[]
[]
[null,null,null,null,null,null,{"$f":"SUM(G778:G896)","v":0}]
[]
[]
[]
[]
[]
[]
[]
[]
[]
[]
[]
[]
[]
[]
[]
[]
[]
[]
[]
[]
[]
[]
[]
[]
[]
[]
[]
[]
[]
[]
[]
[]
[]
[]
[]
[]
[]
[]
[]
[]
[]
[]
[]
[]
[]
[]
[]
[]
[]
[]
[]
[]
[]
[]
[]
[]
[]
[]
[]
[]
[]
[]
[]
[]
[]
[]
[]
[]
[]
[]
[]
[]
[]
[]
[]
[]
[]
[]
[]
[]
[]
[]
[]
[]
[]
[]
[]
[]
[]
[]
[]
[]
[]
[]
[]
[]
[]
[]
[]
[]
[]
[]
[]
[]
[]
[]
[]
[]
[]
[]
[]
[null,null,null,null,null,null,{"$f":"SUM(G905:G1008)","v":0}]
[]
[]
[]
[]
[]
[]
[]
[]
[]
[]
[]
[]
[]
[]
[]
[]
[]
[]
[]
[null,null,null,null,null,null,{"$f":"SUM(G1011:G1028)","v":0}]
[null,null,null,null,null,null,{"$f":"G1009+G1029","v":0}]
[]
[]
[]
[null,null,null,null,null,null,{"$f":"SUM(G1033:G1033)","v":0}]
[]
[]
[]
[]
[]
[]
[]
[null,null,null,null,null,null,{"$f":"SUM(G1036:G1041)","v":0}]
[]
[]
[null,null,null,null,null,null,{"$f":"SUM(G1044:G1044)","v":0}]
[]
[]
[]
[]
[]
[]
[]
[]
[]
[]
[]
[]
[]
[]
[]
[]
[]
[]
[]
[null,null,null,null,null,null,{"$f":"SUM(G1047:G1064)","v":0}]
[]
[]
[null,null,null,null,null,null,{"$f":"SUM(G1067:G1067)","v":0}]
[]
[]
[null,null,null,null,null,null,{"$f":"SUM(G1070)","v":0}]
[null,null,null,null,null,null,{"$f":"G1042+G1045+G1068+G1065+G1034+G1071","v":0}]
[]
[]
[]
[]
[]
[]
[]
[]
[]
[]
[]
[]
[]
[]
[null,null,null,null,{"$f":"C166+F165","v":19357463.814188004}]

{"sheet":"Раздел 3","index":3,"n_rows":1028,"n_cols":7,"rows_kept":1028,"cut":false,"hidden":false,"merged":[[122,0,122,1],[1,3,1,4],[9,0,9,6],[31,0,31,6],[38,0,38,6],[80,0,80,6],[121,0,121,1],[98,0,98,6],[109,0,109,6],[4,0,4,6],[54,0,54,1],[114,0,114,6],[0,0,0,6],[70,0,70,6],[104,0,104,6],[53,0,53,6],[93,0,93,6]]}
["Раздел III. Реестр многоквартирных домов, в которых будет проводиться капитальный ремонт лифтового оборудования в 2021 году, за счет средств собственников"]
["№ п\\п","Адрес МКД","Стоимость капитального ремонта ВСЕГО","Ремонт или замена лифтового оборудования",null,"ТО","Проект-ные работы"]
[null,null,"руб.","ед.","руб","руб.","руб."]
[1,2,3,4,5,6,7]
["Волховский муниципальный район"]
["Муниципальное образование Город Волхов"]
[1,"Г. Волхов, просп. Волховский, д. 57",{"$f":"E7+F7+G7","v":130000},null,null,null,130000]
["Итого по муниципальному образованию",null,{"$f":"SUM(C7:C7)","v":130000},{"$f":"SUM(D7:D7)","v":0},0,0,130000]
["Итого по Волховскому муниципальному району",null,{"$f":"C8","v":130000},{"$f":"D8","v":0},0,0,130000]
["Всеволожский муниципальный район"]
["Муниципальное образование \"Город Всеволожск\""]
[{"$f":"A7+1","v":2},"Г. Всеволожск, ул. Александровская, д. 81, корп. 3  ",{"$f":"E12+F12+G12","v":5016630.92},2,{"$f":"2434852*D12","v":4869704},146926.92000000001]
[{"$f":"A12+1","v":3},"Г. Всеволожск, ул. Балашова, д. 8/3  ",5016630.92,2,{"$f":"2434852*D13","v":4869704},146926.92000000001]
[{"$f":"A13+1","v":4},"Г. Всеволожск, ул. Вокка, д. 3  ",260000,null,{"$f":"2434852*D14","v":0},null,260000]
[5,"Г. Всеволожск, ул. Василеозерская, д. 5  ",5016630.92,2,{"$f":"2434852*D15","v":4869704},146926.92000000001]
[6,"Г. Всеволожск, ул. Василеозерская, д. 7  ",260000,null,null,null,260000]
[7,"Г. Всеволожск, ул. Ленинградская, д. 30, корп. 1 ",130000,null,null,null,130000]
[8,"Г. Всеволожск, ул. Ленинградская, д. 24/84 ",26226455.219999999,7,25712211,514244.22000000003]
["Итого по муниципальному образованию",null,{"$f":"SUM(C12:C18)","v":41926347.979999997},{"$f":"SUM(D12:D18)","v":13},40321323,955024.98,650000]
["Муниципальное образование Муринское сельское поселение"]
[{"$f":"A18+1","v":9},"Пос. Мурино, ул. Оборонная, д. 12  ",{"$f":"E21+F21+G21","v":5016630.92},2,{"$f":"2434852*D21","v":4869704},{"$f":"73463.46*D21","v":146926.92000000001}]
[{"$f":"A21+1","v":10},"Пос. Мурино, ул. Оборонная, д. 24  ",{"$f":"E22+F22+G22","v":7524946.3799999999},3,{"$f":"2434852*D22","v":7304556},220390.38]
[{"$f":"A22+1","v":11},"Пос. Мурино, ул. Оборонная, д. 22  ",{"$f":"E23+F23+G23","v":2508315.46},1,2434852,{"$f":"73463.46*D23","v":73463.460000000006}]
["Итого по муниципальному образованию",null,{"$f":"SUM(C21:C23)","v":15049892.760000002},{"$f":"SUM(D21:D23)","v":6},14609112,440780.76000000007,0]
["Муниципальное образование Свердловское городское поселение"]
[{"$f":"A23+1","v":12},"Пос. им. Свердлова, микрорайон 1, д. 8",{"$f":"E26+F26+G26","v":10033261.84},{"$f":"cвод!J15","v":4},{"$f":"2434852*D26","v":9739408},{"$f":"cвод!L15","v":293853.84000000003}]
["Итого по муниципальному образованию",null,{"$f":"SUM(C26)","v":10033261.84},{"$f":"SUM(D26)","v":4},9739408,293853.84000000003,0]
["Муниципальное образование \"Сертолово\""]
[{"$f":"A26+1","v":13},"Г. Сертолово, микрорайон Сертолово-1, ул. Молодежная, д. 8, корп. 2",{"$f":"E29+F29+G29","v":7524946.3799999999},{"$f":"cвод!J18","v":3},{"$f":"2434852*D29","v":7304556},{"$f":"cвод!L18","v":220390.38}]
["Итого по муниципальному образованию",null,{"$f":"SUM(C29)","v":7524946.3799999999},{"$f":"SUM(D29)","v":3},7304556,220390.38,0]
["Итого по Всеволожскому муниципальному району",null,{"$f":"C30+C27+C24+C19","v":74534448.959999993},{"$f":"D30+D27+D24+D19","v":26},71974399,1910049.96,650000]
["Выборгский  район"]
["Муниципальное образование \"Город Выборг"]
[{"$f":"A29+1","v":14},"Г. Выборг, ул. Гагарина, д. 69  ",{"$f":"E34+F34+G34","v":390000},null,null,null,390000]
[{"$f":"A34+1","v":15},"Г. Выборг, ул. Приморская, д. 64  ",{"$f":"E35+F35+G35","v":4345632.0199999996},2,{"$f":"2143508.94+2071836.92","v":4215345.8599999994},{"$f":"65143.08+65143.08","v":130286.16}]
[{"$f":"A35+1","v":16},"Г. Выборг, просп. Победы, д. 12  ",{"$f":"E36+F36+G36","v":10033261.84},{"$f":"cвод!J27","v":4},{"$f":"2434852*D36","v":9739408},{"$f":"cвод!L27","v":293853.84000000003}]
["Итого по муниципальному образованию",null,{"$f":"SUM(C34:C36)","v":14768893.859999999},{"$f":"SUM(D34:D36)","v":6},13954753.859999999,424140,390000]
["Итого по Выборгскому району",null,{"$f":"C37","v":14768893.859999999},{"$f":"D37","v":6},13954753.859999999,424140,390000]
["Гатчинский муниципальный район"]
["Муниципальное образование Город Гатчина"]
[{"$f":"A36+1","v":17},"Г. Гатчина, просп. 25 Октября, д. 50",{"$f":"E41+F41+G41","v":11544197.616},6,{"$f":"1837065.6+1850126.4+2020569.6+1866856.8+1872243.6+1870978.8","v":11317840.800000001},{"$f":"E41*0.02","v":226356.81600000002}]
[{"$f":"A41+1","v":18},"Г. Гатчина, просп. 25 Октября, д. 59",390000,null,null,null,390000]
[{"$f":"A42+1","v":19},"Г. Гатчина, просп. 25 Октября, д. 63",5800138.2000000002,3,{"$f":"1833385.2+1973666.4+1879358.4","v":5686410},113728.2]
[20,"Г. Гатчина, ул. Авиатриссы Зверевой, д. 11",4015976.2932000002,2,{"$f":"2014907.82+1922323.84","v":3937231.66},78744.633200000011]
[21,"Г. Гатчина, ул. Красных Военлётов, д. 9",10012095.24,4,{"$f":"2072192.4+1954905.6+2017970.4+3673173","v":9718241.4000000004},293853.84000000003]
[22,"Г. Гатчина, ул. Рощинская, д. 13, кор. 1",2066923.5120000001,1,2026395.6,40527.912000000004]
[{"$f":"A46+1","v":23},"Г. Гатчина, ул. Рощинская, д. 11, кор. 1",130000,null,null,null,130000]
[{"$f":"A47+1","v":24},"Г. Гатчина, ул. Рощинская, д. 13А",260000,null,null,null,260000]
[{"$f":"A48+1","v":25},"Г. Гатчина, ул. Рощинская, д. 3А",260000,null,null,null,260000]
[{"$f":"A49+1","v":26},"Г. Гатчина, ул. Чехова, д. 14",4285663.4160000011,2,{"$f":"2272777.2+1928853.6","v":4201630.8000000007},84032.616000000024]
[27,"Г. Гатчина, ул. Хохлова, д. 2",7524946.3799999999,{"$f":"cвод!J73","v":3},{"$f":"2434852*D51","v":7304556},{"$f":"cвод!L73","v":220390.38}]
["Итого по муниципальному образованию",null,{"$f":"SUM(C41:C51)","v":46289940.657200009},{"$f":"SUM(D41:D51)","v":21},44192306.260000005,1057634.3972,1040000]
["Итого по Гатчинскому муниципальному району",null,{"$f":"C52","v":46289940.657200009},{"$f":"D52","v":21},44192306.260000005,1057634.3972,1040000]
["Кингисеппский муниципальный район"]
["Муниципальное образование Кингисеппское городское поселение"]
[{"$f":"A51+1","v":28},"Г. Кингисепп, просп. Карла Маркса, д. 51",{"$f":"E56+F56+G56","v":130000},null,null,null,130000]
[{"$f":"A56+1","v":29},"Г. Кингисепп, б-р Большой , д. 11",520000,null,null,null,520000]
[30,"Г. Кингисепп, б-р Большой, д. 15",260000,null,null,null,260000]
[31,"Г. Кингисепп, б-р Большой, д. 17",780000,null,null,null,780000]
[32,"Г. Кингисепп, ул. Воровского, д. 31в",260000,null,null,null,260000]
[33,"Г. Кингисепп, ул. Жукова, д. 4А",130000,null,null,null,130000]
[34,"Г. Кингисепп, ул. Жукова, д. 8а",130000,null,null,null,130000]
[35,"Г. Кингисепп, ш. Крикковское, д. 10а",260000,null,null,null,260000]
[36,"Г. Кингисепп, ш. Крикковское, д. 12",910000,null,null,null,910000]
[37,"Г. Кингисепп, ш. Крикковское, д. 14",910000,null,null,null,910000]
[38,"Г. Кингисепп, ш. Крикковское, д. 35",650000,null,null,null,650000]
[39,"Г. Кингисепп, ш. Крикковское, д. 39",390000,null,null,null,390000]
[40,"Г. Кингисепп, ш. Крикковское, д. 6",780000,null,null,null,780000]
["Итого по муниципальному образованию",null,{"$f":"SUM(C56:C68)","v":6110000},{"$f":"SUM(D56:D68)","v":0},0,0,6110000]
["Итого по Кингисеппскому муниципальному району",null,{"$f":"C69","v":6110000},{"$f":"D69","v":0},0,0,6110000]
["Киришский муниципальный район"]
["Муниципальное образование Киришское городское поселение"]
[{"$f":"A68+1","v":41},"Г. Кириши, бул. Плавницкий, д. 36",{"$f":"E73+F73+G73","v":130000},null,null,null,130000]
[{"$f":"A73+1","v":42},"Г. Кириши, пер. Березовый, д. 10",2508315.46,{"$f":"cвод!J122","v":1},{"$f":"2434852*D74","v":2434852},{"$f":"D74*73463.46","v":73463.460000000006}]
[43,"Г. Кириши, просп. Ленина, д. 40",130000,null,null,null,130000]
[{"$f":"A75+1","v":44},"Г. Кириши, просп. Ленина, д. 9",130000,null,null,null,130000]
[{"$f":"A76+1","v":45},"Г. Кириши, ул. Строителей, д. 2",130000,null,null,null,130000]
[{"$f":"A77+1","v":46},"Г. Кириши, ул. Строителей, д. 26",130000,null,null,null,130000]
["Итого по муниципальному образованию",null,{"$f":"SUM(C73:C78)","v":3158315.46},1,2434852,73463.460000000006,650000]
["Итого по Киришскому муниципальному району",null,{"$f":"C79","v":3158315.46},{"$f":"D79","v":1},2434852,73463.460000000006,650000]
["Кировский муниципальный район"]
["Муниципальное образование Кировское городское поселение"]
[{"$f":"A78+1","v":47},"Г. Кировск, ул. Молодежная, д. 3",{"$f":"E83+F83+G83","v":2508315.46},{"$f":"cвод!J114","v":1},{"$f":"2434852*D83","v":2434852},{"$f":"cвод!L114","v":73463.460000000006}]
[{"$f":"A83+1","v":48},"Г. Кировск, ул. Молодежная, д. 5",{"$f":"E84+F84+G84","v":2508315.46},{"$f":"cвод!J115","v":1},2434852,{"$f":"cвод!L115","v":73463.460000000006}]
["Итого по муниципальному образованию",null,{"$f":"SUM(C83:C84)","v":5016630.92},{"$f":"SUM(D83:D84)","v":2},4869704,146926.92000000001,0]
["Муниципальное образование Отрадненское городское поселение"]
[{"$f":"A84+1","v":49},"Г. Отрадное, ул. Железнодорожная, д. 13",{"$f":"E87+F87+G87","v":5016630.92},2,{"$f":"2434852*D87","v":4869704},{"$f":"D87*73463.46","v":146926.92000000001}]
[{"$f":"A87+1","v":50},"Г. Отрадное, ул. Зарубина, д. 15",{"$f":"E88+F88+G88","v":2508315.46},{"$f":"cвод!J97","v":1},2434852,{"$f":"D88*73463.46","v":73463.460000000006}]
[{"$f":"A88+1","v":51},"Г. Отрадное, ул. Лесная, д. 10",{"$f":"E89+F89+G89","v":2508315.46},{"$f":"cвод!J98","v":1},2434852,{"$f":"D89*73463.46","v":73463.460000000006}]
[{"$f":"A89+1","v":52},"Г. Отрадное, ул. Центральная,д.17",{"$f":"E90+F90+G90","v":10033261.84},4,9739408,{"$f":"D90*73463.46","v":293853.84000000003}]
[53,"Г. Отрадное, ул. Щурова, д.4",{"$f":"E91+F91+G91","v":5016630.92},{"$f":"cвод!J99","v":2},4869704,{"$f":"D91*73463.46","v":146926.92000000001}]
["Итого по муниципальному образованию",null,{"$f":"SUM(C87:C91)","v":25083154.600000001},{"$f":"SUM(D87:D91)","v":10},24348520,734634.60000000009,0]
["Итого по Кировскому муниципальному району",null,{"$f":"+C92+C85","v":30099785.520000003},{"$f":"+D92+D85","v":12},29218224,881561.52000000014,0]
["Ломоносовский муниципальный район"]
["Муниципальное образование Аннинское сельское поселение"]
[{"$f":"A91+1","v":54},"Г.п. Новоселье, д. 7",{"$f":"E96+F96+G96","v":520000},null,null,null,{"$f":"4*130000","v":520000}]
["Итого по муниципальному образованию",null,{"$f":"SUM(C96)","v":520000},{"$f":"SUM(D96)","v":0},0,0,520000]
["Итого по Ломоносовскому муниципальному району",null,{"$f":"C97","v":520000},{"$f":"D97","v":0},0,0,520000]
["Лужский муниципальный район"]
["Муниципальное образование Лужское городское поселение"]
[{"$f":"A96+1","v":55},"Г. Луга, просп. Урицкого, д. 101",{"$f":"E101+F101+G101","v":2508315.46},{"$f":"cвод!J135","v":1},{"$f":"2434852*D101","v":2434852},{"$f":"cвод!L135","v":73463.460000000006}]
[{"$f":"A101+1","v":56},"Г. Луга, просп. Урицкого, д. 99",{"$f":"E102+F102+G102","v":2508315.46},{"$f":"cвод!J136","v":1},2434852,{"$f":"cвод!L136","v":73463.460000000006}]
["Итого по муниципальному образованию",null,{"$f":"SUM(C101:C102)","v":5016630.92},{"$f":"SUM(D101:D102)","v":2},4869704,146926.92000000001,0]
["Итого по Лужскому муниципальному району",null,{"$f":"SUM(C103)","v":5016630.92},{"$f":"SUM(D103)","v":2},4869704,146926.92000000001,0]
["Сосновоборский городской округ"]
["Муниципальное образование Сосновоборский городской округ"]
[{"$f":"A102+1","v":57},"Г. Сосновый Бор, ул. Ленинградская, д. 38",{"$f":"E107+F107+G108","v":130000},null,null,null,130000]
[{"$f":"A107+1","v":58},"Г. Сосновый Бор, ул. Парковая, д. 70",{"$f":"E108+F108+G108","v":130000},null,null,null,130000]
["Итого по муниципальному образованию",null,{"$f":"SUM(C107:C108)","v":260000},{"$f":"SUM(D107:D108)","v":0},0,0,260000]
["Тихвинский муниципальный район"]
["Муниципальное образование Тихвинское городское поселение"]
[{"$f":"A108+1","v":59},"Г. Тихвин, ул. Машиностроителей, д.46",{"$f":"E112+F112+G112","v":12541577.300000001},5,{"$f":"2434852*D112","v":12174260},{"$f":"D112*73463.46","v":367317.30000000005}]
["Итого по муниципальному образованию",null,{"$f":"SUM(C112)","v":12541577.300000001},{"$f":"SUM(D112)","v":5},12174260,367317.30000000005,0]
["Итого по Тихвинскому муниципальному району",null,{"$f":"C113","v":12541577.300000001},{"$f":"D113","v":5},12174260,367317.30000000005,0]
["Тосненский район"]
["Муниципальное образование Тосненское городское поселение"]
[{"$f":"A112+1","v":60},"Г. Тосно, ул. М. Горького, д. 8а",{"$f":"E117+F117+G117","v":5016630.92},2,{"$f":"2434852*D117","v":4869704},{"$f":"D117*73463.46","v":146926.92000000001}]
[{"$f":"A117+1","v":61},"Г. Тосно, пр. Ленина, д. 19",{"$f":"E118+F118+G118","v":10033261.84},4,9739408,{"$f":"D118*73463.46","v":293853.84000000003}]
["Итого по муниципальному образованию",null,{"$f":"SUM(C117:C118)","v":15049892.76},{"$f":"SUM(D117:D118)","v":6},{"$f":"SUM(E117:E118)","v":14609112},{"$f":"SUM(F117:F118)","v":440780.76},{"$f":"SUM(G117:G117)","v":0}]
["Итого по Тосненскому району",null,{"$f":"C119","v":15049892.76},{"$f":"D119","v":6},14609112,440780.76,0]
["ИТОГО по Ленинградской области",null,{"$f":"C31+C38+C53+C104+C93+C9+C70+C80+C114+C109+C120+C98","v":208479485.43720001},{"$f":"D31+D38+D53+D104+D93+D9+D70+D80+D114+D109+D120","v":79},193427611.12,5301874.3171999995,9230000]
["Осуществление строительного контроля",null,{"$f":"(C121-F121-G121)*0.0214","v":4150478.8779679998}]
["Итого по Ленинградской области со строительным контролем",null,{"$f":"C121+C122","v":212629964.31516802}]
[]
[]
[]
[]
[]
[]
[]
[]
[]
[]
[]
[]
[]
[]
[]
[]
[]
[]
[]
[]
[]
[]
[]
[]
[]
[]
[]
[]
[]
[]
[]
[]
[]
[]
[]
[]
[]
[]
[]
[]
[]
[]
[]
[]
[]
[]
[]
[]
[]
[]
[]
[]
[]
[]
[]
[]
[]
[]
[]
[]
[]
[]
[]
[]
[]
[]
[]
[]
[]
[]
[]
[]
[]
[null,null,null,null,null,null,{"$f":"SUM(G184:G196)","v":0}]
[]
[]
[]
[]
[]
[]
[]
[]
[]
[]
[]
[]
[]
[]
[]
[]
[]
[]
[]
[]
[]
[]
[null,null,null,null,null,null,{"$f":"SUM(G202:G219)","v":0}]
[]
[]
[]
[]
[]
[]
[]
[]
[]
[]
[null,null,null,null,null,null,{"$f":"SUM(G225:G230)","v":0}]
[]
[]
[]
[]
[]
[]
[]
[null,null,null,null,null,null,{"$f":"SUM(G233:G238)","v":0}]
[]
[]
[]
[]
[]
[null,null,null,null,null,null,{"$f":"SUM(G241:G243)","v":0}]
[null,null,null,null,null,null,{"$f":"G197+G220+G231+G245+G239+G223","v":0}]
[]
[]
[]
[]
[]
[]
[null,null,null,null,null,null,{"$f":"SUM(G249:G252)","v":0}]
[]
[]
[]
[]
[]
[]
[]
[]
[]
[]
[]
[]
[]
[]
[]
[]
[]
[]
[]
[]
[]
[]
[]
[]
[]
[]
[]
[]
[]
[]
[]
[]
[]
[]
[]
[]
[]
[]
[]
[]
[]
[]
[]
[]
[]
[]
[]
[]
[]
[]
[]
[]
[]
[]
[]
[]
[]
[]
[]
[]
[]
[]
[]
[null,null,null,null,null,null,{"$f":"SUM(G258:G316)","v":0}]
[]
[]
[]
[]
[]
[]
[null,null,null,null,null,null,{"$f":"SUM(G323)","v":0}]
[]
[]
[]
[]
[]
[]
[null,null,null,null,null,null,{"$f":"G253+G317+G324","v":0}]
[]
[]
[]
[]
[]
[]
[]
[]
[]
[]
[]
[]
[]
[]
[null,null,null,null,null,null,{"$f":"SUM(G334:G345)","v":0}]
[]
[]
[]
[]
[null,null,null,null,null,null,{"$f":"SUM(G348:G350)","v":0}]
[null,null,null,null,null,null,{"$f":"G346+G351","v":0}]
[]
[]
[]
[]
[]
[]
[]
[]
[]
[]
[]
[]
[]
[]
[]
[]
[]
[]
[]
[]
[]
[]
[]
[]
[]
[]
[]
[]
[]
[null,null,null,null,null,null,{"$f":"SUM(G355:G381)","v":0}]
[]
[]
[]
[]
[null,null,null,null,null,null,{"$f":"SUM(G384:G386)","v":0}]
[]
[]
[]
[null,null,null,null,null,null,{"$f":"SUM(G389:G390)","v":0}]
[null,null,null,null,null,null,{"$f":"G382+G391+G387","v":0}]
[]
[]
[]
[]
[]
[]
[]
[]
[]
[]
[]
[]
[]
[]
[]
[]
[]
[]
[]
[]
[]
[]
[]
[]
[]
[]
[null,null,null,null,null,null,{"$f":"SUM(G395:G418)","v":0}]
[]
[]
[]
[]
[]
[]
[]
[]
[]
[]
[]
[]
[]
[]
[]
[]
[null,null,null,null,null,null,{"$f":"SUM(G421:G435)","v":0}]
[]
[]
[]
[]
[]
[]
[null,null,null,null,null,null,{"$f":"SUM(G438:G442)","v":0}]
[]
[]
[null,null,null,null,null,null,{"$f":"SUM(G445:G445)","v":0}]
[]
[]
[]
[]
[]
[]
[]
[null,null,null,null,null,null,{"$f":"SUM(G448:G453)","v":0}]
[]
[]
[]
[]
[]
[]
[]
[null,null,null,null,null,null,{"$f":"SUM(G456:G461)","v":0}]
[null,null,null,null,null,null,{"$f":"#REF!+#REF!+#REF!+#REF!+#REF!+F463+#REF!+#REF!+#REF!+#REF!+#REF!+#REF!+#REF!+#REF!","v":{"$error":"#REF!"}}]
[null,null,null,null,null,null,{"$f":"#REF!+#REF!+#REF!+#REF!+#REF!+F464+#REF!+#REF!+#REF!+#REF!+#REF!+#REF!+#REF!+#REF!","v":{"$error":"#REF!"}}]
[null,null,null,null,null,null,{"$f":"#REF!+#REF!+#REF!+#REF!+#REF!+F465+#REF!+#REF!+#REF!+#REF!+#REF!+#REF!+#REF!+#REF!","v":{"$error":"#REF!"}}]
[null,null,null,null,null,null,{"$f":"#REF!+#REF!+#REF!+#REF!+#REF!+F466+#REF!+#REF!+#REF!+#REF!+#REF!+#REF!+#REF!+#REF!","v":{"$error":"#REF!"}}]
[null,null,null,null,null,null,{"$f":"#REF!+#REF!+#REF!+#REF!+#REF!+F467+#REF!+#REF!+#REF!+#REF!+#REF!+#REF!+#REF!+#REF!","v":{"$error":"#REF!"}}]
[]
[]
[]
[]
[]
[]
[]
[]
[]
[]
[]
[]
[]
[]
[]
[]
[]
[]
[]
[]
[]
[]
[]
[]
[]
[null,null,null,null,null,null,{"$f":"SUM(G469:G492)","v":0}]
[null,null,null,null,null,null,{"$f":"SUM(G493+G462+G454+G446+G443+G436+G419)","v":0}]
[]
[]
[]
[]
[]
[]
[]
[]
[]
[]
[]
[]
[]
[]
[]
[]
[]
[]
[]
[]
[]
[]
[]
[]
[]
[]
[]
[]
[]
[]
[]
[]
[]
[]
[]
[null,null,null,null,null,null,{"$f":"SUM(G497:G529)","v":0}]
[null,null,null,null,null,null,{"$f":"G530","v":0}]
[]
[]
[]
[]
[]
[]
[]
[]
[null,null,null,null,null,null,{"$f":"SUM(G534:G537)","v":0}]
[]
[]
[null,null,null,null,null,null,{"$f":"SUM(G542:G542)","v":0}]
[]
[]
[]
[]
[null,null,null,null,null,null,{"$f":"SUM(G545:G547)","v":0}]
[]
[]
[]
[]
[]
[null,null,null,null,null,null,{"$f":"SUM(G550:G553)","v":0}]
[]
[]
[]
[]
[]
[null,null,null,null,null,null,{"$f":"SUM(G556:G559)","v":0}]
[]
[]
[]
[null,null,null,null,null,null,{"$f":"SUM(G562:G563)","v":0}]
[]
[]
[]
[]
[]
[null,null,null,null,null,null,{"$f":"SUM(G566:G569)","v":0}]
[null,null,null,null,null,null,{"$f":"G548+G540+G543+G570+G564+G554+G560","v":0}]
[]
[]
[]
[]
[null,null,null,null,null,null,{"$f":"SUM(G574:G575)","v":0}]
[]
[]
[]
[]
[]
[]
[]
[]
[]
[]
[]
[]
[]
[]
[]
[]
[]
[]
[]
[]
[]
[]
[null,null,null,null,null,null,{"$f":"SUM(G590:G598)","v":0}]
[]
[]
[]
[null,null,null,null,null,null,{"$f":"SUM(G601:G602)","v":0}]
[]
[]
[null,null,null,null,null,null,{"$f":"SUM(G605:G605)","v":0}]
[]
[]
[]
[]
[]
[]
[]
[]
[null,null,null,null,null,null,{"$f":"SUM(G608:G614)","v":0}]
[]
[]
[]
[]
[]
[]
[]
[null,null,null,null,null,null,{"$f":"SUM(G617:G622)","v":0}]
[]
[]
[null,null,null,null,null,null,{"$f":"SUM(G625:G625)","v":0}]
[]
[]
[null,null,null,null,null,null,{"$f":"SUM(G628)","v":0}]
[]
[]
[]
[]
[]
[]
[null,null,null,null,null,null,{"$f":"G576+G599+G603+G606+G615+G623+G626+G629+G635","v":0}]
[]
[]
[]
[]
[]
[]
[]
[]
[]
[]
[null,null,null,null,null,null,{"$f":"SUM(G639:G646)","v":0}]
[null,null,null,null,null,null,{"$f":"G647","v":0}]
[]
[]
[]
[]
[]
[]
[]
[null,null,null,null,null,null,{"$f":"SUM(G651:G655)","v":0}]
[]
[]
[]
[]
[]
[null,null,null,null,null,null,{"$f":"SUM(G658:G661)","v":0}]
[]
[]
[]
[]
[null,null,null,null,null,null,{"$f":"SUM(G664:G666)","v":0}]
[]
[]
[]
[]
[]
[null,null,null,null,null,null,{"$f":"SUM(G669:G672)","v":0}]
[]
[]
[]
[null,null,null,null,null,null,{"$f":"SUM(G675:G676)","v":0}]
[]
[]
[]
[]
[]
[]
[]
[null,null,null,null,null,null,{"$f":"G683+G684","v":0}]
[null,null,null,null,null,null,{"$f":"G656+G662+G667+G673+G677","v":0}]
[]
[]
[]
[null,null,null,null,null,null,{"$f":"SUM(G689:G689)","v":0}]
[]
[]
[null,null,null,null,null,null,{"$f":"SUM(G692)","v":0}]
[]
[]
[]
[]
[]
[]
[]
[]
[]
[]
[]
[]
[]
[]
[]
[]
[]
[]
[]
[]
[]
[]
[]
[]
[]
[]
[]
[]
[]
[]
[]
[]
[]
[]
[]
[]
[]
[null,null,null,null,null,null,{"$f":"SUM(G695:G730)","v":0}]
[null,null,null,null,null,null,{"$f":"G731+G693+G690","v":0}]
[]
[]
[]
[]
[]
[]
[]
[]
[]
[]
[]
[]
[]
[]
[]
[]
[]
[]
[]
[]
[]
[]
[]
[]
[]
[]
[]
[]
[]
[]
[]
[]
[]
[]
[]
[]
[]
[]
[]
[]
[]
[]
[]
[]
[]
[]
[]
[]
[]
[]
[]
[]
[]
[]
[]
[]
[]
[]
[]
[]
[]
[]
[]
[]
[]
[]
[]
[]
[]
[]
[]
[]
[]
[]
[]
[]
[]
[]
[]
[]
[]
[]
[]
[]
[]
[]
[]
[]
[]
[]
[]
[]
[]
[]
[]
[]
[]
[]
[]
[]
[]
[]
[]
[]
[]
[]
[]
[]
[]
[]
[]
[]
[]
[]
[]
[]
[]
[]
[]
[]
[null,null,null,null,null,null,{"$f":"SUM(G734:G852)","v":0}]
[]
[]
[]
[]
[]
[]
[]
[]
[]
[]
[]
[]
[]
[]
[]
[]
[]
[]
[]
[]
[]
[]
[]
[]
[]
[]
[]
[]
[]
[]
[]
[]
[]
[]
[]
[]
[]
[]
[]
[]
[]
[]
[]
[]
[]
[]
[]
[]
[]
[]
[]
[]
[]
[]
[]
[]
[]
[]
[]
[]
[]
[]
[]
[]
[]
[]
[]
[]
[]
[]
[]
[]
[]
[]
[]
[]
[]
[]
[]
[]
[]
[]
[]
[]
[]
[]
[]
[]
[]
[]
[]
[]
[]
[]
[]
[]
[]
[]
[]
[]
[]
[]
[]
[]
[]
[]
[]
[]
[]
[]
[]
[null,null,null,null,null,null,{"$f":"SUM(G861:G964)","v":0}]
[]
[]
[]
[]
[]
[]
[]
[]
[]
[]
[]
[]
[]
[]
[]
[]
[]
[]
[]
[null,null,null,null,null,null,{"$f":"SUM(G967:G984)","v":0}]
[null,null,null,null,null,null,{"$f":"G965+G985","v":0}]
[]
[]
[]
[null,null,null,null,null,null,{"$f":"SUM(G989:G989)","v":0}]
[]
[]
[]
[]
[]
[]
[]
[null,null,null,null,null,null,{"$f":"SUM(G992:G997)","v":0}]
[]
[]
[null,null,null,null,null,null,{"$f":"SUM(G1000:G1000)","v":0}]
[]
[]
[]
[]
[]
[]
[]
[]
[]
[]
[]
[]
[]
[]
[]
[]
[]
[]
[]
[null,null,null,null,null,null,{"$f":"SUM(G1003:G1020)","v":0}]
[]
[]
[null,null,null,null,null,null,{"$f":"SUM(G1023:G1023)","v":0}]
[]
[]
[null,null,null,null,null,null,{"$f":"SUM(G1026)","v":0}]
[null,null,null,null,null,null,{"$f":"G998+G1001+G1024+G1021+G990+G1027","v":0}]

{"sheet":"Раздел 4","index":4,"n_rows":973,"n_cols":7,"rows_kept":973,"cut":false,"hidden":false,"merged":[[67,0,67,1],[1,3,1,4],[4,0,4,5],[31,0,31,1],[30,0,30,6],[22,0,22,6],[5,0,5,6],[10,0,10,6],[0,0,0,6],[66,0,66,1],[17,0,17,6],[46,0,46,6],[60,0,60,6],[55,0,55,6]]}
["Раздел IV. Реестр многоквартирных домов, в которых будет проводиться капитальный ремонт лифтового оборудования в 2022 году, за счет средств собственников"]
["№ п\\п","Адрес МКД","Стоимость капитального ремонта ВСЕГО","Ремонт или замена лифтового оборудования",null,"ТО","Проект-ные работы"]
[null,null,"руб.","ед.","руб","руб.","руб."]
[1,2,3,4,5,6,7]
[]
["Волховский муниципальный район"]
["Муниципальное образование Город Волхов"]
[1,"Г. Волхов, просп. Волховский, д. 57",{"$f":"E8+F8+G8","v":2605709.46},1,{"$f":"2532246*D8","v":2532246},{"$f":"73463.46*D8","v":73463.460000000006}]
["Итого по муниципальному образованию",null,{"$f":"SUM(C8:C8)","v":2605709.46},{"$f":"SUM(D8:D8)","v":1},{"$f":"2532246*D9","v":2532246},73463.460000000006,{"$f":"SUM(G8:G8)","v":0}]
["Итого по Волховскому муниципальному району",null,{"$f":"C9","v":2605709.46},{"$f":"D9","v":1},{"$f":"E9","v":2532246},{"$f":"F9","v":73463.460000000006},{"$f":"G9","v":0}]
["Всеволожский муниципальный район"]
["Муниципальное образование \"Город Всеволожск\""]
[{"$f":"A8+1","v":2},"Г. Всеволожск, ул. Василеозерская, д. 7  ",{"$f":"E13+F13+G13","v":5211418.92},2,{"$f":"2532246*D13","v":5064492},{"$f":"73463.46*D13","v":146926.92000000001}]
[{"$f":"A13+1","v":3},"Г. Всеволожск, ул. Ленинградская, д. 30, корп. 1 ",{"$f":"E14+F14+G14","v":2605709.46},1,{"$f":"2532246*D14","v":2532246},{"$f":"73463.46*D14","v":73463.460000000006}]
[{"$f":"A14+1","v":4},"Г. Всеволожск, ул. Вокка, д. 3  ",{"$f":"E15+F15+G15","v":5211418.92},2,5064492,146926.92000000001]
["Итого по муниципальному образованию",null,{"$f":"SUM(C13:C15)","v":13028547.300000001},{"$f":"SUM(D13:D15)","v":5},{"$f":"SUM(E13:E15)","v":12661230},{"$f":"SUM(F13:F15)","v":367317.30000000005},{"$f":"SUM(G13:G15)","v":0}]
["Итого по Всеволожскому муниципальному району",null,{"$f":"C16","v":13028547.300000001},{"$f":"D16","v":5},{"$f":"E16","v":12661230},{"$f":"F16","v":367317.30000000005},{"$f":"G16","v":0}]
["Выборгский  район"]
["Муниципальное образование \"Город Выборг"]
[{"$f":"A15+1","v":5},"Г. Выборг, ул. Гагарина, д. 69  ",{"$f":"E20+F20+G20","v":5211418.92},{"$f":"cвод!J33","v":2},{"$f":"2532246*D20","v":5064492},{"$f":"73463.46*D20","v":146926.92000000001}]
["Итого по муниципальному образованию",null,{"$f":"SUM(C20:C20)","v":5211418.92},{"$f":"SUM(D20:D20)","v":2},{"$f":"SUM(E20:E20)","v":5064492},{"$f":"SUM(F20:F20)","v":146926.92000000001},{"$f":"SUM(G20:G20)","v":0}]
["Итого по Выборгскому району",null,{"$f":"C21","v":5211418.92},{"$f":"D21","v":2},{"$f":"E21","v":5064492},{"$f":"F21","v":146926.92000000001},{"$f":"G21","v":0}]
["Гатчинский муниципальный район"]
["Муниципальное образование Город Гатчина"]
[{"$f":"A20+1","v":6},"Г. Гатчина, просп. 25 Октября, д. 59",{"$f":"E25+F25+G25","v":7817128.3799999999},{"$f":"cвод!J59","v":3},{"$f":"2532246*D25","v":7596738},{"$f":"cвод!L59","v":220390.38}]
[{"$f":"A25+1","v":7},"Г. Гатчина, ул. Рощинская, д. 11, кор. 1",{"$f":"E26+F26+G26","v":2605709.46},{"$f":"cвод!J67","v":1},{"$f":"2532246*D26","v":2532246},{"$f":"cвод!L67","v":73463.460000000006}]
[{"$f":"A26+1","v":8},"Г. Гатчина, ул. Рощинская, д. 13А",{"$f":"E27+F27+G27","v":5211418.92},{"$f":"cвод!J69","v":2},5064492,{"$f":"cвод!L69","v":146926.92000000001}]
[{"$f":"A27+1","v":9},"Г. Гатчина, ул. Рощинская, д. 3А",{"$f":"E28+F28+G28","v":5211418.92},{"$f":"cвод!J71","v":2},5064492,{"$f":"cвод!L71","v":146926.92000000001}]
["Итого по муниципальному образованию",null,{"$f":"SUM(C25:C28)","v":20845675.68},{"$f":"SUM(D25:D28)","v":8},{"$f":"SUM(E25:E28)","v":20257968},{"$f":"SUM(F25:F28)","v":587707.68000000005},{"$f":"SUM(G25:G28)","v":0}]
["Итого по Гатчинскому муниципальному району",null,{"$f":"C29","v":20845675.68},{"$f":"D29","v":8},{"$f":"E29","v":20257968},{"$f":"F29","v":587707.68000000005},{"$f":"G29","v":0}]
["Кингисеппский муниципальный район"]
["Муниципальное образование Кингисеппское городское поселение"]
[{"$f":"A28+1","v":10},"Г. Кингисепп, просп. Карла Маркса, д. 51",{"$f":"E33+F33+G33","v":2605709.46},1,{"$f":"2532246*D33","v":2532246},{"$f":"73463.46*D33","v":73463.460000000006}]
[{"$f":"A33+1","v":11},"Г. Кингисепп, б-р Большой , д. 11",10422837.84,4,10128984,293853.84000000003]
[12,"Г. Кингисепп, б-р Большой, д. 15",5211418.92,2,5064492,{"$f":"73463.46*D35","v":146926.92000000001}]
[13,"Г. Кингисепп, б-р Большой, д. 17",15634256.76,6,15193476,{"$f":"73463.46*D36","v":440780.76}]
[14,"Г. Кингисепп, ул. Воровского, д. 31в",5211418.92,2,5064492,146926.92000000001]
[15,"Г. Кингисепп, ул. Жукова, д. 8а",2605709.46,1,2532246,73463.460000000006]
[16,"Г. Кингисепп, ш. Крикковское, д. 10а",5211418.92,2,5064492,146926.92000000001]
[17,"Г. Кингисепп, ш. Крикковское, д. 12",18239966.219999999,7,17725722,514244.22000000003]
[18,"Г. Кингисепп, ш. Крикковское, д. 14",18239966.219999999,7,17725722,514244.22000000003]
[19,"Г. Кингисепп, ш. Крикковское, д. 35",13028547.300000001,5,12661230,367317.30000000005]
[20,"Г. Кингисепп, ш. Крикковское, д. 39",7817128.3799999999,3,7596738,220390.38]
[21,"Г. Кингисепп, ш. Крикковское, д. 6",15634256.76,6,15193476,440780.76]
["Итого по муниципальному образованию",null,{"$f":"SUM(C33:C44)","v":119862635.16},{"$f":"SUM(D33:D44)","v":46},{"$f":"SUM(E33:E44)","v":116483316},{"$f":"SUM(F33:F44)","v":3379319.16},{"$f":"SUM(G33:G44)","v":0}]
["Итого по Кингисеппскому муниципальному району",null,{"$f":"C45","v":119862635.16},{"$f":"D45","v":46},{"$f":"E45","v":116483316},{"$f":"F45","v":3379319.16},{"$f":"G45","v":0}]
["Киришский муниципальный район"]
["Муниципальное образование Киришское городское поселение"]
[{"$f":"A44+1","v":22},"Г. Кириши, бул. Плавницкий, д. 36",{"$f":"E49+F49+G49","v":2605709.46},{"$f":"cвод!J96","v":1},{"$f":"2532246*D49","v":2532246},{"$f":"73463.46*D49","v":73463.460000000006}]
[{"$f":"A49+1","v":23},"Г. Кириши, просп. Ленина, д. 40",{"$f":"E50+F50+G50","v":2605709.46},{"$f":"cвод!J100","v":1},2532246,{"$f":"73463.46*D50","v":73463.460000000006}]
[{"$f":"A50+1","v":24},"Г. Кириши, просп. Ленина, д. 9",{"$f":"E51+F51+G51","v":2605709.46},{"$f":"cвод!J101","v":1},2532246,73463.460000000006]
[{"$f":"A51+1","v":25},"Г. Кириши, ул. Строителей, д. 2",{"$f":"E52+F52+G52","v":2605709.46},{"$f":"cвод!J103","v":1},2532246,73463.460000000006]
[{"$f":"A52+1","v":26},"Г. Кириши, ул. Строителей, д. 26",{"$f":"E53+F53+G53","v":2605709.46},{"$f":"cвод!J104","v":1},2532246,73463.460000000006]
["Итого по муниципальному образованию",null,{"$f":"SUM(C49:C53)","v":13028547.300000001},{"$f":"SUM(D49:D53)","v":5},{"$f":"SUM(E49:E53)","v":12661230},{"$f":"SUM(F49:F53)","v":367317.30000000005},{"$f":"SUM(G49:G53)","v":0}]
["Итого по Киришскому муниципальному району",null,{"$f":"C54","v":13028547.300000001},{"$f":"D54","v":5},{"$f":"E54","v":12661230},{"$f":"F54","v":367317.30000000005},{"$f":"G54","v":0}]
["Ломоносовский муниципальный район"]
["Муниципальное образование Аннинское сельское поселение"]
[{"$f":"A53+1","v":27},"Г.п. Новоселье, д. 7",{"$f":"E58+F58+G58","v":10422837.84},4,{"$f":"2532246*D58","v":10128984},{"$f":"73463.46*D58","v":293853.84000000003}]
["Итого по муниципальному образованию",null,{"$f":"SUM(C58)","v":10422837.84},{"$f":"SUM(D58)","v":4},10128984,293853.84000000003,0]
["Итого по Ломоносовскому муниципальному району",null,{"$f":"C59","v":10422837.84},{"$f":"D59","v":4},10128984,293853.84000000003,0]
["Сосновоборский городской округ"]
["Муниципальное образование Сосновоборский городской округ"]
[{"$f":"A58+1","v":28},"Г. Сосновый Бор, ул. Ленинградская, д. 38",{"$f":"E63+F63+G64","v":2605709.46},1,{"$f":"2532246*D63","v":2532246},{"$f":"73463.46*D63","v":73463.460000000006}]
[{"$f":"A63+1","v":29},"Г. Сосновый Бор, ул. Парковая, д. 70",{"$f":"E64+F64+G65","v":2605709.46},1,2532246,{"$f":"73463.46*D64","v":73463.460000000006}]
["Итого по муниципальному образованию",null,{"$f":"SUM(C63:C64)","v":5211418.92},{"$f":"SUM(D63:D64)","v":2},5064492,146926.92000000001,0]
["ИТОГО по Ленинградской области",null,{"$f":"C55+C46+C30+C22+C17+C10+C65+C60","v":190216790.57999998},{"$f":"D55+D46+D30+D22+D17+D10+D65","v":69},{"$f":"E55+E46+E30+E22+E17+E10+E65","v":174724974},{"$f":"F55+F46+F30+F22+F17+F10+F65","v":5068978.7399999993},{"$f":"G55+G46+G30+G22+G17+G10+G65","v":0}]
["Осуществление строительного контроля",null,{"$f":"(C66-F66-G66)*0.0214","v":3962163.1733759991}]
["Итого по Ленинградской области со строительным контролем",null,{"$f":"C66+C67","v":194178953.75337598}]
[]
[]
[]
[]
[]
[]
[]
[]
[]
[]
[]
[]
[]
[]
[]
[]
[]
[]
[]
[]
[]
[]
[]
[]
[]
[]
[]
[]
[]
[]
[]
[]
[]
[]
[]
[]
[]
[]
[]
[]
[]
[]
[]
[]
[]
[]
[]
[]
[]
[]
[]
[]
[]
[]
[]
[]
[]
[]
[]
[]
[]
[]
[]
[]
[]
[]
[]
[]
[]
[]
[]
[]
[]
[null,null,null,null,null,null,{"$f":"SUM(G129:G141)","v":0}]
[]
[]
[]
[]
[]
[]
[]
[]
[]
[]
[]
[]
[]
[]
[]
[]
[]
[]
[]
[]
[]
[]
[null,null,null,null,null,null,{"$f":"SUM(G147:G164)","v":0}]
[]
[]
[]
[]
[]
[]
[]
[]
[]
[]
[null,null,null,null,null,null,{"$f":"SUM(G170:G175)","v":0}]
[]
[]
[]
[]
[]
[]
[]
[null,null,null,null,null,null,{"$f":"SUM(G178:G183)","v":0}]
[]
[]
[]
[]
[]
[null,null,null,null,null,null,{"$f":"SUM(G186:G188)","v":0}]
[null,null,null,null,null,null,{"$f":"G142+G165+G176+G190+G184+G168","v":0}]
[]
[]
[]
[]
[]
[]
[null,null,null,null,null,null,{"$f":"SUM(G194:G197)","v":0}]
[]
[]
[]
[]
[]
[]
[]
[]
[]
[]
[]
[]
[]
[]
[]
[]
[]
[]
[]
[]
[]
[]
[]
[]
[]
[]
[]
[]
[]
[]
[]
[]
[]
[]
[]
[]
[]
[]
[]
[]
[]
[]
[]
[]
[]
[]
[]
[]
[]
[]
[]
[]
[]
[]
[]
[]
[]
[]
[]
[]
[]
[]
[]
[null,null,null,null,null,null,{"$f":"SUM(G203:G261)","v":0}]
[]
[]
[]
[]
[]
[]
[null,null,null,null,null,null,{"$f":"SUM(G268)","v":0}]
[]
[]
[]
[]
[]
[]
[null,null,null,null,null,null,{"$f":"G198+G262+G269","v":0}]
[]
[]
[]
[]
[]
[]
[]
[]
[]
[]
[]
[]
[]
[]
[null,null,null,null,null,null,{"$f":"SUM(G279:G290)","v":0}]
[]
[]
[]
[]
[null,null,null,null,null,null,{"$f":"SUM(G293:G295)","v":0}]
[null,null,null,null,null,null,{"$f":"G291+G296","v":0}]
[]
[]
[]
[]
[]
[]
[]
[]
[]
[]
[]
[]
[]
[]
[]
[]
[]
[]
[]
[]
[]
[]
[]
[]
[]
[]
[]
[]
[]
[null,null,null,null,null,null,{"$f":"SUM(G300:G326)","v":0}]
[]
[]
[]
[]
[null,null,null,null,null,null,{"$f":"SUM(G329:G331)","v":0}]
[]
[]
[]
[null,null,null,null,null,null,{"$f":"SUM(G334:G335)","v":0}]
[null,null,null,null,null,null,{"$f":"G327+G336+G332","v":0}]
[]
[]
[]
[]
[]
[]
[]
[]
[]
[]
[]
[]
[]
[]
[]
[]
[]
[]
[]
[]
[]
[]
[]
[]
[]
[]
[null,null,null,null,null,null,{"$f":"SUM(G340:G363)","v":0}]
[]
[]
[]
[]
[]
[]
[]
[]
[]
[]
[]
[]
[]
[]
[]
[]
[null,null,null,null,null,null,{"$f":"SUM(G366:G380)","v":0}]
[]
[]
[]
[]
[]
[]
[null,null,null,null,null,null,{"$f":"SUM(G383:G387)","v":0}]
[]
[]
[null,null,null,null,null,null,{"$f":"SUM(G390:G390)","v":0}]
[]
[]
[]
[]
[]
[]
[]
[null,null,null,null,null,null,{"$f":"SUM(G393:G398)","v":0}]
[]
[]
[]
[]
[]
[]
[]
[null,null,null,null,null,null,{"$f":"SUM(G401:G406)","v":0}]
[null,null,null,null,null,null,{"$f":"#REF!+#REF!+#REF!+#REF!+#REF!+F408+#REF!+#REF!+#REF!+#REF!+#REF!+#REF!+#REF!+#REF!","v":{"$error":"#REF!"}}]
[null,null,null,null,null,null,{"$f":"#REF!+#REF!+#REF!+#REF!+#REF!+F409+#REF!+#REF!+#REF!+#REF!+#REF!+#REF!+#REF!+#REF!","v":{"$error":"#REF!"}}]
[null,null,null,null,null,null,{"$f":"#REF!+#REF!+#REF!+#REF!+#REF!+F410+#REF!+#REF!+#REF!+#REF!+#REF!+#REF!+#REF!+#REF!","v":{"$error":"#REF!"}}]
[null,null,null,null,null,null,{"$f":"#REF!+#REF!+#REF!+#REF!+#REF!+F411+#REF!+#REF!+#REF!+#REF!+#REF!+#REF!+#REF!+#REF!","v":{"$error":"#REF!"}}]
[null,null,null,null,null,null,{"$f":"#REF!+#REF!+#REF!+#REF!+#REF!+F412+#REF!+#REF!+#REF!+#REF!+#REF!+#REF!+#REF!+#REF!","v":{"$error":"#REF!"}}]
[]
[]
[]
[]
[]
[]
[]
[]
[]
[]
[]
[]
[]
[]
[]
[]
[]
[]
[]
[]
[]
[]
[]
[]
[]
[null,null,null,null,null,null,{"$f":"SUM(G414:G437)","v":0}]
[null,null,null,null,null,null,{"$f":"SUM(G438+G407+G399+G391+G388+G381+G364)","v":0}]
[]
[]
[]
[]
[]
[]
[]
[]
[]
[]
[]
[]
[]
[]
[]
[]
[]
[]
[]
[]
[]
[]
[]
[]
[]
[]
[]
[]
[]
[]
[]
[]
[]
[]
[]
[null,null,null,null,null,null,{"$f":"SUM(G442:G474)","v":0}]
[null,null,null,null,null,null,{"$f":"G475","v":0}]
[]
[]
[]
[]
[]
[]
[]
[]
[null,null,null,null,null,null,{"$f":"SUM(G479:G482)","v":0}]
[]
[]
[null,null,null,null,null,null,{"$f":"SUM(G487:G487)","v":0}]
[]
[]
[]
[]
[null,null,null,null,null,null,{"$f":"SUM(G490:G492)","v":0}]
[]
[]
[]
[]
[]
[null,null,null,null,null,null,{"$f":"SUM(G495:G498)","v":0}]
[]
[]
[]
[]
[]
[null,null,null,null,null,null,{"$f":"SUM(G501:G504)","v":0}]
[]
[]
[]
[null,null,null,null,null,null,{"$f":"SUM(G507:G508)","v":0}]
[]
[]
[]
[]
[]
[null,null,null,null,null,null,{"$f":"SUM(G511:G514)","v":0}]
[null,null,null,null,null,null,{"$f":"G493+G485+G488+G515+G509+G499+G505","v":0}]
[]
[]
[]
[]
[null,null,null,null,null,null,{"$f":"SUM(G519:G520)","v":0}]
[]
[]
[]
[]
[]
[]
[]
[]
[]
[]
[]
[]
[]
[]
[]
[]
[]
[]
[]
[]
[]
[]
[null,null,null,null,null,null,{"$f":"SUM(G535:G543)","v":0}]
[]
[]
[]
[null,null,null,null,null,null,{"$f":"SUM(G546:G547)","v":0}]
[]
[]
[null,null,null,null,null,null,{"$f":"SUM(G550:G550)","v":0}]
[]
[]
[]
[]
[]
[]
[]
[]
[null,null,null,null,null,null,{"$f":"SUM(G553:G559)","v":0}]
[]
[]
[]
[]
[]
[]
[]
[null,null,null,null,null,null,{"$f":"SUM(G562:G567)","v":0}]
[]
[]
[null,null,null,null,null,null,{"$f":"SUM(G570:G570)","v":0}]
[]
[]
[null,null,null,null,null,null,{"$f":"SUM(G573)","v":0}]
[]
[]
[]
[]
[]
[]
[null,null,null,null,null,null,{"$f":"G521+G544+G548+G551+G560+G568+G571+G574+G580","v":0}]
[]
[]
[]
[]
[]
[]
[]
[]
[]
[]
[null,null,null,null,null,null,{"$f":"SUM(G584:G591)","v":0}]
[null,null,null,null,null,null,{"$f":"G592","v":0}]
[]
[]
[]
[]
[]
[]
[]
[null,null,null,null,null,null,{"$f":"SUM(G596:G600)","v":0}]
[]
[]
[]
[]
[]
[null,null,null,null,null,null,{"$f":"SUM(G603:G606)","v":0}]
[]
[]
[]
[]
[null,null,null,null,null,null,{"$f":"SUM(G609:G611)","v":0}]
[]
[]
[]
[]
[]
[null,null,null,null,null,null,{"$f":"SUM(G614:G617)","v":0}]
[]
[]
[]
[null,null,null,null,null,null,{"$f":"SUM(G620:G621)","v":0}]
[]
[]
[]
[]
[]
[]
[]
[null,null,null,null,null,null,{"$f":"G628+G629","v":0}]
[null,null,null,null,null,null,{"$f":"G601+G607+G612+G618+G622","v":0}]
[]
[]
[]
[null,null,null,null,null,null,{"$f":"SUM(G634:G634)","v":0}]
[]
[]
[null,null,null,null,null,null,{"$f":"SUM(G637)","v":0}]
[]
[]
[]
[]
[]
[]
[]
[]
[]
[]
[]
[]
[]
[]
[]
[]
[]
[]
[]
[]
[]
[]
[]
[]
[]
[]
[]
[]
[]
[]
[]
[]
[]
[]
[]
[]
[]
[null,null,null,null,null,null,{"$f":"SUM(G640:G675)","v":0}]
[null,null,null,null,null,null,{"$f":"G676+G638+G635","v":0}]
[]
[]
[]
[]
[]
[]
[]
[]
[]
[]
[]
[]
[]
[]
[]
[]
[]
[]
[]
[]
[]
[]
[]
[]
[]
[]
[]
[]
[]
[]
[]
[]
[]
[]
[]
[]
[]
[]
[]
[]
[]
[]
[]
[]
[]
[]
[]
[]
[]
[]
[]
[]
[]
[]
[]
[]
[]
[]
[]
[]
[]
[]
[]
[]
[]
[]
[]
[]
[]
[]
[]
[]
[]
[]
[]
[]
[]
[]
[]
[]
[]
[]
[]
[]
[]
[]
[]
[]
[]
[]
[]
[]
[]
[]
[]
[]
[]
[]
[]
[]
[]
[]
[]
[]
[]
[]
[]
[]
[]
[]
[]
[]
[]
[]
[]
[]
[]
[]
[]
[]
[null,null,null,null,null,null,{"$f":"SUM(G679:G797)","v":0}]
[]
[]
[]
[]
[]
[]
[]
[]
[]
[]
[]
[]
[]
[]
[]
[]
[]
[]
[]
[]
[]
[]
[]
[]
[]
[]
[]
[]
[]
[]
[]
[]
[]
[]
[]
[]
[]
[]
[]
[]
[]
[]
[]
[]
[]
[]
[]
[]
[]
[]
[]
[]
[]
[]
[]
[]
[]
[]
[]
[]
[]
[]
[]
[]
[]
[]
[]
[]
[]
[]
[]
[]
[]
[]
[]
[]
[]
[]
[]
[]
[]
[]
[]
[]
[]
[]
[]
[]
[]
[]
[]
[]
[]
[]
[]
[]
[]
[]
[]
[]
[]
[]
[]
[]
[]
[]
[]
[]
[]
[]
[]
[null,null,null,null,null,null,{"$f":"SUM(G806:G909)","v":0}]
[]
[]
[]
[]
[]
[]
[]
[]
[]
[]
[]
[]
[]
[]
[]
[]
[]
[]
[]
[null,null,null,null,null,null,{"$f":"SUM(G912:G929)","v":0}]
[null,null,null,null,null,null,{"$f":"G910+G930","v":0}]
[]
[]
[]
[null,null,null,null,null,null,{"$f":"SUM(G934:G934)","v":0}]
[]
[]
[]
[]
[]
[]
[]
[null,null,null,null,null,null,{"$f":"SUM(G937:G942)","v":0}]
[]
[]
[null,null,null,null,null,null,{"$f":"SUM(G945:G945)","v":0}]
[]
[]
[]
[]
[]
[]
[]
[]
[]
[]
[]
[]
[]
[]
[]
[]
[]
[]
[]
[null,null,null,null,null,null,{"$f":"SUM(G948:G965)","v":0}]
[]
[]
[null,null,null,null,null,null,{"$f":"SUM(G968:G968)","v":0}]
[]
[]
[null,null,null,null,null,null,{"$f":"SUM(G971)","v":0}]
[null,null,null,null,null,null,{"$f":"G943+G946+G969+G966+G935+G972","v":0}]

{"sheet":"cвод","index":5,"n_rows":1094,"n_cols":16384,"rows_kept":1094,"cut":false,"hidden":true,"merged":[[126,0,126,25],[2,3,2,8],[3,3,4,3],[3,4,3,8],[4,9,4,10],[1,0,5,0],[1,1,5,1],[1,2,4,2],[1,3,1,25],[2,24,4,24],[2,9,3,11],[2,16,4,17],[2,18,4,19],[2,20,4,21],[2,25,4,25],[2,12,4,13],[182,0,182,1],[181,0,181,1],[2,22,4,23],[2,14,4,15],[142,0,142,25],[155,0,155,25],[77,0,77,1],[7,0,7,25],[174,0,174,25],[131,0,131,25],[76,0,76,25],[22,0,22,25],[54,0,54,25],[168,0,168,25],[92,0,92,25],[110,0,110,25]]}
["II. Реестр многоквартирных домов, в которых будет проводиться капитальный ремонт лифтового оборудования в период 2020-2022"]
["№ п\\п","Адрес МКД","Стоимость капитального ремонта ВСЕГО","Виды работ"]
[null,null,null,"Ремонт внутридомовых инженерных систем",null,null,null,null,null,"Ремонт или замена лифтового оборудования",null,null,"Ремонт крыши",null,"Ремонт подвальных помещений",null,"Ремонт фасада",null,"Ремонт фундамента",null,"Ремонт подъездов",null,"Утепление  фасадов",null,"Установка коллектив-ных (общедо-мовых) ПУ и УУ","Проект-ные работы"]
[null,null,null,"Всего работ по инженерным системам","в том числе"]
[null,null,null,null,"Ремонт сетей электроснабжения","Ремонт сетей теплоснабжения","Ремонт сетей холодного водоснабжения","Ремонт сетей горячего водоснабжения","Ремонт систем водоотведения","Ремонт или замена лифтового оборудования",null,"ТО"]
[null,null,"руб.","руб.","руб.","руб.","руб.","руб.","руб.","ед.","руб","руб.","кв.м.","руб.","кв.м.","руб.","кв.м.","руб.","куб.м.","руб.","куб.м.","руб.","кв.м.","руб.","руб.","руб."]
[1,2,3,4,5,6,7,8,9,10,11,12,13,14,15,16,17,18,19,20,21,22,23,24,25,26]
["Всеволожский муниципальный район"]
["Муниципальное образование Муринское сельское поселение"]
[1,"Пос. Мурино, ул. Оборонная, д. 12  ",{"$f":"K10+L10+Z10","v":7753272.9199999999},null,null,null,null,null,null,2,{"$f":"3673173*J10","v":7346346},{"$f":"K10*0.02","v":146926.92000000001},null,null,null,null,null,null,null,null,null,null,null,null,null,{"$f":"J10*130000","v":260000}]
[{"$f":"A10+1","v":2},"Пос. Мурино, ул. Оборонная, д. 18",{"$f":"K11+L11+Z11","v":7753272.9199999999},null,null,null,null,null,null,2,{"$f":"3673173*J11","v":7346346},{"$f":"K11*0.02","v":146926.92000000001},null,null,null,null,null,null,null,null,null,null,null,null,null,{"$f":"J11*130000","v":260000}]
[{"$f":"A11+1","v":3},"Пос. Мурино, ул. Оборонная, д. 22  ",7753272.9199999999,null,null,null,null,null,null,2,{"$f":"3673173*J12","v":7346346},{"$f":"K12*0.02","v":146926.92000000001},null,null,null,null,null,null,null,null,null,null,null,null,null,260000]
["Итого по муниципальному образованию",null,{"$f":"SUM(C10:C12)","v":23259818.759999998},null,null,null,null,null,null,{"$f":"SUM(J10:J12)","v":6},{"$f":"SUM(K10:K12)","v":22039038},{"$f":"SUM(L10:L12)","v":440780.76},null,null,null,null,null,null,null,null,null,null,null,null,null,{"$f":"SUM(Z10:Z12)","v":780000}]
["Муниципальное образование Свердловское городское поселение"]
[{"$f":"A12+1","v":4},"Пос. им. Свердлова, микрорайон 1, д. 8",{"$f":"K15+L15+Z15","v":15506545.84},null,null,null,null,null,null,4,{"$f":"3673173*J15","v":14692692},{"$f":"K15*0.02","v":293853.84000000003},null,null,null,null,null,null,null,null,null,null,null,null,null,520000]
["Итого по муниципальному образованию",null,{"$f":"C15","v":15506545.84},null,null,null,null,null,null,{"$f":"J15","v":4},{"$f":"K15","v":14692692},{"$f":"L15","v":293853.84000000003},null,null,null,null,null,null,null,null,null,null,null,null,null,{"$f":"Z15","v":520000}]
["Муниципальное образование \"Сертолово\""]
[{"$f":"A15+1","v":5},"Г. Сертолово, микрорайон Сертолово-1, ул. Молодежная, д. 8, корп. 2",{"$f":"K18+L18+Z18","v":11629909.380000001},null,null,null,null,null,null,3,{"$f":"3673173*J18","v":11019519},{"$f":"K18*0.02","v":220390.38},null,null,null,null,null,null,null,null,null,null,null,null,null,390000]
[{"$f":"A18+1","v":6},"Г. Сертолово, микрорайон Сертолово-1, ул. Центральная, д. 6, корп. 1",11629909.380000001,null,null,null,null,null,null,3,11019519,220390.38,null,null,null,null,null,null,null,null,null,null,null,null,null,{"$f":"J19*130000","v":390000}]
[{"$f":"A19+1","v":7},"Г. Сертолово, микрорайон Сертолово-1, ул. Центральная, д. 7, корп. 1",11629909.380000001,null,null,null,null,null,null,3,11019519,220390.38,null,null,null,null,null,null,null,null,null,null,null,null,null,390000]
["Итого по муниципальному образованию",null,{"$f":"SUM(C18:C20)","v":34889728.140000001},null,null,null,null,null,null,{"$f":"SUM(J18:J20)","v":9},{"$f":"SUM(K18:K20)","v":33058557},{"$f":"SUM(L18:L20)","v":661171.14},null,null,null,null,null,null,null,null,null,null,null,null,null,{"$f":"SUM(Z18:Z20)","v":1170000}]
["Итого по Всеволожскому муниципальному району",null,{"$f":"C21+C16+C13","v":73656092.74000001},null,null,null,null,null,null,{"$f":"J21+J16+J13","v":19},{"$f":"K21+K16+K13","v":69790287},1395805.74,0,0,0,0,0,0,0,0,0,0,0,0,0,2470000]
["Выборгский  район"]
["Муниципальное образование \"Город Выборг"]
[{"$f":"A20+1","v":8},"Г. Выборг, бул. Кутузова, д. 33  ",{"$f":"K25+L25+Z25","v":3876636.46},null,null,null,null,null,null,1,{"$f":"3673173*J25","v":3673173},{"$f":"K25*0.02","v":73463.460000000006},null,null,null,null,null,null,null,null,null,null,null,null,null,{"$f":"J25*130000","v":130000}]
[{"$f":"A25+1","v":9},"Г. Выборг, просп. Московский, д. 10 ",3876636.46,null,null,null,null,null,null,1,3673173,73463.460000000006,null,null,null,null,null,null,null,null,null,null,null,null,null,130000]
[10,"Г. Выборг, просп. Победы, д. 12  ",15506545.84,null,null,null,null,null,null,4,14692692,293853.84000000003,null,null,null,null,null,null,null,null,null,null,null,null,null,520000]
[11,"Г. Выборг, просп. Победы, д. 6  ",3876636.46,null,null,null,null,null,null,1,3673173,73463.460000000006,null,null,null,null,null,null,null,null,null,null,null,null,null,130000]
[12,"Г. Выборг, пр. Победы, д. 8",3876636.46,null,null,null,null,null,null,1,3673173,73463.460000000006,null,null,null,null,null,null,null,null,null,null,null,null,null,130000]
[13,"Г. Выборг, ул. Аристарха Макарова, д. 4  ",7753272.9199999999,null,null,null,null,null,null,2,7346346,146926.92000000001,null,null,null,null,null,null,null,null,null,null,null,null,null,260000]
[14,"Г. Выборг, ул. Гагарина, д. 29  ",11629909.380000001,null,null,null,null,null,null,3,11019519,220390.38,null,null,null,null,null,null,null,null,null,null,null,null,null,390000]
[15,"Г. Выборг, ул. Гагарина, д. 65  ",3876636.46,null,null,null,null,null,null,1,3673173,73463.460000000006,null,null,null,null,null,null,null,null,null,null,null,null,null,130000]
[16,"Г. Выборг, ул. Гагарина, д. 69  ",7753272.9199999999,null,null,null,null,null,null,2,7346346,146926.92000000001,null,null,null,null,null,null,null,null,null,null,null,null,null,260000]
[17,"Г. Выборг, ул. Гагарина, д. 71  ",7753272.9199999999,null,null,null,null,null,null,2,7346346,146926.92000000001,null,null,null,null,null,null,null,null,null,null,null,null,null,260000]
[18,"Г. Выборг, ул. Крепостная, д. 39а  ",3876636.46,null,null,null,null,null,null,1,3673173,73463.460000000006,null,null,null,null,null,null,null,null,null,null,null,null,null,130000]
[19,"Г. Выборг, ул. Офицерская, д. 12  ",3876636.46,null,null,null,null,null,null,1,3673173,73463.460000000006,null,null,null,null,null,null,null,null,null,null,null,null,null,130000]
[20,"Г. Выборг, ул. Офицерская, д. 14  ",3876636.46,null,null,null,null,null,null,1,3673173,73463.460000000006,null,null,null,null,null,null,null,null,null,null,null,null,null,130000]
[21,"Г. Выборг, ул. Офицерская, д. 16  ",3876636.46,null,null,null,null,null,null,1,3673173,73463.460000000006,null,null,null,null,null,null,null,null,null,null,null,null,null,130000]
[22,"Г. Выборг, ул. Приморская, д. 36  ",7753272.9199999999,null,null,null,null,null,null,2,7346346,146926.92000000001,null,null,null,null,null,null,null,null,null,null,null,null,null,260000]
[23,"Г. Выборг, ул. Приморская, д. 40  ",15506545.84,null,null,null,null,null,null,4,14692692,293853.84000000003,null,null,null,null,null,null,null,null,null,null,null,null,null,520000]
[24,"Г. Выборг, ул. Приморская, д. 53  ",7753272.9199999999,null,null,null,null,null,null,2,7346346,146926.92000000001,null,null,null,null,null,null,null,null,null,null,null,null,null,260000]
[25,"Г. Выборг, ул. Приморская, д. 64  ",4605632.0199999996,null,null,null,null,null,null,2,{"$f":"2143508.94+2071836.92","v":4215345.8599999994},{"$f":"65143.08+65143.08","v":130286.16},null,null,null,null,null,null,null,null,null,null,null,null,null,260000]
[26,"Г. Выборг, ул. Травяная, д. 6  ",7753272.9199999999,null,null,null,null,null,null,2,7346346,146926.92000000001,null,null,null,null,null,null,null,null,null,null,null,null,null,260000]
[27,"Г. Выборг, ш. Ленинградское, д. 51а  ",3876636.46,null,null,null,null,null,null,1,3673173,73463.460000000006,null,null,null,null,null,null,null,null,null,null,null,null,null,130000]
["Итого по муниципальному образованию",null,{"$f":"SUM(C25:C44)","v":132534635.19999997},null,null,null,null,null,null,{"$f":"SUM(J25:J44)","v":35},{"$f":"SUM(K25:K44)","v":125430054.86},{"$f":"SUM(L25:L44)","v":2554580.34},null,null,null,null,null,null,null,null,null,null,null,null,null,{"$f":"SUM(Z25:Z44)","v":4550000}]
["Муниципальное образование Светогорское городское поселение"]
[{"$f":"A44+1","v":28},"Г. Светогорск, ул. Красноармейская, д. 26",{"$f":"K47+L47+Z47","v":6347373.3399999999},null,null,null,null,null,null,3,{"$f":"2648486.4+2769300.7","v":5417787.0999999996},{"$f":"74793.12+74793.12","v":149586.23999999999},null,null,null,null,null,null,null,null,null,null,null,null,null,780000]
[{"$f":"A47+1","v":29},"Г. Светогорск, ул. Красноармейская, д. 32",{"$f":"K48+L48+Z48","v":15560226.890000001},null,null,null,null,null,null,6,14331468.17,448758.72,null,null,null,null,null,null,null,null,null,null,null,null,null,{"$f":"J48*130000","v":780000}]
[{"$f":"A48+1","v":30},"Г. Светогорск, ул. Красноармейская, д. 8",{"$f":"K49+L49+Z49","v":10216441.140000001},null,null,null,null,null,null,4,{"$f":"2360581.74+2328175.4+2413371.4+2328175.4","v":9430303.9400000013},{"$f":"66534.3+66534.3+66534.3+66534.3","v":266137.2},null,null,null,null,null,null,null,null,null,null,null,null,null,520000]
["Итого по муниципальному образованию",null,{"$f":"SUM(C47:C49)","v":32124041.370000001},null,null,null,null,null,null,{"$f":"SUM(J47:J49)","v":13},{"$f":"SUM(K47:K49)","v":29179559.210000001},{"$f":"SUM(L47:L49)","v":864482.15999999992},null,null,null,null,null,null,null,null,null,null,null,null,null,{"$f":"SUM(Z47:Z49)","v":2080000}]
["Муниципальное образование Советское городское поселение"]
[{"$f":"A49+1","v":31},"Г.п. Советский, ул. Садовая, д. 46",{"$f":"K52+L52+Z52","v":2511097.2199999997},null,null,null,null,null,null,1,2313231.88,67865.34,null,null,null,null,null,null,null,null,null,null,null,null,null,130000]
["Итого по муниципальному образованию",null,{"$f":"C52","v":2511097.2199999997},null,null,null,null,null,null,{"$f":"J52","v":1},{"$f":"K52","v":2313231.88},{"$f":"L52","v":67865.34},null,null,null,null,null,null,null,null,null,null,null,null,null,{"$f":"Z52","v":130000}]
["Итого по Выборгскому району",null,{"$f":"C50+C45+C53","v":167169773.78999996},null,null,null,null,null,null,{"$f":"J50+J45+J53","v":49},{"$f":"K50+K45+K53","v":156922845.94999999},{"$f":"L50+L45+L53","v":3486927.84},null,null,null,null,null,null,null,null,null,null,null,null,null,{"$f":"J54*130000","v":6370000}]
["Гатчинский муниципальный район"]
["Муниципальное образование Город Гатчина"]
[{"$f":"A52+1","v":32},"Г. Гатчина, просп. 25 Октября, д. 50",{"$f":"K57+L57+Z57","v":12324197.616},null,null,null,null,null,null,6,{"$f":"1837065.6+1850126.4+2020569.6+1866856.8+1872243.6+1870978.8","v":11317840.800000001},{"$f":"K57*0.02","v":226356.81600000002},null,null,null,null,null,null,null,null,null,null,null,null,null,780000]
[{"$f":"A57+1","v":33},"Г. Гатчина, просп. 25 Октября, д. 50, кор. 1",7753272.9199999999,null,null,null,null,null,null,2,{"$f":"3673173*J58","v":7346346},146926.92000000001,null,null,null,null,null,null,null,null,null,null,null,null,null,260000]
[34,"Г. Гатчина, просп. 25 Октября, д. 59",11629909.380000001,null,null,null,null,null,null,3,11019519,220390.38,null,null,null,null,null,null,null,null,null,null,null,null,null,390000]
[35,"Г. Гатчина, просп. 25 Октября, д. 63",6190138.2000000002,null,null,null,null,null,null,3,{"$f":"1833385.2+1973666.4+1879358.4","v":5686410},113728.2,null,null,null,null,null,null,null,null,null,null,null,null,null,390000]
[36,"Г. Гатчина, ул. Авиатриссы Зверевой, д. 11",4275976.2932000002,null,null,null,null,null,null,2,{"$f":"2014907.82+1922323.84","v":3937231.66},78744.633200000011,null,null,null,null,null,null,null,null,null,null,null,null,null,260000]
[37,"Г. Гатчина, ул. Авиатриссы Зверевой, д. 15",7753272.9199999999,null,null,null,null,null,null,2,7346346,146926.92000000001,null,null,null,null,null,null,null,null,null,null,null,null,null,260000]
[38,"Г. Гатчина, ул. Авиатриссы Зверевой, д. 20",7753272.9199999999,null,null,null,null,null,null,2,7346346,146926.92000000001,null,null,null,null,null,null,null,null,null,null,null,null,null,260000]
[39,"Г. Гатчина, ул. Авиатриссы Зверевой, д. 3",7753272.9199999999,null,null,null,null,null,null,2,7346346,146926.92000000001,null,null,null,null,null,null,null,null,null,null,null,null,null,260000]
[40,"Г. Гатчина, ул. Володарского, д. 25А",7753272.9199999999,null,null,null,null,null,null,2,7346346,146926.92000000001,null,null,null,null,null,null,null,null,null,null,null,null,null,260000]
[41,"Г. Гатчина, ул. Красных Военлётов, д. 9",6555969.7680000002,null,null,null,null,null,null,3,{"$f":"2072192.4+1954905.6+2017970.4","v":6045068.4000000004},120901.36800000002,null,null,null,null,null,null,null,null,null,null,null,null,null,390000]
[42,"Г. Гатчина, ул. Рощинская, д. 11, кор. 1",3876636.46,null,null,null,null,null,null,1,3673173,73463.460000000006,null,null,null,null,null,null,null,null,null,null,null,null,null,130000]
[43,"Г. Гатчина, ул. Рощинская, д. 13, кор. 1",2196923.5120000001,null,null,null,null,null,null,1,2026395.6,40527.912000000004,null,null,null,null,null,null,null,null,null,null,null,null,null,130000]
[44,"Г. Гатчина, ул. Рощинская, д. 13А",7753272.9199999999,null,null,null,null,null,null,2,7346346,146926.92000000001,null,null,null,null,null,null,null,null,null,null,null,null,null,260000]
[45,"Г. Гатчина, ул. Рощинская, д. 19",15506545.84,null,null,null,null,null,null,4,14692692,293853.84000000003,null,null,null,null,null,null,null,null,null,null,null,null,null,520000]
[46,"Г. Гатчина, ул. Рощинская, д. 3А",7753272.9199999999,null,null,null,null,null,null,2,7346346,146926.92000000001,null,null,null,null,null,null,null,null,null,null,null,null,null,260000]
[47,"Г. Гатчина, ул. Рощинская, д. 9Г",7753272.9199999999,null,null,null,null,null,null,2,7346346,146926.92000000001,null,null,null,null,null,null,null,null,null,null,null,null,null,260000]
[48,"Г. Гатчина, ул. Хохлова, д. 2",11629909.380000001,null,null,null,null,null,null,3,11019519,220390.38,null,null,null,null,null,null,null,null,null,null,null,null,null,390000]
[49,"Г. Гатчина, ул. Чехова, д. 14",4545663.4160000011,null,null,null,null,null,null,2,{"$f":"2272777.2+1928853.6","v":4201630.8000000007},84032.616000000024,null,null,null,null,null,null,null,null,null,null,null,null,null,260000]
["Итого по муниципальному образованию",null,{"$f":"SUM(C57:C74)","v":140758053.22520003},null,null,null,null,null,null,{"$f":"SUM(J57:J74)","v":44},{"$f":"SUM(K57:K74)","v":132390248.25999999},{"$f":"SUM(L57:L74)","v":2647804.9651999995},null,null,null,null,null,null,null,null,null,null,null,null,null,{"$f":"SUM(Z57:Z74)","v":5720000}]
["Итого по Гатчинскому муниципальному району",null,{"$f":"C75","v":140758053.22520003},null,null,null,null,null,null,{"$f":"J75","v":44},{"$f":"K75","v":132390248.25999999},{"$f":"L75","v":2647804.9651999995},null,null,null,null,null,null,null,null,null,null,null,null,null,5720000]
["Кингисеппский муниципальный район"]
["Муниципальное образование Кингисеппское городское поселение"]
[{"$f":"A74+1","v":50},"Г. Кингисепп, просп. Карла Маркса, д. 51",{"$f":"K79+L79+Z79","v":4193140.42},null,null,null,null,null,null,1,{"$f":"3983471*J79","v":3983471},{"$f":"K79*0.02","v":79669.42},null,null,null,null,null,null,null,null,null,null,null,null,null,{"$f":"J79*130000","v":130000}]
[{"$f":"A79+1","v":51},"Г. Кингисепп, б-р Большой , д. 11",16772561.68,null,null,null,null,null,null,4,15933884,318677.68,null,null,null,null,null,null,null,null,null,null,null,null,null,520000]
[52,"Г. Кингисепп, б-р Большой, д. 15",8386280.8399999999,null,null,null,null,null,null,2,7966942,159338.84,null,null,null,null,null,null,null,null,null,null,null,null,null,260000]
[53,"Г. Кингисепп, б-р Большой, д. 17",25158842.52,null,null,null,null,null,null,6,23900826,478016.52,null,null,null,null,null,null,null,null,null,null,null,null,null,780000]
[54,"Г. Кингисепп, ул. Жукова, д. 4А",4193140.42,null,null,null,null,null,null,1,3983471,79669.42,null,null,null,null,null,null,null,null,null,null,null,null,null,130000]
[55,"Г. Кингисепп, ул. Жукова, д. 8а",4193140.42,null,null,null,null,null,null,1,3983471,79669.42,null,null,null,null,null,null,null,null,null,null,null,null,null,130000]
[56,"Г. Кингисепп, ш. Крикковское, д. 10а",8386280.8399999999,null,null,null,null,null,null,2,{"$f":"3983471*J85","v":7966942},159338.84,null,null,null,null,null,null,null,null,null,null,null,null,null,260000]
[57,"Г. Кингисепп, ш. Крикковское, д. 12",29351982.940000001,null,null,null,null,null,null,7,27884297,557685.94000000006,null,null,null,null,null,null,null,null,null,null,null,null,null,910000]
[58,"Г. Кингисепп, ш. Крикковское, д. 14",29351982.940000001,null,null,null,null,null,null,7,27884297,557685.94000000006,null,null,null,null,null,null,null,null,null,null,null,null,null,910000]
[59,"Г. Кингисепп, ш. Крикковское, д. 35",20965702.100000001,null,null,null,null,null,null,5,19917355,398347.10000000003,null,null,null,null,null,null,null,null,null,null,null,null,null,650000]
[60,"Г. Кингисепп, ш. Крикковское, д. 39",12579421.26,null,null,null,null,null,null,3,11950413,239008.26,null,null,null,null,null,null,null,null,null,null,null,null,null,390000]
[61,"Г. Кингисепп, ш. Крикковское, д. 6",25158842.52,null,null,null,null,null,null,6,23900826,478016.52,null,null,null,null,null,null,null,null,null,null,null,null,null,780000]
["Итого по муниципальному образованию",null,{"$f":"SUM(C79:C90)","v":188691318.90000001},null,null,null,null,null,null,{"$f":"SUM(J79:J90)","v":45},{"$f":"SUM(K79:K90)","v":179256195},{"$f":"SUM(L79:L90)","v":3585123.9},null,null,null,null,null,null,null,null,null,null,null,null,null,{"$f":"SUM(Z79:Z90)","v":5850000}]
["Итого по Кингисеппскому муниципальному району",null,{"$f":"C91","v":188691318.90000001},null,null,null,null,null,null,{"$f":"J91","v":45},{"$f":"K91","v":179256195},{"$f":"L91","v":3585123.9},null,null,null,null,null,null,null,null,null,null,null,null,null,5850000]
["Киришский муниципальный район"]
["Муниципальное образование Киришское городское поселение"]
[{"$f":"A90+1","v":62},"Г. Кириши, бул. Плавницкий, д. 16",{"$f":"K95+L95+Z95","v":3876636.46},null,null,null,null,null,null,1,{"$f":"3673173*J95","v":3673173},{"$f":"K95*0.02","v":73463.460000000006},null,null,null,null,null,null,null,null,null,null,null,null,null,{"$f":"J95*130000","v":130000}]
[{"$f":"A95+1","v":63},"Г. Кириши, бул. Плавницкий, д. 36",3876636.46,null,null,null,null,null,null,1,3673173,73463.460000000006,null,null,null,null,null,null,null,null,null,null,null,null,null,130000]
[64,"Г. Кириши, пер. Березовый, д. 10",3876636.46,null,null,null,null,null,null,1,3673173,73463.460000000006,null,null,null,null,null,null,null,null,null,null,null,null,null,130000]
[65,"Г. Кириши, просп. Героев, д. 15",3876636.46,null,null,null,null,null,null,1,3673173,73463.460000000006,null,null,null,null,null,null,null,null,null,null,null,null,null,130000]
[66,"Г. Кириши, просп. Героев, д. 17",7753272.9199999999,null,null,null,null,null,null,2,7346346,146926.92000000001,null,null,null,null,null,null,null,null,null,null,null,null,null,260000]
[67,"Г. Кириши, просп. Ленина, д. 40",3876636.46,null,null,null,null,null,null,1,3673173,73463.460000000006,null,null,null,null,null,null,null,null,null,null,null,null,null,130000]
[68,"Г. Кириши, просп. Ленина, д. 9",3876636.46,null,null,null,null,null,null,1,3673173,73463.460000000006,null,null,null,null,null,null,null,null,null,null,null,null,null,130000]
[69,"Г. Кириши, ул. Декабристов Бестужевых, д. 16",3876636.46,null,null,null,null,null,null,1,3673173,73463.460000000006,null,null,null,null,null,null,null,null,null,null,null,null,null,130000]
[70,"Г. Кириши, ул. Строителей, д. 2",3876636.46,null,null,null,null,null,null,1,3673173,73463.460000000006,null,null,null,null,null,null,null,null,null,null,null,null,null,130000]
[71,"Г. Кириши, ул. Строителей, д. 26",3876636.46,null,null,null,null,null,null,1,3673173,73463.460000000006,null,null,null,null,null,null,null,null,null,null,null,null,null,130000]
[72,"Г. Кириши, ул. Строителей, д. 28",3876636.46,null,null,null,null,null,null,1,3673173,73463.460000000006,null,null,null,null,null,null,null,null,null,null,null,null,null,130000]
[73,"Г. Кириши, ул. Строителей, д. 30",11629909.380000001,null,null,null,null,null,null,3,11019519,220390.38,null,null,null,null,null,null,null,null,null,null,null,null,null,390000]
[74,"Г. Кириши, ул. Строителей, д. 46",15506545.84,null,null,null,null,null,null,4,14692692,293853.84000000003,null,null,null,null,null,null,null,null,null,null,null,null,null,520000]
[75,"Г. Кириши, ул. Энергетиков, д. 40",3876636.46,null,null,null,null,null,null,1,3673173,73463.460000000006,null,null,null,null,null,null,null,null,null,null,null,null,null,130000]
["Итого по муниципальному образованию",null,{"$f":"SUM(C95:C108)","v":77532729.200000003},null,null,null,null,null,null,{"$f":"SUM(J95:J108)","v":20},{"$f":"SUM(K95:K108)","v":73463460},{"$f":"SUM(L95:L108)","v":1469269.2},null,null,null,null,null,null,null,null,null,null,null,null,null,{"$f":"SUM(Z95:Z108)","v":2600000}]
["Итого по Киришскому муниципальному району",null,{"$f":"C109","v":77532729.200000003},null,null,null,null,null,null,{"$f":"J109","v":20},{"$f":"K109","v":73463460},{"$f":"L109","v":1469269.2},null,null,null,null,null,null,null,null,null,null,null,null,null,2600000]
["Кировский муниципальный район"]
["Муниципальное образование Кировское городское поселение"]
[{"$f":"A108+1","v":76},"Г. Кировск, ул. Ладожская, д. 22",{"$f":"K113+L113+Z113","v":15506545.84},null,null,null,null,null,null,4,{"$f":"3673173*J113","v":14692692},{"$f":"K113*0.02","v":293853.84000000003},null,null,null,null,null,null,null,null,null,null,null,null,null,{"$f":"J113*130000","v":520000}]
[{"$f":"A113+1","v":77},"Г. Кировск, ул. Молодежная, д. 3",3876636.46,null,null,null,null,null,null,1,3673173,73463.460000000006,null,null,null,null,null,null,null,null,null,null,null,null,null,130000]
[{"$f":"A114+1","v":78},"Г. Кировск, ул. Молодежная, д. 5",3876636.46,null,null,null,null,null,null,1,3673173,73463.460000000006,null,null,null,null,null,null,null,null,null,null,null,null,null,130000]
[{"$f":"A115+1","v":79},"Г. Кировск, ул. Новая, д. 13, кор. 1",3876636.46,null,null,null,null,null,null,1,3673173,73463.460000000006,null,null,null,null,null,null,null,null,null,null,null,null,null,130000]
[{"$f":"A116+1","v":80},"Г. Кировск, ул. Новая, д. 13, кор. 2",3876636.46,null,null,null,null,null,null,1,3673173,73463.460000000006,null,null,null,null,null,null,null,null,null,null,null,null,null,130000]
[{"$f":"A117+1","v":81},"Г. Кировск, ул. Северная, д. 17",15506545.84,null,null,null,null,null,null,4,14692692,293853.84000000003,null,null,null,null,null,null,null,null,null,null,null,null,null,{"$f":"J118*130000","v":520000}]
["Итого по муниципальному образованию",null,{"$f":"SUM(C113:C118)","v":46519637.520000003},null,null,null,null,null,null,{"$f":"SUM(J113:J118)","v":12},{"$f":"SUM(K113:K118)","v":44078076},{"$f":"SUM(L113:L118)","v":881561.52},null,null,null,null,null,null,null,null,null,null,null,null,null,{"$f":"SUM(Z113:Z118)","v":1560000}]
["Муниципальное образование Отрадненское городское поселение"]
[{"$f":"A118+1","v":82},"Г. Отрадное, ул. Железнодорожная, д. 15",{"$f":"K121+L121+Z121","v":3876636.46},null,null,null,null,null,null,1,{"$f":"3673173*J121","v":3673173},{"$f":"K121*0.02","v":73463.460000000006},null,null,null,null,null,null,null,null,null,null,null,null,null,{"$f":"J121*130000","v":130000}]
[{"$f":"A121+1","v":83},"Г. Отрадное, ул. Зарубина, д. 11а",{"$f":"K122+L122+Z122","v":3876636.46},null,null,null,null,null,null,1,{"$f":"3673173*J122","v":3673173},{"$f":"K122*0.02","v":73463.460000000006},null,null,null,null,null,null,null,null,null,null,null,null,null,130000]
[{"$f":"A122+1","v":84},"Г. Отрадное, ул. Лесная, д. 6",{"$f":"K123+L123+Z123","v":3876636.46},null,null,null,null,null,null,1,{"$f":"3673173*J123","v":3673173},{"$f":"K123*0.02","v":73463.460000000006},null,null,null,null,null,null,null,null,null,null,null,null,null,130000]
[{"$f":"A123+1","v":85},"Г. Отрадное, ул. Советская, д. 25",{"$f":"K124+L124+Z124","v":3876636.46},null,null,null,null,null,null,1,{"$f":"3673173*J124","v":3673173},{"$f":"K124*0.02","v":73463.460000000006},null,null,null,null,null,null,null,null,null,null,null,null,null,130000]
["Итого по муниципальному образованию",null,{"$f":"SUM(C121:C124)","v":15506545.84},null,null,null,null,null,null,{"$f":"SUM(J121:J124)","v":4},{"$f":"SUM(K121:K124)","v":14692692},{"$f":"SUM(L121:L124)","v":293853.84000000003},null,null,null,null,null,null,null,null,null,null,null,null,null,{"$f":"SUM(Z121:Z124)","v":520000}]
["Итого по Кировскому муниципальному району",null,{"$f":"C125+C119","v":62026183.359999999},null,null,null,null,null,null,{"$f":"J125+J119","v":16},{"$f":"K125+K119","v":58770768},{"$f":"L125+L119","v":1175415.3600000001},null,null,null,null,null,null,null,null,null,null,null,null,null,{"$f":"J126*130000","v":2080000}]
["Ломоносовский муниципальный район"]
["Муниципальное образование Русско-Высоцкое сельское поселение"]
[{"$f":"A124+1","v":86},"С. Русско-Высоцкое, д. 25",{"$f":"K129+L129+Z129","v":7753272.9199999999},null,null,null,null,null,null,2,{"$f":"3673173*J129","v":7346346},{"$f":"K129*0.02","v":146926.92000000001},null,null,null,null,null,null,null,null,null,null,null,null,null,{"$f":"J129*130000","v":260000}]
["Итого по муниципальному образованию",null,{"$f":"C129","v":7753272.9199999999},null,null,null,null,null,null,{"$f":"J129","v":2},7346346,146926.92000000001,null,null,null,null,null,null,null,null,null,null,null,null,null,{"$f":"Z129","v":260000}]
["Итого по Ломоносовскому муниципальному району",null,{"$f":"C130","v":7753272.9199999999},null,null,null,null,null,null,2,7346346,146926.92000000001,null,null,null,null,null,null,null,null,null,null,null,null,null,{"$f":"J131*130000","v":260000}]
["Лужский муниципальный район"]
["Муниципальное образование Лужское городское поселение"]
[{"$f":"A129+1","v":87},"Г. Луга, просп. Володарского, д. 26",{"$f":"K134+L134+Z134","v":7400000},null,null,null,null,null,null,2,7000000,{"$f":"K134*0.02","v":140000},null,null,null,null,null,null,null,null,null,null,null,null,null,{"$f":"J134*130000","v":260000}]
[{"$f":"A134+1","v":88},"Г. Луга, просп. Урицкого, д. 101",3876636.46,null,null,null,null,null,null,1,{"$f":"3673173*J135","v":3673173},73463.460000000006,null,null,null,null,null,null,null,null,null,null,null,null,null,130000]
[89,"Г. Луга, просп. Урицкого, д. 99",3876636.46,null,null,null,null,null,null,1,{"$f":"3673173*J136","v":3673173},73463.460000000006,null,null,null,null,null,null,null,null,null,null,null,null,null,130000]
[90,"Г. Луга, ул. Миккели, д. 1, кор. 1",3876636.46,null,null,null,null,null,null,1,{"$f":"3673173*J137","v":3673173},73463.460000000006,null,null,null,null,null,null,null,null,null,null,null,null,null,130000]
[91,"Г. Луга, ул. Миккели, д. 1, кор. 3",3876636.46,null,null,null,null,null,null,1,{"$f":"3673173*J138","v":3673173},73463.460000000006,null,null,null,null,null,null,null,null,null,null,null,null,null,130000]
[92,"Г. Луга, ул. Победы, д. 4",3700000,null,null,null,null,null,null,1,{"$f":"3500000","v":3500000},70000,null,null,null,null,null,null,null,null,null,null,null,null,null,130000]
[93,"Г. Луга, ул. Победы, д. 7",3700000,null,null,null,null,null,null,1,{"$f":"3500000","v":3500000},70000,null,null,null,null,null,null,null,null,null,null,null,null,null,130000]
["Итого по муниципальному образованию",null,{"$f":"SUM(C134:C140)","v":30306545.840000004},null,null,null,null,null,null,{"$f":"SUM(J134:J140)","v":8},{"$f":"SUM(K134:K140)","v":28692692},{"$f":"SUM(L134:L140)","v":573853.84000000008},null,null,null,null,null,null,null,null,null,null,null,null,null,{"$f":"SUM(Z134:Z140)","v":1040000}]
["Итого по Лужскому муниципальному району",null,{"$f":"C141","v":30306545.840000004},null,null,null,null,null,null,{"$f":"J141","v":8},{"$f":"K141","v":28692692},{"$f":"L141","v":573853.84000000008},null,null,null,null,null,null,null,null,null,null,null,null,null,{"$f":"J142*130000","v":1040000}]
["Сосновоборский городской округ"]
["Муниципальное образование Сосновоборский городской округ"]
[{"$f":"A140+1","v":94},"Г. Сосновый Бор, ул. Ленинградская, д. 30",{"$f":"K145+L145+Z145","v":23259818.760000002},null,null,null,null,null,null,6,{"$f":"3673173*J145","v":22039038},{"$f":"K145*0.02","v":440780.76},null,null,null,null,null,null,null,null,null,null,null,null,null,{"$f":"J145*130000","v":780000}]
[{"$f":"A145+1","v":95},"Г. Сосновый Бор, ул. Молодежная, д. 26",7854407.96,null,null,null,null,null,null,2,{"$f":"J146*3641478+162542","v":7445498},148909.96,null,null,null,null,null,null,null,null,null,null,null,null,null,260000]
[96,"Г. Сосновый Бор, ул. Молодежная, д. 54",3876636.46,null,null,null,null,null,null,1,3673173,73463.460000000006,null,null,null,null,null,null,null,null,null,null,null,null,null,130000]
[97,"Г. Сосновый Бор, ул. Парковая, д. 18",15506545.84,null,null,null,null,null,null,4,14692692,293853.84000000003,null,null,null,null,null,null,null,null,null,null,null,null,null,520000]
[98,"Г. Сосновый Бор, ул. Парковая, д. 22",3876636.46,null,null,null,null,null,null,1,3673173,73463.460000000006,null,null,null,null,null,null,null,null,null,null,null,null,null,130000]
[99,"Г. Сосновый Бор, ул. Парковая, д. 24",15506545.84,null,null,null,null,null,null,4,14692692,293853.84000000003,null,null,null,null,null,null,null,null,null,null,null,null,null,520000]
[100,"Г. Сосновый Бор, ул. Парковая, д. 44",11629909.380000001,null,null,null,null,null,null,3,11019519,220390.38,null,null,null,null,null,null,null,null,null,null,null,null,null,390000]
[101,"Г. Сосновый Бор, ул. Сибирская, д. 5",4010100.4,null,null,null,null,null,null,1,{"$f":"J152*3641478+162542","v":3804020},76080.400000000009,null,null,null,null,null,null,null,null,null,null,null,null,null,130000]
[102,"Г. Сосновый Бор, ул. Солнечная, д. 23а",3876636.46,null,null,null,null,null,null,1,3673173,73463.460000000006,null,null,null,null,null,null,null,null,null,null,null,null,null,130000]
[103,"Г. Сосновый Бор, ул. Солнечная, д. 30",4010100.4,null,null,null,null,null,null,1,{"$f":"J154*3641478+162542","v":3804020},76080.400000000009,null,null,null,null,null,null,null,null,null,null,null,null,null,{"$f":"J154*130000","v":130000}]
["Итого по муниципальному образованию",null,{"$f":"SUM(C145:C154)","v":93407337.959999993},null,null,null,null,null,null,{"$f":"SUM(J145:J154)","v":24},{"$f":"SUM(K145:K154)","v":88516998},{"$f":"SUM(L145:L154)","v":1770339.96},null,null,null,null,null,null,null,null,null,null,null,null,null,{"$f":"SUM(Z145:Z154)","v":3120000}]
["Сланцевский муниципальный район"]
["Муниципальное образование Сланцевское городское поселение"]
[{"$f":"A154+1","v":104},"Г. Сланцы, просп. Молодежный, д. 13",{"$f":"K158+L158+Z158","v":15506545.84},null,null,null,null,null,null,4,{"$f":"3673173*J158","v":14692692},{"$f":"K158*0.02","v":293853.84000000003},null,null,null,null,null,null,null,null,null,null,null,null,null,{"$f":"J158*130000","v":520000}]
[{"$f":"A158+1","v":105},"Г. Сланцы, ул. Гагарина, д. 1",3876636.46,null,null,null,null,null,null,1,3673173,73463.460000000006,null,null,null,null,null,null,null,null,null,null,null,null,null,130000]
[106,"Г. Сланцы, ул. Гагарина, д. 5а",3876636.46,null,null,null,null,null,null,1,3673173,73463.460000000006,null,null,null,null,null,null,null,null,null,null,null,null,null,130000]
[107,"Г. Сланцы, ул. Ленина, д. 25, кор. 1",3876636.46,null,null,null,null,null,null,1,3673173,73463.460000000006,null,null,null,null,null,null,null,null,null,null,null,null,null,130000]
[108,"Г. Сланцы, ул. Ленина, д. 25, кор. 4",11629909.380000001,null,null,null,null,null,null,3,11019519,220390.38,null,null,null,null,null,null,null,null,null,null,null,null,null,390000]
[109,"Г. Сланцы, ул. Ленина, д. 25, кор. 6",11629909.380000001,null,null,null,null,null,null,3,11019519,220390.38,null,null,null,null,null,null,null,null,null,null,null,null,null,390000]
[110,"Г. Сланцы, ул. Спортивная, д. 9/2",7753272.9199999999,null,null,null,null,null,null,2,7346346,146926.92000000001,null,null,null,null,null,null,null,null,null,null,null,null,null,260000]
[111,"Г. Сланцы, ул. Шахтерской Славы, д. 14, корп. 1",3876636.46,null,null,null,null,null,null,1,3673173,73463.460000000006,null,null,null,null,null,null,null,null,null,null,null,null,null,130000]
[112,"Г. Сланцы, ул. Шахтерской Славы, д. 9б",15506545.84,null,null,null,null,null,null,4,14692692,293853.84000000003,null,null,null,null,null,null,null,null,null,null,null,null,null,520000]
["Итого по муниципальному образованию",null,{"$f":"SUM(C158:C166)","v":77532729.200000003},null,null,null,null,null,null,{"$f":"SUM(J158:J166)","v":20},{"$f":"SUM(K158:K166)","v":73463460},{"$f":"SUM(L158:L166)","v":1469269.2000000002},null,null,null,null,null,null,null,null,null,null,null,null,null,{"$f":"SUM(Z158:Z166)","v":2600000}]
["Итого по Сланцевскому муниципальному району",null,{"$f":"C167","v":77532729.200000003},null,null,null,null,null,null,{"$f":"J167","v":20},{"$f":"K167","v":73463460},{"$f":"L167","v":1469269.2000000002},null,null,null,null,null,null,null,null,null,null,null,null,null,2600000]
["Тихвинский муниципальный район"]
["Муниципальное образование Тихвинское городское поселение"]
[{"$f":"A166+1","v":113},"Г. Тихвин, микрорайон 1а, д. 45",{"$f":"K171+L171+Z171","v":7753272.9199999999},null,null,null,null,null,null,2,{"$f":"3673173*J171","v":7346346},{"$f":"K171*0.02","v":146926.92000000001},null,null,null,null,null,null,null,null,null,null,null,null,null,{"$f":"J171*130000","v":260000}]
[{"$f":"A171+1","v":114},"Г. Тихвин, ул. Советская, д. 1",{"$f":"K172+L172+Z172","v":7753272.9199999999},null,null,null,null,null,null,2,{"$f":"3673173*J172","v":7346346},{"$f":"K172*0.02","v":146926.92000000001},null,null,null,null,null,null,null,null,null,null,null,null,null,{"$f":"J172*130000","v":260000}]
["Итого по муниципальному образованию",null,{"$f":"SUM(C171:C172)","v":15506545.84},null,null,null,null,null,null,{"$f":"SUM(J171:J172)","v":4},{"$f":"SUM(K171:K172)","v":14692692},{"$f":"SUM(L171:L172)","v":293853.84000000003},null,null,null,null,null,null,null,null,null,null,null,null,null,{"$f":"SUM(Z171:Z172)","v":520000}]
["Итого по Тихвинскому муниципальному району",null,{"$f":"C173","v":15506545.84},null,null,null,null,null,null,{"$f":"J173","v":4},{"$f":"K173","v":14692692},{"$f":"L173","v":293853.84000000003},null,null,null,null,null,null,null,null,null,null,null,null,null,{"$f":"J174*130000","v":520000}]
["Тосненский район"]
["Муниципальное образование Тосненское городское поселение"]
[{"$f":"A172+1","v":115},"Г. Тосно, ул. М. Горького, д. 4",{"$f":"K177+L177+Z177","v":7753272.9199999999},null,null,null,null,null,null,2,{"$f":"3673173*J177","v":7346346},{"$f":"K177*0.02","v":146926.92000000001},null,null,null,null,null,null,null,null,null,null,null,null,null,{"$f":"J177*130000","v":260000}]
[{"$f":"A177+1","v":116},"Г. Тосно, ул. Победы, д. 19А",{"$f":"K178+L178+Z178","v":7753272.9199999999},null,null,null,null,null,null,2,{"$f":"3673173*J178","v":7346346},{"$f":"K178*0.02","v":146926.92000000001},null,null,null,null,null,null,null,null,null,null,null,null,null,{"$f":"J178*130000","v":260000}]
["Итого по муниципальному образованию",null,{"$f":"SUM(C177:C178)","v":15506545.84},null,null,null,null,null,null,{"$f":"SUM(J177:J178)","v":4},{"$f":"SUM(K177:K178)","v":14692692},{"$f":"SUM(L177:L178)","v":293853.84000000003},null,null,null,null,null,null,null,null,null,null,null,null,null,{"$f":"SUM(Z177:Z178)","v":520000}]
["Итого по Тосненскому району",null,{"$f":"C179","v":15506545.84},null,null,null,null,null,null,{"$f":"J179","v":4},{"$f":"K179","v":14692692},{"$f":"L179","v":293853.84000000003},null,null,null,null,null,null,null,null,null,null,null,null,null,{"$f":"J180*130000","v":520000}]
["ИТОГО по Ленинградской области",null,{"$f":"C180+C174+C168+C155+C142+C131+C126+C110+C92+C76+C54+C22","v":949847128.81519997},{"$f":"D180+D174+D168+D155+D142+D131+D126+D110+D92+D76+D54+D22","v":0},0,0,0,0,0,255,897998684.21000004,18308444.605199996,0,0,0,0,0,0,0,0,0,0,0,0,0,33150000,0,0,0,0,0,0,0,0,0,0,0,0,0,0,0,0,0,0,0,0,0,0,0,0,0,0,0,0,0,0,0,0,0,0,0,0,0,0,0,0,0,{"$f":"BP180+BP174+BP168+BP155+BP142+BP131+BP126+BP110+BP92+BP76+BP54+BP22","v":0},0,0,0,0,0,0,0,0,0,0,0,0,0,0,0,0,0,0,0,0,0,0,0,0,0,0,0,0,0,0,0,0,0,0,0,0,0,0,0,0,0,0,0,0,0,0,0,0,0,0,0,0,0,0,0,0,0,0,0,0,0,0,0,{"$f":"EB180+EB174+EB168+EB155+EB142+EB131+EB126+EB110+EB92+EB76+EB54+EB22","v":0},0,0,0,0,0,0,0,0,0,0,0,0,0,0,0,0,0,0,0,0,0,0,0,0,0,0,0,0,0,0,0,0,0,0,0,0,0,0,0,0,0,0,0,0,0,0,0,0,0,0,0,0,0,0,0,0,0,0,0,0,0,0,0,{"$f":"GN180+GN174+GN168+GN155+GN142+GN131+GN126+GN110+GN92+GN76+GN54+GN22","v":0},0,0,0,0,0,0,0,0,0,0,0,0,0,0,0,0,0,0,0,0,0,0,0,0,0,0,0,0,0,0,0,0,0,0,0,0,0,0,0,0,0,0,0,0,0,0,0,0,0,0,0,0,0,0,0,0,0,0,0,0,0,0,0,{"$f":"IZ180+IZ174+IZ168+IZ155+IZ142+IZ131+IZ126+IZ110+IZ92+IZ76+IZ54+IZ22","v":0},0,0,0,0,0,0,0,0,0,0,0,0,0,0,0,0,0,0,0,0,0,0,0,0,0,0,0,0,0,0,0,0,0,0,0,0,0,0,0,0,0,0,0,0,0,0,0,0,0,0,0,0,0,0,0,0,0,0,0,0,0,0,0,{"$f":"LL180+LL174+LL168+LL155+LL142+LL131+LL126+LL110+LL92+LL76+LL54+LL22","v":0},0,0,0,0,0,0,0,0,0,0,0,0,0,0,0,0,0,0,0,0,0,0,0,0,0,0,0,0,0,0,0,0,0,0,0,0,0,0,0,0,0,0,0,0,0,0,0,0,0,0,0,0,0,0,0,0,0,0,0,0,0,0,0,{"$f":"NX180+NX174+NX168+NX155+NX142+NX131+NX126+NX110+NX92+NX76+NX54+NX22","v":0},0,0,0,0,0,0,0,0,0,0,0,0,0,0,0,0,0,0,0,0,0,0,0,0,0,0,0,0,0,0,0,0,0,0,0,0,0,0,0,0,0,0,0,0,0,0,0,0,0,0,0,0,0,0,0,0,0,0,0,0,0,0,0,{"$f":"QJ180+QJ174+QJ168+QJ155+QJ142+QJ131+QJ126+QJ110+QJ92+QJ76+QJ54+QJ22","v":0},0,0,0,0,0,0,0,0,0,0,0,0,0,0,0,0,0,0,0,0,0,0,0,0,0,0,0,0,0,0,0,0,0,0,0,0,0,0,0,0,0,0,0,0,0,0,0,0,0,0,0,0,0,0,0,0,0,0,0,0,0,0,0,{"$f":"SV180+SV174+SV168+SV155+SV142+SV131+SV126+SV110+SV92+SV76+SV54+SV22","v":0},0,0,0,0,0,0,0,0,0,0,0,0,0,0,0,0,0,0,0,0,0,0,0,0,0,0,0,0,0,0,0,0,0,0,0,0,0,0,0,0,0,0,0,0,0,0,0,0,0,0,0,0,0,0,0,0,0,0,0,0,0,0,0,{"$f":"VH180+VH174+VH168+VH155+VH142+VH131+VH126+VH110+VH92+VH76+VH54+VH22","v":0},0,0,0,0,0,0,0,0,0,0,0,0,0,0,0,0,0,0,0,0,0,0,0,0,0,0,0,0,0,0,0,0,0,0,0,0,0,0,0,0,0,0,0,0,0,0,0,0,0,0,0,0,0,0,0,0,0,0,0,0,0,0,0,{"$f":"XT180+XT174+XT168+XT155+XT142+XT131+XT126+XT110+XT92+XT76+XT54+XT22","v":0},0,0,0,0,0,0,0,0,0,0,0,0,0,0,0,0,0,0,0,0,0,0,0,0,0,0,0,0,0,0,0,0,0,0,0,0,0,0,0,0,0,0,0,0,0,0,0,0,0,0,0,0,0,0,0,0,0,0,0,0,0,0,0,{"$f":"AAF180+AAF174+AAF168+AAF155+AAF142+AAF131+AAF126+AAF110+AAF92+AAF76+AAF54+AAF22","v":0},0,0,0,0,0,0,0,0,0,0,0,0,0,0,0,0,0,0,0,0,0,0,0,0,0,0,0,0,0,0,0,0,0,0,0,0,0,0,0,0,0,0,0,0,0,0,0,0,0,0,0,0,0,0,0,0,0,0,0,0,0,0,0,{"$f":"ACR180+ACR174+ACR168+ACR155+ACR142+ACR131+ACR126+ACR110+ACR92+ACR76+ACR54+ACR22","v":0},0,0,0,0,0,0,0,0,0,0,0,0,0,0,0,0,0,0,0,0,0,0,0,0,0,0,0,0,0,0,0,0,0,0,0,0,0,0,0,0,0,0,0,0,0,0,0,0,0,0,0,0,0,0,0,0,0,0,0,0,0,0,0,{"$f":"AFD180+AFD174+AFD168+AFD155+AFD142+AFD131+AFD126+AFD110+AFD92+AFD76+AFD54+AFD22","v":0},0,0,0,0,0,0,0,0,0,0,0,0,0,0,0,0,0,0,0,0,0,0,0,0,0,0,0,0,0,0,0,0,0,0,0,0,0,0,0,0,0,0,0,0,0,0,0,0,0,0,0,0,0,0,0,0,0,0,0,0,0,0,0,{"$f":"AHP180+AHP174+AHP168+AHP155+AHP142+AHP131+AHP126+AHP110+AHP92+AHP76+AHP54+AHP22","v":0},0,0,0,0,0,0,0,0,0,0,0,0,0,0,0,0,0,0,0,0,0,0,0,0,0,0,0,0,0,0,0,0,0,0,0,0,0,0,0,0,0,0,0,0,0,0,0,0,0,0,0,0,0,0,0,0,0,0,0,0,0,0,0,{"$f":"AKB180+AKB174+AKB168+AKB155+AKB142+AKB131+AKB126+AKB110+AKB92+AKB76+AKB54+AKB22","v":0},0,0,0,0,0,0,0,0,0,0,0,0,0,0,0,0,0,0,0,0,0,0,0,0,0,0,0,0,0,0,0,0,0,0,0,0,0,0,0,0,0,0,0,0,0,0,0,0,0,0,0,0,0,0,0,0,0,0,0,0,0,0,0,{"$f":"AMN180+AMN174+AMN168+AMN155+AMN142+AMN131+AMN126+AMN110+AMN92+AMN76+AMN54+AMN22","v":0},0,0,0,0,0,0,0,0,0,0,0,0,0,0,0,0,0,0,0,0,0,0,0,0,0,0,0,0,0,0,0,0,0,0,0,0,0,0,0,0,0,0,0,0,0,0,0,0,0,0,0,0,0,0,0,0,0,0,0,0,0,0,0,{"$f":"AOZ180+AOZ174+AOZ168+AOZ155+AOZ142+AOZ131+AOZ126+AOZ110+AOZ92+AOZ76+AOZ54+AOZ22","v":0},0,0,0,0,0,0,0,0,0,0,0,0,0,0,0,0,0,0,0,0,0,0,0,0,0,0,0,0,0,0,0,0,0,0,0,0,0,0,0,0,0,0,0,0,0,0,0,0,0,0,0,0,0,0,0,0,0,0,0,0,0,0,0,{"$f":"ARL180+ARL174+ARL168+ARL155+ARL142+ARL131+ARL126+ARL110+ARL92+ARL76+ARL54+ARL22","v":0},0,0,0,0,0,0,0,0,0,0,0,0,0,0,0,0,0,0,0,0,0,0,0,0,0,0,0,0,0,0,0,0,0,0,0,0,0,0,0,0,0,0,0,0,0,0,0,0,0,0,0,0,0,0,0,0,0,0,0,0,0,0,0,{"$f":"ATX180+ATX174+ATX168+ATX155+ATX142+ATX131+ATX126+ATX110+ATX92+ATX76+ATX54+ATX22","v":0},0,0,0,0,0,0,0,0,0,0,0,0,0,0,0,0,0,0,0,0,0,0,0,0,0,0,0,0,0,0,0,0,0,0,0,0,0,0,0,0,0,0,0,0,0,0,0,0,0,0,0,0,0,0,0,0,0,0,0,0,0,0,0,{"$f":"AWJ180+AWJ174+AWJ168+AWJ155+AWJ142+AWJ131+AWJ126+AWJ110+AWJ92+AWJ76+AWJ54+AWJ22","v":0},0,0,0,0,0,0,0,0,0,0,0,0,0,0,0,0,0,0,0,0,0,0,0,0,0,0,0,0,0,0,0,0,0,0,0,0,0,0,0,0,0,0,0,0,0,0,0,0,0,0,0,0,0,0,0,0,0,0,0,0,0,0,0,{"$f":"AYV180+AYV174+AYV168+AYV155+AYV142+AYV131+AYV126+AYV110+AYV92+AYV76+AYV54+AYV22","v":0},0,0,0,0,0,0,0,0,0,0,0,0,0,0,0,0,0,0,0,0,0,0,0,0,0,0,0,0,0,0,0,0,0,0,0,0,0,0,0,0,0,0,0,0,0,0,0,0,0,0,0,0,0,0,0,0,0,0,0,0,0,0,0,{"$f":"BBH180+BBH174+BBH168+BBH155+BBH142+BBH131+BBH126+BBH110+BBH92+BBH76+BBH54+BBH22","v":0},0,0,0,0,0,0,0,0,0,0,0,0,0,0,0,0,0,0,0,0,0,0,0,0,0,0,0,0,0,0,0,0,0,0,0,0,0,0,0,0,0,0,0,0,0,0,0,0,0,0,0,0,0,0,0,0,0,0,0,0,0,0,0,{"$f":"BDT180+BDT174+BDT168+BDT155+BDT142+BDT131+BDT126+BDT110+BDT92+BDT76+BDT54+BDT22","v":0},0,0,0,0,0,0,0,0,0,0,0,0,0,0,0,0,0,0,0,0,0,0,0,0,0,0,0,0,0,0,0,0,0,0,0,0,0,0,0,0,0,0,0,0,0,0,0,0,0,0,0,0,0,0,0,0,0,0,0,0,0,0,0,{"$f":"BGF180+BGF174+BGF168+BGF155+BGF142+BGF131+BGF126+BGF110+BGF92+BGF76+BGF54+BGF22","v":0},0,0,0,0,0,0,0,0,0,0,0,0,0,0,0,0,0,0,0,0,0,0,0,0,0,0,0,0,0,0,0,0,0,0,0,0,0,0,0,0,0,0,0,0,0,0,0,0,0,0,0,0,0,0,0,0,0,0,0,0,0,0,0,{"$f":"BIR180+BIR174+BIR168+BIR155+BIR142+BIR131+BIR126+BIR110+BIR92+BIR76+BIR54+BIR22","v":0},0,0,0,0,0,0,0,0,0,0,0,0,0,0,0,0,0,0,0,0,0,0,0,0,0,0,0,0,0,0,0,0,0,0,0,0,0,0,0,0,0,0,0,0,0,0,0,0,0,0,0,0,0,0,0,0,0,0,0,0,0,0,0,{"$f":"BLD180+BLD174+BLD168+BLD155+BLD142+BLD131+BLD126+BLD110+BLD92+BLD76+BLD54+BLD22","v":0},0,0,0,0,0,0,0,0,0,0,0,0,0,0,0,0,0,0,0,0,0,0,0,0,0,0,0,0,0,0,0,0,0,0,0,0,0,0,0,0,0,0,0,0,0,0,0,0,0,0,0,0,0,0,0,0,0,0,0,0,0,0,0,{"$f":"BNP180+BNP174+BNP168+BNP155+BNP142+BNP131+BNP126+BNP110+BNP92+BNP76+BNP54+BNP22","v":0},0,0,0,0,0,0,0,0,0,0,0,0,0,0,0,0,0,0,0,0,0,0,0,0,0,0,0,0,0,0,0,0,0,0,0,0,0,0,0,0,0,0,0,0,0,0,0,0,0,0,0,0,0,0,0,0,0,0,0,0,0,0,0,{"$f":"BQB180+BQB174+BQB168+BQB155+BQB142+BQB131+BQB126+BQB110+BQB92+BQB76+BQB54+BQB22","v":0},0,0,0,0,0,0,0,0,0,0,0,0,0,0,0,0,0,0,0,0,0,0,0,0,0,0,0,0,0,0,0,0,0,0,0,0,0,0,0,0,0,0,0,0,0,0,0,0,0,0,0,0,0,0,0,0,0,0,0,0,0,0,0,{"$f":"BSN180+BSN174+BSN168+BSN155+BSN142+BSN131+BSN126+BSN110+BSN92+BSN76+BSN54+BSN22","v":0},0,0,0,0,0,0,0,0,0,0,0,0,0,0,0,0,0,0,0,0,0,0,0,0,0,0,0,0,0,0,0,0,0,0,0,0,0,0,0,0,0,0,0,0,0,0,0,0,0,0,0,0,0,0,0,0,0,0,0,0,0,0,0,{"$f":"BUZ180+BUZ174+BUZ168+BUZ155+BUZ142+BUZ131+BUZ126+BUZ110+BUZ92+BUZ76+BUZ54+BUZ22","v":0},0,0,0,0,0,0,0,0,0,0,0,0,0,0,0,0,0,0,0,0,0,0,0,0,0,0,0,0,0,0,0,0,0,0,0,0,0,0,0,0,0,0,0,0,0,0,0,0,0,0,0,0,0,0,0,0,0,0,0,0,0,0,0,{"$f":"BXL180+BXL174+BXL168+BXL155+BXL142+BXL131+BXL126+BXL110+BXL92+BXL76+BXL54+BXL22","v":0},0,0,0,0,0,0,0,0,0,0,0,0,0,0,0,0,0,0,0,0,0,0,0,0,0,0,0,0,0,0,0,0,0,0,0,0,0,0,0,0,0,0,0,0,0,0,0,0,0,0,0,0,0,0,0,0,0,0,0,0,0,0,0,{"$f":"BZX180+BZX174+BZX168+BZX155+BZX142+BZX131+BZX126+BZX110+BZX92+BZX76+BZX54+BZX22","v":0},0,0,0,0,0,0,0,0,0,0,0,0,0,0,0,0,0,0,0,0,0,0,0,0,0,0,0,0,0,0,0,0,0,0,0,0,0,0,0,0,0,0,0,0,0,0,0,0,0,0,0,0,0,0,0,0,0,0,0,0,0,0,0,{"$f":"CCJ180+CCJ174+CCJ168+CCJ155+CCJ142+CCJ131+CCJ126+CCJ110+CCJ92+CCJ76+CCJ54+CCJ22","v":0},0,0,0,0,0,0,0,0,0,0,0,0,0,0,0,0,0,0,0,0,0,0,0,0,0,0,0,0,0,0,0,0,0,0,0,0,0,0,0,0,0,0,0,0,0,0,0,0,0,0,0,0,0,0,0,0,0,0,0,0,0,0,0,{"$f":"CEV180+CEV174+CEV168+CEV155+CEV142+CEV131+CEV126+CEV110+CEV92+CEV76+CEV54+CEV22","v":0},0,0,0,0,0,0,0,0,0,0,0,0,0,0,0,0,0,0,0,0,0,0,0,0,0,0,0,0,0,0,0,0,0,0,0,0,0,0,0,0,0,0,0,0,0,0,0,0,0,0,0,0,0,0,0,0,0,0,0,0,0,0,0,{"$f":"CHH180+CHH174+CHH168+CHH155+CHH142+CHH131+CHH126+CHH110+CHH92+CHH76+CHH54+CHH22","v":0},0,0,0,0,0,0,0,0,0,0,0,0,0,0,0,0,0,0,0,0,0,0,0,0,0,0,0,0,0,0,0,0,0,0,0,0,0,0,0,0,0,0,0,0,0,0,0,0,0,0,0,0,0,0,0,0,0,0,0,0,0,0,0,{"$f":"CJT180+CJT174+CJT168+CJT155+CJT142+CJT131+CJT126+CJT110+CJT92+CJT76+CJT54+CJT22","v":0},0,0,0,0,0,0,0,0,0,0,0,0,0,0,0,0,0,0,0,0,0,0,0,0,0,0,0,0,0,0,0,0,0,0,0,0,0,0,0,0,0,0,0,0,0,0,0,0,0,0,0,0,0,0,0,0,0,0,0,0,0,0,0,{"$f":"CMF180+CMF174+CMF168+CMF155+CMF142+CMF131+CMF126+CMF110+CMF92+CMF76+CMF54+CMF22","v":0},0,0,0,0,0,0,0,0,0,0,0,0,0,0,0,0,0,0,0,0,0,0,0,0,0,0,0,0,0,0,0,0,0,0,0,0,0,0,0,0,0,0,0,0,0,0,0,0,0,0,0,0,0,0,0,0,0,0,0,0,0,0,0,{"$f":"COR180+COR174+COR168+COR155+COR142+COR131+COR126+COR110+COR92+COR76+COR54+COR22","v":0},0,0,0,0,0,0,0,0,0,0,0,0,0,0,0,0,0,0,0,0,0,0,0,0,0,0,0,0,0,0,0,0,0,0,0,0,0,0,0,0,0,0,0,0,0,0,0,0,0,0,0,0,0,0,0,0,0,0,0,0,0,0,0,{"$f":"CRD180+CRD174+CRD168+CRD155+CRD142+CRD131+CRD126+CRD110+CRD92+CRD76+CRD54+CRD22","v":0},0,0,0,0,0,0,0,0,0,0,0,0,0,0,0,0,0,0,0,0,0,0,0,0,0,0,0,0,0,0,0,0,0,0,0,0,0,0,0,0,0,0,0,0,0,0,0,0,0,0,0,0,0,0,0,0,0,0,0,0,0,0,0,{"$f":"CTP180+CTP174+CTP168+CTP155+CTP142+CTP131+CTP126+CTP110+CTP92+CTP76+CTP54+CTP22","v":0},0,0,0,0,0,0,0,0,0,0,0,0,0,0,0,0,0,0,0,0,0,0,0,0,0,0,0,0,0,0,0,0,0,0,0,0,0,0,0,0,0,0,0,0,0,0,0,0,0,0,0,0,0,0,0,0,0,0,0,0,0,0,0,{"$f":"CWB180+CWB174+CWB168+CWB155+CWB142+CWB131+CWB126+CWB110+CWB92+CWB76+CWB54+CWB22","v":0},0,0,0,0,0,0,0,0,0,0,0,0,0,0,0,0,0,0,0,0,0,0,0,0,0,0,0,0,0,0,0,0,0,0,0,0,0,0,0,0,0,0,0,0,0,0,0,0,0,0,0,0,0,0,0,0,0,0,0,0,0,0,0,{"$f":"CYN180+CYN174+CYN168+CYN155+CYN142+CYN131+CYN126+CYN110+CYN92+CYN76+CYN54+CYN22","v":0},0,0,0,0,0,0,0,0,0,0,0,0,0,0,0,0,0,0,0,0,0,0,0,0,0,0,0,0,0,0,0,0,0,0,0,0,0,0,0,0,0,0,0,0,0,0,0,0,0,0,0,0,0,0,0,0,0,0,0,0,0,0,0,{"$f":"DAZ180+DAZ174+DAZ168+DAZ155+DAZ142+DAZ131+DAZ126+DAZ110+DAZ92+DAZ76+DAZ54+DAZ22","v":0},0,0,0,0,0,0,0,0,0,0,0,0,0,0,0,0,0,0,0,0,0,0,0,0,0,0,0,0,0,0,0,0,0,0,0,0,0,0,0,0,0,0,0,0,0,0,0,0,0,0,0,0,0,0,0,0,0,0,0,0,0,0,0,{"$f":"DDL180+DDL174+DDL168+DDL155+DDL142+DDL131+DDL126+DDL110+DDL92+DDL76+DDL54+DDL22","v":0},0,0,0,0,0,0,0,0,0,0,0,0,0,0,0,0,0,0,0,0,0,0,0,0,0,0,0,0,0,0,0,0,0,0,0,0,0,0,0,0,0,0,0,0,0,0,0,0,0,0,0,0,0,0,0,0,0,0,0,0,0,0,0,{"$f":"DFX180+DFX174+DFX168+DFX155+DFX142+DFX131+DFX126+DFX110+DFX92+DFX76+DFX54+DFX22","v":0},0,0,0,0,0,0,0,0,0,0,0,0,0,0,0,0,0,0,0,0,0,0,0,0,0,0,0,0,0,0,0,0,0,0,0,0,0,0,0,0,0,0,0,0,0,0,0,0,0,0,0,0,0,0,0,0,0,0,0,0,0,0,0,{"$f":"DIJ180+DIJ174+DIJ168+DIJ155+DIJ142+DIJ131+DIJ126+DIJ110+DIJ92+DIJ76+DIJ54+DIJ22","v":0},0,0,0,0,0,0,0,0,0,0,0,0,0,0,0,0,0,0,0,0,0,0,0,0,0,0,0,0,0,0,0,0,0,0,0,0,0,0,0,0,0,0,0,0,0,0,0,0,0,0,0,0,0,0,0,0,0,0,0,0,0,0,0,{"$f":"DKV180+DKV174+DKV168+DKV155+DKV142+DKV131+DKV126+DKV110+DKV92+DKV76+DKV54+DKV22","v":0},0,0,0,0,0,0,0,0,0,0,0,0,0,0,0,0,0,0,0,0,0,0,0,0,0,0,0,0,0,0,0,0,0,0,0,0,0,0,0,0,0,0,0,0,0,0,0,0,0,0,0,0,0,0,0,0,0,0,0,0,0,0,0,{"$f":"DNH180+DNH174+DNH168+DNH155+DNH142+DNH131+DNH126+DNH110+DNH92+DNH76+DNH54+DNH22","v":0},0,0,0,0,0,0,0,0,0,0,0,0,0,0,0,0,0,0,0,0,0,0,0,0,0,0,0,0,0,0,0,0,0,0,0,0,0,0,0,0,0,0,0,0,0,0,0,0,0,0,0,0,0,0,0,0,0,0,0,0,0,0,0,{"$f":"DPT180+DPT174+DPT168+DPT155+DPT142+DPT131+DPT126+DPT110+DPT92+DPT76+DPT54+DPT22","v":0},0,0,0,0,0,0,0,0,0,0,0,0,0,0,0,0,0,0,0,0,0,0,0,0,0,0,0,0,0,0,0,0,0,0,0,0,0,0,0,0,0,0,0,0,0,0,0,0,0,0,0,0,0,0,0,0,0,0,0,0,0,0,0,{"$f":"DSF180+DSF174+DSF168+DSF155+DSF142+DSF131+DSF126+DSF110+DSF92+DSF76+DSF54+DSF22","v":0},0,0,0,0,0,0,0,0,0,0,0,0,0,0,0,0,0,0,0,0,0,0,0,0,0,0,0,0,0,0,0,0,0,0,0,0,0,0,0,0,0,0,0,0,0,0,0,0,0,0,0,0,0,0,0,0,0,0,0,0,0,0,0,{"$f":"DUR180+DUR174+DUR168+DUR155+DUR142+DUR131+DUR126+DUR110+DUR92+DUR76+DUR54+DUR22","v":0},0,0,0,0,0,0,0,0,0,0,0,0,0,0,0,0,0,0,0,0,0,0,0,0,0,0,0,0,0,0,0,0,0,0,0,0,0,0,0,0,0,0,0,0,0,0,0,0,0,0,0,0,0,0,0,0,0,0,0,0,0,0,0,{"$f":"DXD180+DXD174+DXD168+DXD155+DXD142+DXD131+DXD126+DXD110+DXD92+DXD76+DXD54+DXD22","v":0},0,0,0,0,0,0,0,0,0,0,0,0,0,0,0,0,0,0,0,0,0,0,0,0,0,0,0,0,0,0,0,0,0,0,0,0,0,0,0,0,0,0,0,0,0,0,0,0,0,0,0,0,0,0,0,0,0,0,0,0,0,0,0,{"$f":"DZP180+DZP174+DZP168+DZP155+DZP142+DZP131+DZP126+DZP110+DZP92+DZP76+DZP54+DZP22","v":0},0,0,0,0,0,0,0,0,0,0,0,0,0,0,0,0,0,0,0,0,0,0,0,0,0,0,0,0,0,0,0,0,0,0,0,0,0,0,0,0,0,0,0,0,0,0,0,0,0,0,0,0,0,0,0,0,0,0,0,0,0,0,0,{"$f":"ECB180+ECB174+ECB168+ECB155+ECB142+ECB131+ECB126+ECB110+ECB92+ECB76+ECB54+ECB22","v":0},0,0,0,0,0,0,0,0,0,0,0,0,0,0,0,0,0,0,0,0,0,0,0,0,0,0,0,0,0,0,0,0,0,0,0,0,0,0,0,0,0,0,0,0,0,0,0,0,0,0,0,0,0,0,0,0,0,0,0,0,0,0,0,{"$f":"EEN180+EEN174+EEN168+EEN155+EEN142+EEN131+EEN126+EEN110+EEN92+EEN76+EEN54+EEN22","v":0},0,0,0,0,0,0,0,0,0,0,0,0,0,0,0,0,0,0,0,0,0,0,0,0,0,0,0,0,0,0,0,0,0,0,0,0,0,0,0,0,0,0,0,0,0,0,0,0,0,0,0,0,0,0,0,0,0,0,0,0,0,0,0,{"$f":"EGZ180+EGZ174+EGZ168+EGZ155+EGZ142+EGZ131+EGZ126+EGZ110+EGZ92+EGZ76+EGZ54+EGZ22","v":0},0,0,0,0,0,0,0,0,0,0,0,0,0,0,0,0,0,0,0,0,0,0,0,0,0,0,0,0,0,0,0,0,0,0,0,0,0,0,0,0,0,0,0,0,0,0,0,0,0,0,0,0,0,0,0,0,0,0,0,0,0,0,0,{"$f":"EJL180+EJL174+EJL168+EJL155+EJL142+EJL131+EJL126+EJL110+EJL92+EJL76+EJL54+EJL22","v":0},0,0,0,0,0,0,0,0,0,0,0,0,0,0,0,0,0,0,0,0,0,0,0,0,0,0,0,0,0,0,0,0,0,0,0,0,0,0,0,0,0,0,0,0,0,0,0,0,0,0,0,0,0,0,0,0,0,0,0,0,0,0,0,{"$f":"ELX180+ELX174+ELX168+ELX155+ELX142+ELX131+ELX126+ELX110+ELX92+ELX76+ELX54+ELX22","v":0},0,0,0,0,0,0,0,0,0,0,0,0,0,0,0,0,0,0,0,0,0,0,0,0,0,0,0,0,0,0,0,0,0,0,0,0,0,0,0,0,0,0,0,0,0,0,0,0,0,0,0,0,0,0,0,0,0,0,0,0,0,0,0,{"$f":"EOJ180+EOJ174+EOJ168+EOJ155+EOJ142+EOJ131+EOJ126+EOJ110+EOJ92+EOJ76+EOJ54+EOJ22","v":0},0,0,0,0,0,0,0,0,0,0,0,0,0,0,0,0,0,0,0,0,0,0,0,0,0,0,0,0,0,0,0,0,0,0,0,0,0,0,0,0,0,0,0,0,0,0,0,0,0,0,0,0,0,0,0,0,0,0,0,0,0,0,0,{"$f":"EQV180+EQV174+EQV168+EQV155+EQV142+EQV131+EQV126+EQV110+EQV92+EQV76+EQV54+EQV22","v":0},0,0,0,0,0,0,0,0,0,0,0,0,0,0,0,0,0,0,0,0,0,0,0,0,0,0,0,0,0,0,0,0,0,0,0,0,0,0,0,0,0,0,0,0,0,0,0,0,0,0,0,0,0,0,0,0,0,0,0,0,0,0,0,{"$f":"ETH180+ETH174+ETH168+ETH155+ETH142+ETH131+ETH126+ETH110+ETH92+ETH76+ETH54+ETH22","v":0},0,0,0,0,0,0,0,0,0,0,0,0,0,0,0,0,0,0,0,0,0,0,0,0,0,0,0,0,0,0,0,0,0,0,0,0,0,0,0,0,0,0,0,0,0,0,0,0,0,0,0,0,0,0,0,0,0,0,0,0,0,0,0,{"$f":"EVT180+EVT174+EVT168+EVT155+EVT142+EVT131+EVT126+EVT110+EVT92+EVT76+EVT54+EVT22","v":0},0,0,0,0,0,0,0,0,0,0,0,0,0,0,0,0,0,0,0,0,0,0,0,0,0,0,0,0,0,0,0,0,0,0,0,0,0,0,0,0,0,0,0,0,0,0,0,0,0,0,0,0,0,0,0,0,0,0,0,0,0,0,0,{"$f":"EYF180+EYF174+EYF168+EYF155+EYF142+EYF131+EYF126+EYF110+EYF92+EYF76+EYF54+EYF22","v":0},0,0,0,0,0,0,0,0,0,0,0,0,0,0,0,0,0,0,0,0,0,0,0,0,0,0,0,0,0,0,0,0,0,0,0,0,0,0,0,0,0,0,0,0,0,0,0,0,0,0,0,0,0,0,0,0,0,0,0,0,0,0,0,{"$f":"FAR180+FAR174+FAR168+FAR155+FAR142+FAR131+FAR126+FAR110+FAR92+FAR76+FAR54+FAR22","v":0},0,0,0,0,0,0,0,0,0,0,0,0,0,0,0,0,0,0,0,0,0,0,0,0,0,0,0,0,0,0,0,0,0,0,0,0,0,0,0,0,0,0,0,0,0,0,0,0,0,0,0,0,0,0,0,0,0,0,0,0,0,0,0,{"$f":"FDD180+FDD174+FDD168+FDD155+FDD142+FDD131+FDD126+FDD110+FDD92+FDD76+FDD54+FDD22","v":0},0,0,0,0,0,0,0,0,0,0,0,0,0,0,0,0,0,0,0,0,0,0,0,0,0,0,0,0,0,0,0,0,0,0,0,0,0,0,0,0,0,0,0,0,0,0,0,0,0,0,0,0,0,0,0,0,0,0,0,0,0,0,0,{"$f":"FFP180+FFP174+FFP168+FFP155+FFP142+FFP131+FFP126+FFP110+FFP92+FFP76+FFP54+FFP22","v":0},0,0,0,0,0,0,0,0,0,0,0,0,0,0,0,0,0,0,0,0,0,0,0,0,0,0,0,0,0,0,0,0,0,0,0,0,0,0,0,0,0,0,0,0,0,0,0,0,0,0,0,0,0,0,0,0,0,0,0,0,0,0,0,{"$f":"FIB180+FIB174+FIB168+FIB155+FIB142+FIB131+FIB126+FIB110+FIB92+FIB76+FIB54+FIB22","v":0},0,0,0,0,0,0,0,0,0,0,0,0,0,0,0,0,0,0,0,0,0,0,0,0,0,0,0,0,0,0,0,0,0,0,0,0,0,0,0,0,0,0,0,0,0,0,0,0,0,0,0,0,0,0,0,0,0,0,0,0,0,0,0,{"$f":"FKN180+FKN174+FKN168+FKN155+FKN142+FKN131+FKN126+FKN110+FKN92+FKN76+FKN54+FKN22","v":0},0,0,0,0,0,0,0,0,0,0,0,0,0,0,0,0,0,0,0,0,0,0,0,0,0,0,0,0,0,0,0,0,0,0,0,0,0,0,0,0,0,0,0,0,0,0,0,0,0,0,0,0,0,0,0,0,0,0,0,0,0,0,0,{"$f":"FMZ180+FMZ174+FMZ168+FMZ155+FMZ142+FMZ131+FMZ126+FMZ110+FMZ92+FMZ76+FMZ54+FMZ22","v":0},0,0,0,0,0,0,0,0,0,0,0,0,0,0,0,0,0,0,0,0,0,0,0,0,0,0,0,0,0,0,0,0,0,0,0,0,0,0,0,0,0,0,0,0,0,0,0,0,0,0,0,0,0,0,0,0,0,0,0,0,0,0,0,{"$f":"FPL180+FPL174+FPL168+FPL155+FPL142+FPL131+FPL126+FPL110+FPL92+FPL76+FPL54+FPL22","v":0},0,0,0,0,0,0,0,0,0,0,0,0,0,0,0,0,0,0,0,0,0,0,0,0,0,0,0,0,0,0,0,0,0,0,0,0,0,0,0,0,0,0,0,0,0,0,0,0,0,0,0,0,0,0,0,0,0,0,0,0,0,0,0,{"$f":"FRX180+FRX174+FRX168+FRX155+FRX142+FRX131+FRX126+FRX110+FRX92+FRX76+FRX54+FRX22","v":0},0,0,0,0,0,0,0,0,0,0,0,0,0,0,0,0,0,0,0,0,0,0,0,0,0,0,0,0,0,0,0,0,0,0,0,0,0,0,0,0,0,0,0,0,0,0,0,0,0,0,0,0,0,0,0,0,0,0,0,0,0,0,0,{"$f":"FUJ180+FUJ174+FUJ168+FUJ155+FUJ142+FUJ131+FUJ126+FUJ110+FUJ92+FUJ76+FUJ54+FUJ22","v":0},0,0,0,0,0,0,0,0,0,0,0,0,0,0,0,0,0,0,0,0,0,0,0,0,0,0,0,0,0,0,0,0,0,0,0,0,0,0,0,0,0,0,0,0,0,0,0,0,0,0,0,0,0,0,0,0,0,0,0,0,0,0,0,{"$f":"FWV180+FWV174+FWV168+FWV155+FWV142+FWV131+FWV126+FWV110+FWV92+FWV76+FWV54+FWV22","v":0},0,0,0,0,0,0,0,0,0,0,0,0,0,0,0,0,0,0,0,0,0,0,0,0,0,0,0,0,0,0,0,0,0,0,0,0,0,0,0,0,0,0,0,0,0,0,0,0,0,0,0,0,0,0,0,0,0,0,0,0,0,0,0,{"$f":"FZH180+FZH174+FZH168+FZH155+FZH142+FZH131+FZH126+FZH110+FZH92+FZH76+FZH54+FZH22","v":0},0,0,0,0,0,0,0,0,0,0,0,0,0,0,0,0,0,0,0,0,0,0,0,0,0,0,0,0,0,0,0,0,0,0,0,0,0,0,0,0,0,0,0,0,0,0,0,0,0,0,0,0,0,0,0,0,0,0,0,0,0,0,0,{"$f":"GBT180+GBT174+GBT168+GBT155+GBT142+GBT131+GBT126+GBT110+GBT92+GBT76+GBT54+GBT22","v":0},0,0,0,0,0,0,0,0,0,0,0,0,0,0,0,0,0,0,0,0,0,0,0,0,0,0,0,0,0,0,0,0,0,0,0,0,0,0,0,0,0,0,0,0,0,0,0,0,0,0,0,0,0,0,0,0,0,0,0,0,0,0,0,{"$f":"GEF180+GEF174+GEF168+GEF155+GEF142+GEF131+GEF126+GEF110+GEF92+GEF76+GEF54+GEF22","v":0},0,0,0,0,0,0,0,0,0,0,0,0,0,0,0,0,0,0,0,0,0,0,0,0,0,0,0,0,0,0,0,0,0,0,0,0,0,0,0,0,0,0,0,0,0,0,0,0,0,0,0,0,0,0,0,0,0,0,0,0,0,0,0,{"$f":"GGR180+GGR174+GGR168+GGR155+GGR142+GGR131+GGR126+GGR110+GGR92+GGR76+GGR54+GGR22","v":0},0,0,0,0,0,0,0,0,0,0,0,0,0,0,0,0,0,0,0,0,0,0,0,0,0,0,0,0,0,0,0,0,0,0,0,0,0,0,0,0,0,0,0,0,0,0,0,0,0,0,0,0,0,0,0,0,0,0,0,0,0,0,0,{"$f":"GJD180+GJD174+GJD168+GJD155+GJD142+GJD131+GJD126+GJD110+GJD92+GJD76+GJD54+GJD22","v":0},0,0,0,0,0,0,0,0,0,0,0,0,0,0,0,0,0,0,0,0,0,0,0,0,0,0,0,0,0,0,0,0,0,0,0,0,0,0,0,0,0,0,0,0,0,0,0,0,0,0,0,0,0,0,0,0,0,0,0,0,0,0,0,{"$f":"GLP180+GLP174+GLP168+GLP155+GLP142+GLP131+GLP126+GLP110+GLP92+GLP76+GLP54+GLP22","v":0},0,0,0,0,0,0,0,0,0,0,0,0,0,0,0,0,0,0,0,0,0,0,0,0,0,0,0,0,0,0,0,0,0,0,0,0,0,0,0,0,0,0,0,0,0,0,0,0,0,0,0,0,0,0,0,0,0,0,0,0,0,0,0,{"$f":"GOB180+GOB174+GOB168+GOB155+GOB142+GOB131+GOB126+GOB110+GOB92+GOB76+GOB54+GOB22","v":0},0,0,0,0,0,0,0,0,0,0,0,0,0,0,0,0,0,0,0,0,0,0,0,0,0,0,0,0,0,0,0,0,0,0,0,0,0,0,0,0,0,0,0,0,0,0,0,0,0,0,0,0,0,0,0,0,0,0,0,0,0,0,0,{"$f":"GQN180+GQN174+GQN168+GQN155+GQN142+GQN131+GQN126+GQN110+GQN92+GQN76+GQN54+GQN22","v":0},0,0,0,0,0,0,0,0,0,0,0,0,0,0,0,0,0,0,0,0,0,0,0,0,0,0,0,0,0,0,0,0,0,0,0,0,0,0,0,0,0,0,0,0,0,0,0,0,0,0,0,0,0,0,0,0,0,0,0,0,0,0,0,{"$f":"GSZ180+GSZ174+GSZ168+GSZ155+GSZ142+GSZ131+GSZ126+GSZ110+GSZ92+GSZ76+GSZ54+GSZ22","v":0},0,0,0,0,0,0,0,0,0,0,0,0,0,0,0,0,0,0,0,0,0,0,0,0,0,0,0,0,0,0,0,0,0,0,0,0,0,0,0,0,0,0,0,0,0,0,0,0,0,0,0,0,0,0,0,0,0,0,0,0,0,0,0,{"$f":"GVL180+GVL174+GVL168+GVL155+GVL142+GVL131+GVL126+GVL110+GVL92+GVL76+GVL54+GVL22","v":0},0,0,0,0,0,0,0,0,0,0,0,0,0,0,0,0,0,0,0,0,0,0,0,0,0,0,0,0,0,0,0,0,0,0,0,0,0,0,0,0,0,0,0,0,0,0,0,0,0,0,0,0,0,0,0,0,0,0,0,0,0,0,0,{"$f":"GXX180+GXX174+GXX168+GXX155+GXX142+GXX131+GXX126+GXX110+GXX92+GXX76+GXX54+GXX22","v":0},0,0,0,0,0,0,0,0,0,0,0,0,0,0,0,0,0,0,0,0,0,0,0,0,0,0,0,0,0,0,0,0,0,0,0,0,0,0,0,0,0,0,0,0,0,0,0,0,0,0,0,0,0,0,0,0,0,0,0,0,0,0,0,{"$f":"HAJ180+HAJ174+HAJ168+HAJ155+HAJ142+HAJ131+HAJ126+HAJ110+HAJ92+HAJ76+HAJ54+HAJ22","v":0},0,0,0,0,0,0,0,0,0,0,0,0,0,0,0,0,0,0,0,0,0,0,0,0,0,0,0,0,0,0,0,0,0,0,0,0,0,0,0,0,0,0,0,0,0,0,0,0,0,0,0,0,0,0,0,0,0,0,0,0,0,0,0,{"$f":"HCV180+HCV174+HCV168+HCV155+HCV142+HCV131+HCV126+HCV110+HCV92+HCV76+HCV54+HCV22","v":0},0,0,0,0,0,0,0,0,0,0,0,0,0,0,0,0,0,0,0,0,0,0,0,0,0,0,0,0,0,0,0,0,0,0,0,0,0,0,0,0,0,0,0,0,0,0,0,0,0,0,0,0,0,0,0,0,0,0,0,0,0,0,0,{"$f":"HFH180+HFH174+HFH168+HFH155+HFH142+HFH131+HFH126+HFH110+HFH92+HFH76+HFH54+HFH22","v":0},0,0,0,0,0,0,0,0,0,0,0,0,0,0,0,0,0,0,0,0,0,0,0,0,0,0,0,0,0,0,0,0,0,0,0,0,0,0,0,0,0,0,0,0,0,0,0,0,0,0,0,0,0,0,0,0,0,0,0,0,0,0,0,{"$f":"HHT180+HHT174+HHT168+HHT155+HHT142+HHT131+HHT126+HHT110+HHT92+HHT76+HHT54+HHT22","v":0},0,0,0,0,0,0,0,0,0,0,0,0,0,0,0,0,0,0,0,0,0,0,0,0,0,0,0,0,0,0,0,0,0,0,0,0,0,0,0,0,0,0,0,0,0,0,0,0,0,0,0,0,0,0,0,0,0,0,0,0,0,0,0,{"$f":"HKF180+HKF174+HKF168+HKF155+HKF142+HKF131+HKF126+HKF110+HKF92+HKF76+HKF54+HKF22","v":0},0,0,0,0,0,0,0,0,0,0,0,0,0,0,0,0,0,0,0,0,0,0,0,0,0,0,0,0,0,0,0,0,0,0,0,0,0,0,0,0,0,0,0,0,0,0,0,0,0,0,0,0,0,0,0,0,0,0,0,0,0,0,0,{"$f":"HMR180+HMR174+HMR168+HMR155+HMR142+HMR131+HMR126+HMR110+HMR92+HMR76+HMR54+HMR22","v":0},0,0,0,0,0,0,0,0,0,0,0,0,0,0,0,0,0,0,0,0,0,0,0,0,0,0,0,0,0,0,0,0,0,0,0,0,0,0,0,0,0,0,0,0,0,0,0,0,0,0,0,0,0,0,0,0,0,0,0,0,0,0,0,{"$f":"HPD180+HPD174+HPD168+HPD155+HPD142+HPD131+HPD126+HPD110+HPD92+HPD76+HPD54+HPD22","v":0},0,0,0,0,0,0,0,0,0,0,0,0,0,0,0,0,0,0,0,0,0,0,0,0,0,0,0,0,0,0,0,0,0,0,0,0,0,0,0,0,0,0,0,0,0,0,0,0,0,0,0,0,0,0,0,0,0,0,0,0,0,0,0,{"$f":"HRP180+HRP174+HRP168+HRP155+HRP142+HRP131+HRP126+HRP110+HRP92+HRP76+HRP54+HRP22","v":0},0,0,0,0,0,0,0,0,0,0,0,0,0,0,0,0,0,0,0,0,0,0,0,0,0,0,0,0,0,0,0,0,0,0,0,0,0,0,0,0,0,0,0,0,0,0,0,0,0,0,0,0,0,0,0,0,0,0,0,0,0,0,0,{"$f":"HUB180+HUB174+HUB168+HUB155+HUB142+HUB131+HUB126+HUB110+HUB92+HUB76+HUB54+HUB22","v":0},0,0,0,0,0,0,0,0,0,0,0,0,0,0,0,0,0,0,0,0,0,0,0,0,0,0,0,0,0,0,0,0,0,0,0,0,0,0,0,0,0,0,0,0,0,0,0,0,0,0,0,0,0,0,0,0,0,0,0,0,0,0,0,{"$f":"HWN180+HWN174+HWN168+HWN155+HWN142+HWN131+HWN126+HWN110+HWN92+HWN76+HWN54+HWN22","v":0},0,0,0,0,0,0,0,0,0,0,0,0,0,0,0,0,0,0,0,0,0,0,0,0,0,0,0,0,0,0,0,0,0,0,0,0,0,0,0,0,0,0,0,0,0,0,0,0,0,0,0,0,0,0,0,0,0,0,0,0,0,0,0,{"$f":"HYZ180+HYZ174+HYZ168+HYZ155+HYZ142+HYZ131+HYZ126+HYZ110+HYZ92+HYZ76+HYZ54+HYZ22","v":0},0,0,0,0,0,0,0,0,0,0,0,0,0,0,0,0,0,0,0,0,0,0,0,0,0,0,0,0,0,0,0,0,0,0,0,0,0,0,0,0,0,0,0,0,0,0,0,0,0,0,0,0,0,0,0,0,0,0,0,0,0,0,0,{"$f":"IBL180+IBL174+IBL168+IBL155+IBL142+IBL131+IBL126+IBL110+IBL92+IBL76+IBL54+IBL22","v":0},0,0,0,0,0,0,0,0,0,0,0,0,0,0,0,0,0,0,0,0,0,0,0,0,0,0,0,0,0,0,0,0,0,0,0,0,0,0,0,0,0,0,0,0,0,0,0,0,0,0,0,0,0,0,0,0,0,0,0,0,0,0,0,{"$f":"IDX180+IDX174+IDX168+IDX155+IDX142+IDX131+IDX126+IDX110+IDX92+IDX76+IDX54+IDX22","v":0},0,0,0,0,0,0,0,0,0,0,0,0,0,0,0,0,0,0,0,0,0,0,0,0,0,0,0,0,0,0,0,0,0,0,0,0,0,0,0,0,0,0,0,0,0,0,0,0,0,0,0,0,0,0,0,0,0,0,0,0,0,0,0,{"$f":"IGJ180+IGJ174+IGJ168+IGJ155+IGJ142+IGJ131+IGJ126+IGJ110+IGJ92+IGJ76+IGJ54+IGJ22","v":0},0,0,0,0,0,0,0,0,0,0,0,0,0,0,0,0,0,0,0,0,0,0,0,0,0,0,0,0,0,0,0,0,0,0,0,0,0,0,0,0,0,0,0,0,0,0,0,0,0,0,0,0,0,0,0,0,0,0,0,0,0,0,0,{"$f":"IIV180+IIV174+IIV168+IIV155+IIV142+IIV131+IIV126+IIV110+IIV92+IIV76+IIV54+IIV22","v":0},0,0,0,0,0,0,0,0,0,0,0,0,0,0,0,0,0,0,0,0,0,0,0,0,0,0,0,0,0,0,0,0,0,0,0,0,0,0,0,0,0,0,0,0,0,0,0,0,0,0,0,0,0,0,0,0,0,0,0,0,0,0,0,{"$f":"ILH180+ILH174+ILH168+ILH155+ILH142+ILH131+ILH126+ILH110+ILH92+ILH76+ILH54+ILH22","v":0},0,0,0,0,0,0,0,0,0,0,0,0,0,0,0,0,0,0,0,0,0,0,0,0,0,0,0,0,0,0,0,0,0,0,0,0,0,0,0,0,0,0,0,0,0,0,0,0,0,0,0,0,0,0,0,0,0,0,0,0,0,0,0,{"$f":"INT180+INT174+INT168+INT155+INT142+INT131+INT126+INT110+INT92+INT76+INT54+INT22","v":0},0,0,0,0,0,0,0,0,0,0,0,0,0,0,0,0,0,0,0,0,0,0,0,0,0,0,0,0,0,0,0,0,0,0,0,0,0,0,0,0,0,0,0,0,0,0,0,0,0,0,0,0,0,0,0,0,0,0,0,0,0,0,0,{"$f":"IQF180+IQF174+IQF168+IQF155+IQF142+IQF131+IQF126+IQF110+IQF92+IQF76+IQF54+IQF22","v":0},0,0,0,0,0,0,0,0,0,0,0,0,0,0,0,0,0,0,0,0,0,0,0,0,0,0,0,0,0,0,0,0,0,0,0,0,0,0,0,0,0,0,0,0,0,0,0,0,0,0,0,0,0,0,0,0,0,0,0,0,0,0,0,{"$f":"ISR180+ISR174+ISR168+ISR155+ISR142+ISR131+ISR126+ISR110+ISR92+ISR76+ISR54+ISR22","v":0},0,0,0,0,0,0,0,0,0,0,0,0,0,0,0,0,0,0,0,0,0,0,0,0,0,0,0,0,0,0,0,0,0,0,0,0,0,0,0,0,0,0,0,0,0,0,0,0,0,0,0,0,0,0,0,0,0,0,0,0,0,0,0,{"$f":"IVD180+IVD174+IVD168+IVD155+IVD142+IVD131+IVD126+IVD110+IVD92+IVD76+IVD54+IVD22","v":0},0,0,0,0,0,0,0,0,0,0,0,0,0,0,0,0,0,0,0,0,0,0,0,0,0,0,0,0,0,0,0,0,0,0,0,0,0,0,0,0,0,0,0,0,0,0,0,0,0,0,0,0,0,0,0,0,0,0,0,0,0,0,0,{"$f":"IXP180+IXP174+IXP168+IXP155+IXP142+IXP131+IXP126+IXP110+IXP92+IXP76+IXP54+IXP22","v":0},0,0,0,0,0,0,0,0,0,0,0,0,0,0,0,0,0,0,0,0,0,0,0,0,0,0,0,0,0,0,0,0,0,0,0,0,0,0,0,0,0,0,0,0,0,0,0,0,0,0,0,0,0,0,0,0,0,0,0,0,0,0,0,{"$f":"JAB180+JAB174+JAB168+JAB155+JAB142+JAB131+JAB126+JAB110+JAB92+JAB76+JAB54+JAB22","v":0},0,0,0,0,0,0,0,0,0,0,0,0,0,0,0,0,0,0,0,0,0,0,0,0,0,0,0,0,0,0,0,0,0,0,0,0,0,0,0,0,0,0,0,0,0,0,0,0,0,0,0,0,0,0,0,0,0,0,0,0,0,0,0,{"$f":"JCN180+JCN174+JCN168+JCN155+JCN142+JCN131+JCN126+JCN110+JCN92+JCN76+JCN54+JCN22","v":0},0,0,0,0,0,0,0,0,0,0,0,0,0,0,0,0,0,0,0,0,0,0,0,0,0,0,0,0,0,0,0,0,0,0,0,0,0,0,0,0,0,0,0,0,0,0,0,0,0,0,0,0,0,0,0,0,0,0,0,0,0,0,0,{"$f":"JEZ180+JEZ174+JEZ168+JEZ155+JEZ142+JEZ131+JEZ126+JEZ110+JEZ92+JEZ76+JEZ54+JEZ22","v":0},0,0,0,0,0,0,0,0,0,0,0,0,0,0,0,0,0,0,0,0,0,0,0,0,0,0,0,0,0,0,0,0,0,0,0,0,0,0,0,0,0,0,0,0,0,0,0,0,0,0,0,0,0,0,0,0,0,0,0,0,0,0,0,{"$f":"JHL180+JHL174+JHL168+JHL155+JHL142+JHL131+JHL126+JHL110+JHL92+JHL76+JHL54+JHL22","v":0},0,0,0,0,0,0,0,0,0,0,0,0,0,0,0,0,0,0,0,0,0,0,0,0,0,0,0,0,0,0,0,0,0,0,0,0,0,0,0,0,0,0,0,0,0,0,0,0,0,0,0,0,0,0,0,0,0,0,0,0,0,0,0,{"$f":"JJX180+JJX174+JJX168+JJX155+JJX142+JJX131+JJX126+JJX110+JJX92+JJX76+JJX54+JJX22","v":0},0,0,0,0,0,0,0,0,0,0,0,0,0,0,0,0,0,0,0,0,0,0,0,0,0,0,0,0,0,0,0,0,0,0,0,0,0,0,0,0,0,0,0,0,0,0,0,0,0,0,0,0,0,0,0,0,0,0,0,0,0,0,0,{"$f":"JMJ180+JMJ174+JMJ168+JMJ155+JMJ142+JMJ131+JMJ126+JMJ110+JMJ92+JMJ76+JMJ54+JMJ22","v":0},0,0,0,0,0,0,0,0,0,0,0,0,0,0,0,0,0,0,0,0,0,0,0,0,0,0,0,0,0,0,0,0,0,0,0,0,0,0,0,0,0,0,0,0,0,0,0,0,0,0,0,0,0,0,0,0,0,0,0,0,0,0,0,{"$f":"JOV180+JOV174+JOV168+JOV155+JOV142+JOV131+JOV126+JOV110+JOV92+JOV76+JOV54+JOV22","v":0},0,0,0,0,0,0,0,0,0,0,0,0,0,0,0,0,0,0,0,0,0,0,0,0,0,0,0,0,0,0,0,0,0,0,0,0,0,0,0,0,0,0,0,0,0,0,0,0,0,0,0,0,0,0,0,0,0,0,0,0,0,0,0,{"$f":"JRH180+JRH174+JRH168+JRH155+JRH142+JRH131+JRH126+JRH110+JRH92+JRH76+JRH54+JRH22","v":0},0,0,0,0,0,0,0,0,0,0,0,0,0,0,0,0,0,0,0,0,0,0,0,0,0,0,0,0,0,0,0,0,0,0,0,0,0,0,0,0,0,0,0,0,0,0,0,0,0,0,0,0,0,0,0,0,0,0,0,0,0,0,0,{"$f":"JTT180+JTT174+JTT168+JTT155+JTT142+JTT131+JTT126+JTT110+JTT92+JTT76+JTT54+JTT22","v":0},0,0,0,0,0,0,0,0,0,0,0,0,0,0,0,0,0,0,0,0,0,0,0,0,0,0,0,0,0,0,0,0,0,0,0,0,0,0,0,0,0,0,0,0,0,0,0,0,0,0,0,0,0,0,0,0,0,0,0,0,0,0,0,{"$f":"JWF180+JWF174+JWF168+JWF155+JWF142+JWF131+JWF126+JWF110+JWF92+JWF76+JWF54+JWF22","v":0},0,0,0,0,0,0,0,0,0,0,0,0,0,0,0,0,0,0,0,0,0,0,0,0,0,0,0,0,0,0,0,0,0,0,0,0,0,0,0,0,0,0,0,0,0,0,0,0,0,0,0,0,0,0,0,0,0,0,0,0,0,0,0,{"$f":"JYR180+JYR174+JYR168+JYR155+JYR142+JYR131+JYR126+JYR110+JYR92+JYR76+JYR54+JYR22","v":0},0,0,0,0,0,0,0,0,0,0,0,0,0,0,0,0,0,0,0,0,0,0,0,0,0,0,0,0,0,0,0,0,0,0,0,0,0,0,0,0,0,0,0,0,0,0,0,0,0,0,0,0,0,0,0,0,0,0,0,0,0,0,0,{"$f":"KBD180+KBD174+KBD168+KBD155+KBD142+KBD131+KBD126+KBD110+KBD92+KBD76+KBD54+KBD22","v":0},0,0,0,0,0,0,0,0,0,0,0,0,0,0,0,0,0,0,0,0,0,0,0,0,0,0,0,0,0,0,0,0,0,0,0,0,0,0,0,0,0,0,0,0,0,0,0,0,0,0,0,0,0,0,0,0,0,0,0,0,0,0,0,{"$f":"KDP180+KDP174+KDP168+KDP155+KDP142+KDP131+KDP126+KDP110+KDP92+KDP76+KDP54+KDP22","v":0},0,0,0,0,0,0,0,0,0,0,0,0,0,0,0,0,0,0,0,0,0,0,0,0,0,0,0,0,0,0,0,0,0,0,0,0,0,0,0,0,0,0,0,0,0,0,0,0,0,0,0,0,0,0,0,0,0,0,0,0,0,0,0,{"$f":"KGB180+KGB174+KGB168+KGB155+KGB142+KGB131+KGB126+KGB110+KGB92+KGB76+KGB54+KGB22","v":0},0,0,0,0,0,0,0,0,0,0,0,0,0,0,0,0,0,0,0,0,0,0,0,0,0,0,0,0,0,0,0,0,0,0,0,0,0,0,0,0,0,0,0,0,0,0,0,0,0,0,0,0,0,0,0,0,0,0,0,0,0,0,0,{"$f":"KIN180+KIN174+KIN168+KIN155+KIN142+KIN131+KIN126+KIN110+KIN92+KIN76+KIN54+KIN22","v":0},0,0,0,0,0,0,0,0,0,0,0,0,0,0,0,0,0,0,0,0,0,0,0,0,0,0,0,0,0,0,0,0,0,0,0,0,0,0,0,0,0,0,0,0,0,0,0,0,0,0,0,0,0,0,0,0,0,0,0,0,0,0,0,{"$f":"KKZ180+KKZ174+KKZ168+KKZ155+KKZ142+KKZ131+KKZ126+KKZ110+KKZ92+KKZ76+KKZ54+KKZ22","v":0},0,0,0,0,0,0,0,0,0,0,0,0,0,0,0,0,0,0,0,0,0,0,0,0,0,0,0,0,0,0,0,0,0,0,0,0,0,0,0,0,0,0,0,0,0,0,0,0,0,0,0,0,0,0,0,0,0,0,0,0,0,0,0,{"$f":"KNL180+KNL174+KNL168+KNL155+KNL142+KNL131+KNL126+KNL110+KNL92+KNL76+KNL54+KNL22","v":0},0,0,0,0,0,0,0,0,0,0,0,0,0,0,0,0,0,0,0,0,0,0,0,0,0,0,0,0,0,0,0,0,0,0,0,0,0,0,0,0,0,0,0,0,0,0,0,0,0,0,0,0,0,0,0,0,0,0,0,0,0,0,0,{"$f":"KPX180+KPX174+KPX168+KPX155+KPX142+KPX131+KPX126+KPX110+KPX92+KPX76+KPX54+KPX22","v":0},0,0,0,0,0,0,0,0,0,0,0,0,0,0,0,0,0,0,0,0,0,0,0,0,0,0,0,0,0,0,0,0,0,0,0,0,0,0,0,0,0,0,0,0,0,0,0,0,0,0,0,0,0,0,0,0,0,0,0,0,0,0,0,{"$f":"KSJ180+KSJ174+KSJ168+KSJ155+KSJ142+KSJ131+KSJ126+KSJ110+KSJ92+KSJ76+KSJ54+KSJ22","v":0},0,0,0,0,0,0,0,0,0,0,0,0,0,0,0,0,0,0,0,0,0,0,0,0,0,0,0,0,0,0,0,0,0,0,0,0,0,0,0,0,0,0,0,0,0,0,0,0,0,0,0,0,0,0,0,0,0,0,0,0,0,0,0,{"$f":"KUV180+KUV174+KUV168+KUV155+KUV142+KUV131+KUV126+KUV110+KUV92+KUV76+KUV54+KUV22","v":0},0,0,0,0,0,0,0,0,0,0,0,0,0,0,0,0,0,0,0,0,0,0,0,0,0,0,0,0,0,0,0,0,0,0,0,0,0,0,0,0,0,0,0,0,0,0,0,0,0,0,0,0,0,0,0,0,0,0,0,0,0,0,0,{"$f":"KXH180+KXH174+KXH168+KXH155+KXH142+KXH131+KXH126+KXH110+KXH92+KXH76+KXH54+KXH22","v":0},0,0,0,0,0,0,0,0,0,0,0,0,0,0,0,0,0,0,0,0,0,0,0,0,0,0,0,0,0,0,0,0,0,0,0,0,0,0,0,0,0,0,0,0,0,0,0,0,0,0,0,0,0,0,0,0,0,0,0,0,0,0,0,{"$f":"KZT180+KZT174+KZT168+KZT155+KZT142+KZT131+KZT126+KZT110+KZT92+KZT76+KZT54+KZT22","v":0},0,0,0,0,0,0,0,0,0,0,0,0,0,0,0,0,0,0,0,0,0,0,0,0,0,0,0,0,0,0,0,0,0,0,0,0,0,0,0,0,0,0,0,0,0,0,0,0,0,0,0,0,0,0,0,0,0,0,0,0,0,0,0,{"$f":"LCF180+LCF174+LCF168+LCF155+LCF142+LCF131+LCF126+LCF110+LCF92+LCF76+LCF54+LCF22","v":0},0,0,0,0,0,0,0,0,0,0,0,0,0,0,0,0,0,0,0,0,0,0,0,0,0,0,0,0,0,0,0,0,0,0,0,0,0,0,0,0,0,0,0,0,0,0,0,0,0,0,0,0,0,0,0,0,0,0,0,0,0,0,0,{"$f":"LER180+LER174+LER168+LER155+LER142+LER131+LER126+LER110+LER92+LER76+LER54+LER22","v":0},0,0,0,0,0,0,0,0,0,0,0,0,0,0,0,0,0,0,0,0,0,0,0,0,0,0,0,0,0,0,0,0,0,0,0,0,0,0,0,0,0,0,0,0,0,0,0,0,0,0,0,0,0,0,0,0,0,0,0,0,0,0,0,{"$f":"LHD180+LHD174+LHD168+LHD155+LHD142+LHD131+LHD126+LHD110+LHD92+LHD76+LHD54+LHD22","v":0},0,0,0,0,0,0,0,0,0,0,0,0,0,0,0,0,0,0,0,0,0,0,0,0,0,0,0,0,0,0,0,0,0,0,0,0,0,0,0,0,0,0,0,0,0,0,0,0,0,0,0,0,0,0,0,0,0,0,0,0,0,0,0,{"$f":"LJP180+LJP174+LJP168+LJP155+LJP142+LJP131+LJP126+LJP110+LJP92+LJP76+LJP54+LJP22","v":0},0,0,0,0,0,0,0,0,0,0,0,0,0,0,0,0,0,0,0,0,0,0,0,0,0,0,0,0,0,0,0,0,0,0,0,0,0,0,0,0,0,0,0,0,0,0,0,0,0,0,0,0,0,0,0,0,0,0,0,0,0,0,0,{"$f":"LMB180+LMB174+LMB168+LMB155+LMB142+LMB131+LMB126+LMB110+LMB92+LMB76+LMB54+LMB22","v":0},0,0,0,0,0,0,0,0,0,0,0,0,0,0,0,0,0,0,0,0,0,0,0,0,0,0,0,0,0,0,0,0,0,0,0,0,0,0,0,0,0,0,0,0,0,0,0,0,0,0,0,0,0,0,0,0,0,0,0,0,0,0,0,{"$f":"LON180+LON174+LON168+LON155+LON142+LON131+LON126+LON110+LON92+LON76+LON54+LON22","v":0},0,0,0,0,0,0,0,0,0,0,0,0,0,0,0,0,0,0,0,0,0,0,0,0,0,0,0,0,0,0,0,0,0,0,0,0,0,0,0,0,0,0,0,0,0,0,0,0,0,0,0,0,0,0,0,0,0,0,0,0,0,0,0,{"$f":"LQZ180+LQZ174+LQZ168+LQZ155+LQZ142+LQZ131+LQZ126+LQZ110+LQZ92+LQZ76+LQZ54+LQZ22","v":0},0,0,0,0,0,0,0,0,0,0,0,0,0,0,0,0,0,0,0,0,0,0,0,0,0,0,0,0,0,0,0,0,0,0,0,0,0,0,0,0,0,0,0,0,0,0,0,0,0,0,0,0,0,0,0,0,0,0,0,0,0,0,0,{"$f":"LTL180+LTL174+LTL168+LTL155+LTL142+LTL131+LTL126+LTL110+LTL92+LTL76+LTL54+LTL22","v":0},0,0,0,0,0,0,0,0,0,0,0,0,0,0,0,0,0,0,0,0,0,0,0,0,0,0,0,0,0,0,0,0,0,0,0,0,0,0,0,0,0,0,0,0,0,0,0,0,0,0,0,0,0,0,0,0,0,0,0,0,0,0,0,{"$f":"LVX180+LVX174+LVX168+LVX155+LVX142+LVX131+LVX126+LVX110+LVX92+LVX76+LVX54+LVX22","v":0},0,0,0,0,0,0,0,0,0,0,0,0,0,0,0,0,0,0,0,0,0,0,0,0,0,0,0,0,0,0,0,0,0,0,0,0,0,0,0,0,0,0,0,0,0,0,0,0,0,0,0,0,0,0,0,0,0,0,0,0,0,0,0,{"$f":"LYJ180+LYJ174+LYJ168+LYJ155+LYJ142+LYJ131+LYJ126+LYJ110+LYJ92+LYJ76+LYJ54+LYJ22","v":0},0,0,0,0,0,0,0,0,0,0,0,0,0,0,0,0,0,0,0,0,0,0,0,0,0,0,0,0,0,0,0,0,0,0,0,0,0,0,0,0,0,0,0,0,0,0,0,0,0,0,0,0,0,0,0,0,0,0,0,0,0,0,0,{"$f":"MAV180+MAV174+MAV168+MAV155+MAV142+MAV131+MAV126+MAV110+MAV92+MAV76+MAV54+MAV22","v":0},0,0,0,0,0,0,0,0,0,0,0,0,0,0,0,0,0,0,0,0,0,0,0,0,0,0,0,0,0,0,0,0,0,0,0,0,0,0,0,0,0,0,0,0,0,0,0,0,0,0,0,0,0,0,0,0,0,0,0,0,0,0,0,{"$f":"MDH180+MDH174+MDH168+MDH155+MDH142+MDH131+MDH126+MDH110+MDH92+MDH76+MDH54+MDH22","v":0},0,0,0,0,0,0,0,0,0,0,0,0,0,0,0,0,0,0,0,0,0,0,0,0,0,0,0,0,0,0,0,0,0,0,0,0,0,0,0,0,0,0,0,0,0,0,0,0,0,0,0,0,0,0,0,0,0,0,0,0,0,0,0,{"$f":"MFT180+MFT174+MFT168+MFT155+MFT142+MFT131+MFT126+MFT110+MFT92+MFT76+MFT54+MFT22","v":0},0,0,0,0,0,0,0,0,0,0,0,0,0,0,0,0,0,0,0,0,0,0,0,0,0,0,0,0,0,0,0,0,0,0,0,0,0,0,0,0,0,0,0,0,0,0,0,0,0,0,0,0,0,0,0,0,0,0,0,0,0,0,0,{"$f":"MIF180+MIF174+MIF168+MIF155+MIF142+MIF131+MIF126+MIF110+MIF92+MIF76+MIF54+MIF22","v":0},0,0,0,0,0,0,0,0,0,0,0,0,0,0,0,0,0,0,0,0,0,0,0,0,0,0,0,0,0,0,0,0,0,0,0,0,0,0,0,0,0,0,0,0,0,0,0,0,0,0,0,0,0,0,0,0,0,0,0,0,0,0,0,{"$f":"MKR180+MKR174+MKR168+MKR155+MKR142+MKR131+MKR126+MKR110+MKR92+MKR76+MKR54+MKR22","v":0},0,0,0,0,0,0,0,0,0,0,0,0,0,0,0,0,0,0,0,0,0,0,0,0,0,0,0,0,0,0,0,0,0,0,0,0,0,0,0,0,0,0,0,0,0,0,0,0,0,0,0,0,0,0,0,0,0,0,0,0,0,0,0,{"$f":"MND180+MND174+MND168+MND155+MND142+MND131+MND126+MND110+MND92+MND76+MND54+MND22","v":0},0,0,0,0,0,0,0,0,0,0,0,0,0,0,0,0,0,0,0,0,0,0,0,0,0,0,0,0,0,0,0,0,0,0,0,0,0,0,0,0,0,0,0,0,0,0,0,0,0,0,0,0,0,0,0,0,0,0,0,0,0,0,0,{"$f":"MPP180+MPP174+MPP168+MPP155+MPP142+MPP131+MPP126+MPP110+MPP92+MPP76+MPP54+MPP22","v":0},0,0,0,0,0,0,0,0,0,0,0,0,0,0,0,0,0,0,0,0,0,0,0,0,0,0,0,0,0,0,0,0,0,0,0,0,0,0,0,0,0,0,0,0,0,0,0,0,0,0,0,0,0,0,0,0,0,0,0,0,0,0,0,{"$f":"MSB180+MSB174+MSB168+MSB155+MSB142+MSB131+MSB126+MSB110+MSB92+MSB76+MSB54+MSB22","v":0},0,0,0,0,0,0,0,0,0,0,0,0,0,0,0,0,0,0,0,0,0,0,0,0,0,0,0,0,0,0,0,0,0,0,0,0,0,0,0,0,0,0,0,0,0,0,0,0,0,0,0,0,0,0,0,0,0,0,0,0,0,0,0,{"$f":"MUN180+MUN174+MUN168+MUN155+MUN142+MUN131+MUN126+MUN110+MUN92+MUN76+MUN54+MUN22","v":0},0,0,0,0,0,0,0,0,0,0,0,0,0,0,0,0,0,0,0,0,0,0,0,0,0,0,0,0,0,0,0,0,0,0,0,0,0,0,0,0,0,0,0,0,0,0,0,0,0,0,0,0,0,0,0,0,0,0,0,0,0,0,0,{"$f":"MWZ180+MWZ174+MWZ168+MWZ155+MWZ142+MWZ131+MWZ126+MWZ110+MWZ92+MWZ76+MWZ54+MWZ22","v":0},0,0,0,0,0,0,0,0,0,0,0,0,0,0,0,0,0,0,0,0,0,0,0,0,0,0,0,0,0,0,0,0,0,0,0,0,0,0,0,0,0,0,0,0,0,0,0,0,0,0,0,0,0,0,0,0,0,0,0,0,0,0,0,{"$f":"MZL180+MZL174+MZL168+MZL155+MZL142+MZL131+MZL126+MZL110+MZL92+MZL76+MZL54+MZL22","v":0},0,0,0,0,0,0,0,0,0,0,0,0,0,0,0,0,0,0,0,0,0,0,0,0,0,0,0,0,0,0,0,0,0,0,0,0,0,0,0,0,0,0,0,0,0,0,0,0,0,0,0,0,0,0,0,0,0,0,0,0,0,0,0,{"$f":"NBX180+NBX174+NBX168+NBX155+NBX142+NBX131+NBX126+NBX110+NBX92+NBX76+NBX54+NBX22","v":0},0,0,0,0,0,0,0,0,0,0,0,0,0,0,0,0,0,0,0,0,0,0,0,0,0,0,0,0,0,0,0,0,0,0,0,0,0,0,0,0,0,0,0,0,0,0,0,0,0,0,0,0,0,0,0,0,0,0,0,0,0,0,0,{"$f":"NEJ180+NEJ174+NEJ168+NEJ155+NEJ142+NEJ131+NEJ126+NEJ110+NEJ92+NEJ76+NEJ54+NEJ22","v":0},0,0,0,0,0,0,0,0,0,0,0,0,0,0,0,0,0,0,0,0,0,0,0,0,0,0,0,0,0,0,0,0,0,0,0,0,0,0,0,0,0,0,0,0,0,0,0,0,0,0,0,0,0,0,0,0,0,0,0,0,0,0,0,{"$f":"NGV180+NGV174+NGV168+NGV155+NGV142+NGV131+NGV126+NGV110+NGV92+NGV76+NGV54+NGV22","v":0},0,0,0,0,0,0,0,0,0,0,0,0,0,0,0,0,0,0,0,0,0,0,0,0,0,0,0,0,0,0,0,0,0,0,0,0,0,0,0,0,0,0,0,0,0,0,0,0,0,0,0,0,0,0,0,0,0,0,0,0,0,0,0,{"$f":"NJH180+NJH174+NJH168+NJH155+NJH142+NJH131+NJH126+NJH110+NJH92+NJH76+NJH54+NJH22","v":0},0,0,0,0,0,0,0,0,0,0,0,0,0,0,0,0,0,0,0,0,0,0,0,0,0,0,0,0,0,0,0,0,0,0,0,0,0,0,0,0,0,0,0,0,0,0,0,0,0,0,0,0,0,0,0,0,0,0,0,0,0,0,0,{"$f":"NLT180+NLT174+NLT168+NLT155+NLT142+NLT131+NLT126+NLT110+NLT92+NLT76+NLT54+NLT22","v":0},0,0,0,0,0,0,0,0,0,0,0,0,0,0,0,0,0,0,0,0,0,0,0,0,0,0,0,0,0,0,0,0,0,0,0,0,0,0,0,0,0,0,0,0,0,0,0,0,0,0,0,0,0,0,0,0,0,0,0,0,0,0,0,{"$f":"NOF180+NOF174+NOF168+NOF155+NOF142+NOF131+NOF126+NOF110+NOF92+NOF76+NOF54+NOF22","v":0},0,0,0,0,0,0,0,0,0,0,0,0,0,0,0,0,0,0,0,0,0,0,0,0,0,0,0,0,0,0,0,0,0,0,0,0,0,0,0,0,0,0,0,0,0,0,0,0,0,0,0,0,0,0,0,0,0,0,0,0,0,0,0,{"$f":"NQR180+NQR174+NQR168+NQR155+NQR142+NQR131+NQR126+NQR110+NQR92+NQR76+NQR54+NQR22","v":0},0,0,0,0,0,0,0,0,0,0,0,0,0,0,0,0,0,0,0,0,0,0,0,0,0,0,0,0,0,0,0,0,0,0,0,0,0,0,0,0,0,0,0,0,0,0,0,0,0,0,0,0,0,0,0,0,0,0,0,0,0,0,0,{"$f":"NTD180+NTD174+NTD168+NTD155+NTD142+NTD131+NTD126+NTD110+NTD92+NTD76+NTD54+NTD22","v":0},0,0,0,0,0,0,0,0,0,0,0,0,0,0,0,0,0,0,0,0,0,0,0,0,0,0,0,0,0,0,0,0,0,0,0,0,0,0,0,0,0,0,0,0,0,0,0,0,0,0,0,0,0,0,0,0,0,0,0,0,0,0,0,{"$f":"NVP180+NVP174+NVP168+NVP155+NVP142+NVP131+NVP126+NVP110+NVP92+NVP76+NVP54+NVP22","v":0},0,0,0,0,0,0,0,0,0,0,0,0,0,0,0,0,0,0,0,0,0,0,0,0,0,0,0,0,0,0,0,0,0,0,0,0,0,0,0,0,0,0,0,0,0,0,0,0,0,0,0,0,0,0,0,0,0,0,0,0,0,0,0,{"$f":"NYB180+NYB174+NYB168+NYB155+NYB142+NYB131+NYB126+NYB110+NYB92+NYB76+NYB54+NYB22","v":0},0,0,0,0,0,0,0,0,0,0,0,0,0,0,0,0,0,0,0,0,0,0,0,0,0,0,0,0,0,0,0,0,0,0,0,0,0,0,0,0,0,0,0,0,0,0,0,0,0,0,0,0,0,0,0,0,0,0,0,0,0,0,0,{"$f":"OAN180+OAN174+OAN168+OAN155+OAN142+OAN131+OAN126+OAN110+OAN92+OAN76+OAN54+OAN22","v":0},0,0,0,0,0,0,0,0,0,0,0,0,0,0,0,0,0,0,0,0,0,0,0,0,0,0,0,0,0,0,0,0,0,0,0,0,0,0,0,0,0,0,0,0,0,0,0,0,0,0,0,0,0,0,0,0,0,0,0,0,0,0,0,{"$f":"OCZ180+OCZ174+OCZ168+OCZ155+OCZ142+OCZ131+OCZ126+OCZ110+OCZ92+OCZ76+OCZ54+OCZ22","v":0},0,0,0,0,0,0,0,0,0,0,0,0,0,0,0,0,0,0,0,0,0,0,0,0,0,0,0,0,0,0,0,0,0,0,0,0,0,0,0,0,0,0,0,0,0,0,0,0,0,0,0,0,0,0,0,0,0,0,0,0,0,0,0,{"$f":"OFL180+OFL174+OFL168+OFL155+OFL142+OFL131+OFL126+OFL110+OFL92+OFL76+OFL54+OFL22","v":0},0,0,0,0,0,0,0,0,0,0,0,0,0,0,0,0,0,0,0,0,0,0,0,0,0,0,0,0,0,0,0,0,0,0,0,0,0,0,0,0,0,0,0,0,0,0,0,0,0,0,0,0,0,0,0,0,0,0,0,0,0,0,0,{"$f":"OHX180+OHX174+OHX168+OHX155+OHX142+OHX131+OHX126+OHX110+OHX92+OHX76+OHX54+OHX22","v":0},0,0,0,0,0,0,0,0,0,0,0,0,0,0,0,0,0,0,0,0,0,0,0,0,0,0,0,0,0,0,0,0,0,0,0,0,0,0,0,0,0,0,0,0,0,0,0,0,0,0,0,0,0,0,0,0,0,0,0,0,0,0,0,{"$f":"OKJ180+OKJ174+OKJ168+OKJ155+OKJ142+OKJ131+OKJ126+OKJ110+OKJ92+OKJ76+OKJ54+OKJ22","v":0},0,0,0,0,0,0,0,0,0,0,0,0,0,0,0,0,0,0,0,0,0,0,0,0,0,0,0,0,0,0,0,0,0,0,0,0,0,0,0,0,0,0,0,0,0,0,0,0,0,0,0,0,0,0,0,0,0,0,0,0,0,0,0,{"$f":"OMV180+OMV174+OMV168+OMV155+OMV142+OMV131+OMV126+OMV110+OMV92+OMV76+OMV54+OMV22","v":0},0,0,0,0,0,0,0,0,0,0,0,0,0,0,0,0,0,0,0,0,0,0,0,0,0,0,0,0,0,0,0,0,0,0,0,0,0,0,0,0,0,0,0,0,0,0,0,0,0,0,0,0,0,0,0,0,0,0,0,0,0,0,0,{"$f":"OPH180+OPH174+OPH168+OPH155+OPH142+OPH131+OPH126+OPH110+OPH92+OPH76+OPH54+OPH22","v":0},0,0,0,0,0,0,0,0,0,0,0,0,0,0,0,0,0,0,0,0,0,0,0,0,0,0,0,0,0,0,0,0,0,0,0,0,0,0,0,0,0,0,0,0,0,0,0,0,0,0,0,0,0,0,0,0,0,0,0,0,0,0,0,{"$f":"ORT180+ORT174+ORT168+ORT155+ORT142+ORT131+ORT126+ORT110+ORT92+ORT76+ORT54+ORT22","v":0},0,0,0,0,0,0,0,0,0,0,0,0,0,0,0,0,0,0,0,0,0,0,0,0,0,0,0,0,0,0,0,0,0,0,0,0,0,0,0,0,0,0,0,0,0,0,0,0,0,0,0,0,0,0,0,0,0,0,0,0,0,0,0,{"$f":"OUF180+OUF174+OUF168+OUF155+OUF142+OUF131+OUF126+OUF110+OUF92+OUF76+OUF54+OUF22","v":0},0,0,0,0,0,0,0,0,0,0,0,0,0,0,0,0,0,0,0,0,0,0,0,0,0,0,0,0,0,0,0,0,0,0,0,0,0,0,0,0,0,0,0,0,0,0,0,0,0,0,0,0,0,0,0,0,0,0,0,0,0,0,0,{"$f":"OWR180+OWR174+OWR168+OWR155+OWR142+OWR131+OWR126+OWR110+OWR92+OWR76+OWR54+OWR22","v":0},0,0,0,0,0,0,0,0,0,0,0,0,0,0,0,0,0,0,0,0,0,0,0,0,0,0,0,0,0,0,0,0,0,0,0,0,0,0,0,0,0,0,0,0,0,0,0,0,0,0,0,0,0,0,0,0,0,0,0,0,0,0,0,{"$f":"OZD180+OZD174+OZD168+OZD155+OZD142+OZD131+OZD126+OZD110+OZD92+OZD76+OZD54+OZD22","v":0},0,0,0,0,0,0,0,0,0,0,0,0,0,0,0,0,0,0,0,0,0,0,0,0,0,0,0,0,0,0,0,0,0,0,0,0,0,0,0,0,0,0,0,0,0,0,0,0,0,0,0,0,0,0,0,0,0,0,0,0,0,0,0,{"$f":"PBP180+PBP174+PBP168+PBP155+PBP142+PBP131+PBP126+PBP110+PBP92+PBP76+PBP54+PBP22","v":0},0,0,0,0,0,0,0,0,0,0,0,0,0,0,0,0,0,0,0,0,0,0,0,0,0,0,0,0,0,0,0,0,0,0,0,0,0,0,0,0,0,0,0,0,0,0,0,0,0,0,0,0,0,0,0,0,0,0,0,0,0,0,0,{"$f":"PEB180+PEB174+PEB168+PEB155+PEB142+PEB131+PEB126+PEB110+PEB92+PEB76+PEB54+PEB22","v":0},0,0,0,0,0,0,0,0,0,0,0,0,0,0,0,0,0,0,0,0,0,0,0,0,0,0,0,0,0,0,0,0,0,0,0,0,0,0,0,0,0,0,0,0,0,0,0,0,0,0,0,0,0,0,0,0,0,0,0,0,0,0,0,{"$f":"PGN180+PGN174+PGN168+PGN155+PGN142+PGN131+PGN126+PGN110+PGN92+PGN76+PGN54+PGN22","v":0},0,0,0,0,0,0,0,0,0,0,0,0,0,0,0,0,0,0,0,0,0,0,0,0,0,0,0,0,0,0,0,0,0,0,0,0,0,0,0,0,0,0,0,0,0,0,0,0,0,0,0,0,0,0,0,0,0,0,0,0,0,0,0,{"$f":"PIZ180+PIZ174+PIZ168+PIZ155+PIZ142+PIZ131+PIZ126+PIZ110+PIZ92+PIZ76+PIZ54+PIZ22","v":0},0,0,0,0,0,0,0,0,0,0,0,0,0,0,0,0,0,0,0,0,0,0,0,0,0,0,0,0,0,0,0,0,0,0,0,0,0,0,0,0,0,0,0,0,0,0,0,0,0,0,0,0,0,0,0,0,0,0,0,0,0,0,0,{"$f":"PLL180+PLL174+PLL168+PLL155+PLL142+PLL131+PLL126+PLL110+PLL92+PLL76+PLL54+PLL22","v":0},0,0,0,0,0,0,0,0,0,0,0,0,0,0,0,0,0,0,0,0,0,0,0,0,0,0,0,0,0,0,0,0,0,0,0,0,0,0,0,0,0,0,0,0,0,0,0,0,0,0,0,0,0,0,0,0,0,0,0,0,0,0,0,{"$f":"PNX180+PNX174+PNX168+PNX155+PNX142+PNX131+PNX126+PNX110+PNX92+PNX76+PNX54+PNX22","v":0},0,0,0,0,0,0,0,0,0,0,0,0,0,0,0,0,0,0,0,0,0,0,0,0,0,0,0,0,0,0,0,0,0,0,0,0,0,0,0,0,0,0,0,0,0,0,0,0,0,0,0,0,0,0,0,0,0,0,0,0,0,0,0,{"$f":"PQJ180+PQJ174+PQJ168+PQJ155+PQJ142+PQJ131+PQJ126+PQJ110+PQJ92+PQJ76+PQJ54+PQJ22","v":0},0,0,0,0,0,0,0,0,0,0,0,0,0,0,0,0,0,0,0,0,0,0,0,0,0,0,0,0,0,0,0,0,0,0,0,0,0,0,0,0,0,0,0,0,0,0,0,0,0,0,0,0,0,0,0,0,0,0,0,0,0,0,0,{"$f":"PSV180+PSV174+PSV168+PSV155+PSV142+PSV131+PSV126+PSV110+PSV92+PSV76+PSV54+PSV22","v":0},0,0,0,0,0,0,0,0,0,0,0,0,0,0,0,0,0,0,0,0,0,0,0,0,0,0,0,0,0,0,0,0,0,0,0,0,0,0,0,0,0,0,0,0,0,0,0,0,0,0,0,0,0,0,0,0,0,0,0,0,0,0,0,{"$f":"PVH180+PVH174+PVH168+PVH155+PVH142+PVH131+PVH126+PVH110+PVH92+PVH76+PVH54+PVH22","v":0},0,0,0,0,0,0,0,0,0,0,0,0,0,0,0,0,0,0,0,0,0,0,0,0,0,0,0,0,0,0,0,0,0,0,0,0,0,0,0,0,0,0,0,0,0,0,0,0,0,0,0,0,0,0,0,0,0,0,0,0,0,0,0,{"$f":"PXT180+PXT174+PXT168+PXT155+PXT142+PXT131+PXT126+PXT110+PXT92+PXT76+PXT54+PXT22","v":0},0,0,0,0,0,0,0,0,0,0,0,0,0,0,0,0,0,0,0,0,0,0,0,0,0,0,0,0,0,0,0,0,0,0,0,0,0,0,0,0,0,0,0,0,0,0,0,0,0,0,0,0,0,0,0,0,0,0,0,0,0,0,0,{"$f":"QAF180+QAF174+QAF168+QAF155+QAF142+QAF131+QAF126+QAF110+QAF92+QAF76+QAF54+QAF22","v":0},0,0,0,0,0,0,0,0,0,0,0,0,0,0,0,0,0,0,0,0,0,0,0,0,0,0,0,0,0,0,0,0,0,0,0,0,0,0,0,0,0,0,0,0,0,0,0,0,0,0,0,0,0,0,0,0,0,0,0,0,0,0,0,{"$f":"QCR180+QCR174+QCR168+QCR155+QCR142+QCR131+QCR126+QCR110+QCR92+QCR76+QCR54+QCR22","v":0},0,0,0,0,0,0,0,0,0,0,0,0,0,0,0,0,0,0,0,0,0,0,0,0,0,0,0,0,0,0,0,0,0,0,0,0,0,0,0,0,0,0,0,0,0,0,0,0,0,0,0,0,0,0,0,0,0,0,0,0,0,0,0,{"$f":"QFD180+QFD174+QFD168+QFD155+QFD142+QFD131+QFD126+QFD110+QFD92+QFD76+QFD54+QFD22","v":0},0,0,0,0,0,0,0,0,0,0,0,0,0,0,0,0,0,0,0,0,0,0,0,0,0,0,0,0,0,0,0,0,0,0,0,0,0,0,0,0,0,0,0,0,0,0,0,0,0,0,0,0,0,0,0,0,0,0,0,0,0,0,0,{"$f":"QHP180+QHP174+QHP168+QHP155+QHP142+QHP131+QHP126+QHP110+QHP92+QHP76+QHP54+QHP22","v":0},0,0,0,0,0,0,0,0,0,0,0,0,0,0,0,0,0,0,0,0,0,0,0,0,0,0,0,0,0,0,0,0,0,0,0,0,0,0,0,0,0,0,0,0,0,0,0,0,0,0,0,0,0,0,0,0,0,0,0,0,0,0,0,{"$f":"QKB180+QKB174+QKB168+QKB155+QKB142+QKB131+QKB126+QKB110+QKB92+QKB76+QKB54+QKB22","v":0},0,0,0,0,0,0,0,0,0,0,0,0,0,0,0,0,0,0,0,0,0,0,0,0,0,0,0,0,0,0,0,0,0,0,0,0,0,0,0,0,0,0,0,0,0,0,0,0,0,0,0,0,0,0,0,0,0,0,0,0,0,0,0,{"$f":"QMN180+QMN174+QMN168+QMN155+QMN142+QMN131+QMN126+QMN110+QMN92+QMN76+QMN54+QMN22","v":0},0,0,0,0,0,0,0,0,0,0,0,0,0,0,0,0,0,0,0,0,0,0,0,0,0,0,0,0,0,0,0,0,0,0,0,0,0,0,0,0,0,0,0,0,0,0,0,0,0,0,0,0,0,0,0,0,0,0,0,0,0,0,0,{"$f":"QOZ180+QOZ174+QOZ168+QOZ155+QOZ142+QOZ131+QOZ126+QOZ110+QOZ92+QOZ76+QOZ54+QOZ22","v":0},0,0,0,0,0,0,0,0,0,0,0,0,0,0,0,0,0,0,0,0,0,0,0,0,0,0,0,0,0,0,0,0,0,0,0,0,0,0,0,0,0,0,0,0,0,0,0,0,0,0,0,0,0,0,0,0,0,0,0,0,0,0,0,{"$f":"QRL180+QRL174+QRL168+QRL155+QRL142+QRL131+QRL126+QRL110+QRL92+QRL76+QRL54+QRL22","v":0},0,0,0,0,0,0,0,0,0,0,0,0,0,0,0,0,0,0,0,0,0,0,0,0,0,0,0,0,0,0,0,0,0,0,0,0,0,0,0,0,0,0,0,0,0,0,0,0,0,0,0,0,0,0,0,0,0,0,0,0,0,0,0,{"$f":"QTX180+QTX174+QTX168+QTX155+QTX142+QTX131+QTX126+QTX110+QTX92+QTX76+QTX54+QTX22","v":0},0,0,0,0,0,0,0,0,0,0,0,0,0,0,0,0,0,0,0,0,0,0,0,0,0,0,0,0,0,0,0,0,0,0,0,0,0,0,0,0,0,0,0,0,0,0,0,0,0,0,0,0,0,0,0,0,0,0,0,0,0,0,0,{"$f":"QWJ180+QWJ174+QWJ168+QWJ155+QWJ142+QWJ131+QWJ126+QWJ110+QWJ92+QWJ76+QWJ54+QWJ22","v":0},0,0,0,0,0,0,0,0,0,0,0,0,0,0,0,0,0,0,0,0,0,0,0,0,0,0,0,0,0,0,0,0,0,0,0,0,0,0,0,0,0,0,0,0,0,0,0,0,0,0,0,0,0,0,0,0,0,0,0,0,0,0,0,{"$f":"QYV180+QYV174+QYV168+QYV155+QYV142+QYV131+QYV126+QYV110+QYV92+QYV76+QYV54+QYV22","v":0},0,0,0,0,0,0,0,0,0,0,0,0,0,0,0,0,0,0,0,0,0,0,0,0,0,0,0,0,0,0,0,0,0,0,0,0,0,0,0,0,0,0,0,0,0,0,0,0,0,0,0,0,0,0,0,0,0,0,0,0,0,0,0,{"$f":"RBH180+RBH174+RBH168+RBH155+RBH142+RBH131+RBH126+RBH110+RBH92+RBH76+RBH54+RBH22","v":0},0,0,0,0,0,0,0,0,0,0,0,0,0,0,0,0,0,0,0,0,0,0,0,0,0,0,0,0,0,0,0,0,0,0,0,0,0,0,0,0,0,0,0,0,0,0,0,0,0,0,0,0,0,0,0,0,0,0,0,0,0,0,0,{"$f":"RDT180+RDT174+RDT168+RDT155+RDT142+RDT131+RDT126+RDT110+RDT92+RDT76+RDT54+RDT22","v":0},0,0,0,0,0,0,0,0,0,0,0,0,0,0,0,0,0,0,0,0,0,0,0,0,0,0,0,0,0,0,0,0,0,0,0,0,0,0,0,0,0,0,0,0,0,0,0,0,0,0,0,0,0,0,0,0,0,0,0,0,0,0,0,{"$f":"RGF180+RGF174+RGF168+RGF155+RGF142+RGF131+RGF126+RGF110+RGF92+RGF76+RGF54+RGF22","v":0},0,0,0,0,0,0,0,0,0,0,0,0,0,0,0,0,0,0,0,0,0,0,0,0,0,0,0,0,0,0,0,0,0,0,0,0,0,0,0,0,0,0,0,0,0,0,0,0,0,0,0,0,0,0,0,0,0,0,0,0,0,0,0,{"$f":"RIR180+RIR174+RIR168+RIR155+RIR142+RIR131+RIR126+RIR110+RIR92+RIR76+RIR54+RIR22","v":0},0,0,0,0,0,0,0,0,0,0,0,0,0,0,0,0,0,0,0,0,0,0,0,0,0,0,0,0,0,0,0,0,0,0,0,0,0,0,0,0,0,0,0,0,0,0,0,0,0,0,0,0,0,0,0,0,0,0,0,0,0,0,0,{"$f":"RLD180+RLD174+RLD168+RLD155+RLD142+RLD131+RLD126+RLD110+RLD92+RLD76+RLD54+RLD22","v":0},0,0,0,0,0,0,0,0,0,0,0,0,0,0,0,0,0,0,0,0,0,0,0,0,0,0,0,0,0,0,0,0,0,0,0,0,0,0,0,0,0,0,0,0,0,0,0,0,0,0,0,0,0,0,0,0,0,0,0,0,0,0,0,{"$f":"RNP180+RNP174+RNP168+RNP155+RNP142+RNP131+RNP126+RNP110+RNP92+RNP76+RNP54+RNP22","v":0},0,0,0,0,0,0,0,0,0,0,0,0,0,0,0,0,0,0,0,0,0,0,0,0,0,0,0,0,0,0,0,0,0,0,0,0,0,0,0,0,0,0,0,0,0,0,0,0,0,0,0,0,0,0,0,0,0,0,0,0,0,0,0,{"$f":"RQB180+RQB174+RQB168+RQB155+RQB142+RQB131+RQB126+RQB110+RQB92+RQB76+RQB54+RQB22","v":0},0,0,0,0,0,0,0,0,0,0,0,0,0,0,0,0,0,0,0,0,0,0,0,0,0,0,0,0,0,0,0,0,0,0,0,0,0,0,0,0,0,0,0,0,0,0,0,0,0,0,0,0,0,0,0,0,0,0,0,0,0,0,0,{"$f":"RSN180+RSN174+RSN168+RSN155+RSN142+RSN131+RSN126+RSN110+RSN92+RSN76+RSN54+RSN22","v":0},0,0,0,0,0,0,0,0,0,0,0,0,0,0,0,0,0,0,0,0,0,0,0,0,0,0,0,0,0,0,0,0,0,0,0,0,0,0,0,0,0,0,0,0,0,0,0,0,0,0,0,0,0,0,0,0,0,0,0,0,0,0,0,{"$f":"RUZ180+RUZ174+RUZ168+RUZ155+RUZ142+RUZ131+RUZ126+RUZ110+RUZ92+RUZ76+RUZ54+RUZ22","v":0},0,0,0,0,0,0,0,0,0,0,0,0,0,0,0,0,0,0,0,0,0,0,0,0,0,0,0,0,0,0,0,0,0,0,0,0,0,0,0,0,0,0,0,0,0,0,0,0,0,0,0,0,0,0,0,0,0,0,0,0,0,0,0,{"$f":"RXL180+RXL174+RXL168+RXL155+RXL142+RXL131+RXL126+RXL110+RXL92+RXL76+RXL54+RXL22","v":0},0,0,0,0,0,0,0,0,0,0,0,0,0,0,0,0,0,0,0,0,0,0,0,0,0,0,0,0,0,0,0,0,0,0,0,0,0,0,0,0,0,0,0,0,0,0,0,0,0,0,0,0,0,0,0,0,0,0,0,0,0,0,0,{"$f":"RZX180+RZX174+RZX168+RZX155+RZX142+RZX131+RZX126+RZX110+RZX92+RZX76+RZX54+RZX22","v":0},0,0,0,0,0,0,0,0,0,0,0,0,0,0,0,0,0,0,0,0,0,0,0,0,0,0,0,0,0,0,0,0,0,0,0,0,0,0,0,0,0,0,0,0,0,0,0,0,0,0,0,0,0,0,0,0,0,0,0,0,0,0,0,{"$f":"SCJ180+SCJ174+SCJ168+SCJ155+SCJ142+SCJ131+SCJ126+SCJ110+SCJ92+SCJ76+SCJ54+SCJ22","v":0},0,0,0,0,0,0,0,0,0,0,0,0,0,0,0,0,0,0,0,0,0,0,0,0,0,0,0,0,0,0,0,0,0,0,0,0,0,0,0,0,0,0,0,0,0,0,0,0,0,0,0,0,0,0,0,0,0,0,0,0,0,0,0,{"$f":"SEV180+SEV174+SEV168+SEV155+SEV142+SEV131+SEV126+SEV110+SEV92+SEV76+SEV54+SEV22","v":0},0,0,0,0,0,0,0,0,0,0,0,0,0,0,0,0,0,0,0,0,0,0,0,0,0,0,0,0,0,0,0,0,0,0,0,0,0,0,0,0,0,0,0,0,0,0,0,0,0,0,0,0,0,0,0,0,0,0,0,0,0,0,0,{"$f":"SHH180+SHH174+SHH168+SHH155+SHH142+SHH131+SHH126+SHH110+SHH92+SHH76+SHH54+SHH22","v":0},0,0,0,0,0,0,0,0,0,0,0,0,0,0,0,0,0,0,0,0,0,0,0,0,0,0,0,0,0,0,0,0,0,0,0,0,0,0,0,0,0,0,0,0,0,0,0,0,0,0,0,0,0,0,0,0,0,0,0,0,0,0,0,{"$f":"SJT180+SJT174+SJT168+SJT155+SJT142+SJT131+SJT126+SJT110+SJT92+SJT76+SJT54+SJT22","v":0},0,0,0,0,0,0,0,0,0,0,0,0,0,0,0,0,0,0,0,0,0,0,0,0,0,0,0,0,0,0,0,0,0,0,0,0,0,0,0,0,0,0,0,0,0,0,0,0,0,0,0,0,0,0,0,0,0,0,0,0,0,0,0,{"$f":"SMF180+SMF174+SMF168+SMF155+SMF142+SMF131+SMF126+SMF110+SMF92+SMF76+SMF54+SMF22","v":0},0,0,0,0,0,0,0,0,0,0,0,0,0,0,0,0,0,0,0,0,0,0,0,0,0,0,0,0,0,0,0,0,0,0,0,0,0,0,0,0,0,0,0,0,0,0,0,0,0,0,0,0,0,0,0,0,0,0,0,0,0,0,0,{"$f":"SOR180+SOR174+SOR168+SOR155+SOR142+SOR131+SOR126+SOR110+SOR92+SOR76+SOR54+SOR22","v":0},0,0,0,0,0,0,0,0,0,0,0,0,0,0,0,0,0,0,0,0,0,0,0,0,0,0,0,0,0,0,0,0,0,0,0,0,0,0,0,0,0,0,0,0,0,0,0,0,0,0,0,0,0,0,0,0,0,0,0,0,0,0,0,{"$f":"SRD180+SRD174+SRD168+SRD155+SRD142+SRD131+SRD126+SRD110+SRD92+SRD76+SRD54+SRD22","v":0},0,0,0,0,0,0,0,0,0,0,0,0,0,0,0,0,0,0,0,0,0,0,0,0,0,0,0,0,0,0,0,0,0,0,0,0,0,0,0,0,0,0,0,0,0,0,0,0,0,0,0,0,0,0,0,0,0,0,0,0,0,0,0,{"$f":"STP180+STP174+STP168+STP155+STP142+STP131+STP126+STP110+STP92+STP76+STP54+STP22","v":0},0,0,0,0,0,0,0,0,0,0,0,0,0,0,0,0,0,0,0,0,0,0,0,0,0,0,0,0,0,0,0,0,0,0,0,0,0,0,0,0,0,0,0,0,0,0,0,0,0,0,0,0,0,0,0,0,0,0,0,0,0,0,0,{"$f":"SWB180+SWB174+SWB168+SWB155+SWB142+SWB131+SWB126+SWB110+SWB92+SWB76+SWB54+SWB22","v":0},0,0,0,0,0,0,0,0,0,0,0,0,0,0,0,0,0,0,0,0,0,0,0,0,0,0,0,0,0,0,0,0,0,0,0,0,0,0,0,0,0,0,0,0,0,0,0,0,0,0,0,0,0,0,0,0,0,0,0,0,0,0,0,{"$f":"SYN180+SYN174+SYN168+SYN155+SYN142+SYN131+SYN126+SYN110+SYN92+SYN76+SYN54+SYN22","v":0},0,0,0,0,0,0,0,0,0,0,0,0,0,0,0,0,0,0,0,0,0,0,0,0,0,0,0,0,0,0,0,0,0,0,0,0,0,0,0,0,0,0,0,0,0,0,0,0,0,0,0,0,0,0,0,0,0,0,0,0,0,0,0,{"$f":"TAZ180+TAZ174+TAZ168+TAZ155+TAZ142+TAZ131+TAZ126+TAZ110+TAZ92+TAZ76+TAZ54+TAZ22","v":0},0,0,0,0,0,0,0,0,0,0,0,0,0,0,0,0,0,0,0,0,0,0,0,0,0,0,0,0,0,0,0,0,0,0,0,0,0,0,0,0,0,0,0,0,0,0,0,0,0,0,0,0,0,0,0,0,0,0,0,0,0,0,0,{"$f":"TDL180+TDL174+TDL168+TDL155+TDL142+TDL131+TDL126+TDL110+TDL92+TDL76+TDL54+TDL22","v":0},0,0,0,0,0,0,0,0,0,0,0,0,0,0,0,0,0,0,0,0,0,0,0,0,0,0,0,0,0,0,0,0,0,0,0,0,0,0,0,0,0,0,0,0,0,0,0,0,0,0,0,0,0,0,0,0,0,0,0,0,0,0,0,{"$f":"TFX180+TFX174+TFX168+TFX155+TFX142+TFX131+TFX126+TFX110+TFX92+TFX76+TFX54+TFX22","v":0},0,0,0,0,0,0,0,0,0,0,0,0,0,0,0,0,0,0,0,0,0,0,0,0,0,0,0,0,0,0,0,0,0,0,0,0,0,0,0,0,0,0,0,0,0,0,0,0,0,0,0,0,0,0,0,0,0,0,0,0,0,0,0,{"$f":"TIJ180+TIJ174+TIJ168+TIJ155+TIJ142+TIJ131+TIJ126+TIJ110+TIJ92+TIJ76+TIJ54+TIJ22","v":0},0,0,0,0,0,0,0,0,0,0,0,0,0,0,0,0,0,0,0,0,0,0,0,0,0,0,0,0,0,0,0,0,0,0,0,0,0,0,0,0,0,0,0,0,0,0,0,0,0,0,0,0,0,0,0,0,0,0,0,0,0,0,0,{"$f":"TKV180+TKV174+TKV168+TKV155+TKV142+TKV131+TKV126+TKV110+TKV92+TKV76+TKV54+TKV22","v":0},0,0,0,0,0,0,0,0,0,0,0,0,0,0,0,0,0,0,0,0,0,0,0,0,0,0,0,0,0,0,0,0,0,0,0,0,0,0,0,0,0,0,0,0,0,0,0,0,0,0,0,0,0,0,0,0,0,0,0,0,0,0,0,{"$f":"TNH180+TNH174+TNH168+TNH155+TNH142+TNH131+TNH126+TNH110+TNH92+TNH76+TNH54+TNH22","v":0},0,0,0,0,0,0,0,0,0,0,0,0,0,0,0,0,0,0,0,0,0,0,0,0,0,0,0,0,0,0,0,0,0,0,0,0,0,0,0,0,0,0,0,0,0,0,0,0,0,0,0,0,0,0,0,0,0,0,0,0,0,0,0,{"$f":"TPT180+TPT174+TPT168+TPT155+TPT142+TPT131+TPT126+TPT110+TPT92+TPT76+TPT54+TPT22","v":0},0,0,0,0,0,0,0,0,0,0,0,0,0,0,0,0,0,0,0,0,0,0,0,0,0,0,0,0,0,0,0,0,0,0,0,0,0,0,0,0,0,0,0,0,0,0,0,0,0,0,0,0,0,0,0,0,0,0,0,0,0,0,0,{"$f":"TSF180+TSF174+TSF168+TSF155+TSF142+TSF131+TSF126+TSF110+TSF92+TSF76+TSF54+TSF22","v":0},0,0,0,0,0,0,0,0,0,0,0,0,0,0,0,0,0,0,0,0,0,0,0,0,0,0,0,0,0,0,0,0,0,0,0,0,0,0,0,0,0,0,0,0,0,0,0,0,0,0,0,0,0,0,0,0,0,0,0,0,0,0,0,{"$f":"TUR180+TUR174+TUR168+TUR155+TUR142+TUR131+TUR126+TUR110+TUR92+TUR76+TUR54+TUR22","v":0},0,0,0,0,0,0,0,0,0,0,0,0,0,0,0,0,0,0,0,0,0,0,0,0,0,0,0,0,0,0,0,0,0,0,0,0,0,0,0,0,0,0,0,0,0,0,0,0,0,0,0,0,0,0,0,0,0,0,0,0,0,0,0,{"$f":"TXD180+TXD174+TXD168+TXD155+TXD142+TXD131+TXD126+TXD110+TXD92+TXD76+TXD54+TXD22","v":0},0,0,0,0,0,0,0,0,0,0,0,0,0,0,0,0,0,0,0,0,0,0,0,0,0,0,0,0,0,0,0,0,0,0,0,0,0,0,0,0,0,0,0,0,0,0,0,0,0,0,0,0,0,0,0,0,0,0,0,0,0,0,0,{"$f":"TZP180+TZP174+TZP168+TZP155+TZP142+TZP131+TZP126+TZP110+TZP92+TZP76+TZP54+TZP22","v":0},0,0,0,0,0,0,0,0,0,0,0,0,0,0,0,0,0,0,0,0,0,0,0,0,0,0,0,0,0,0,0,0,0,0,0,0,0,0,0,0,0,0,0,0,0,0,0,0,0,0,0,0,0,0,0,0,0,0,0,0,0,0,0,{"$f":"UCB180+UCB174+UCB168+UCB155+UCB142+UCB131+UCB126+UCB110+UCB92+UCB76+UCB54+UCB22","v":0},0,0,0,0,0,0,0,0,0,0,0,0,0,0,0,0,0,0,0,0,0,0,0,0,0,0,0,0,0,0,0,0,0,0,0,0,0,0,0,0,0,0,0,0,0,0,0,0,0,0,0,0,0,0,0,0,0,0,0,0,0,0,0,{"$f":"UEN180+UEN174+UEN168+UEN155+UEN142+UEN131+UEN126+UEN110+UEN92+UEN76+UEN54+UEN22","v":0},0,0,0,0,0,0,0,0,0,0,0,0,0,0,0,0,0,0,0,0,0,0,0,0,0,0,0,0,0,0,0,0,0,0,0,0,0,0,0,0,0,0,0,0,0,0,0,0,0,0,0,0,0,0,0,0,0,0,0,0,0,0,0,{"$f":"UGZ180+UGZ174+UGZ168+UGZ155+UGZ142+UGZ131+UGZ126+UGZ110+UGZ92+UGZ76+UGZ54+UGZ22","v":0},0,0,0,0,0,0,0,0,0,0,0,0,0,0,0,0,0,0,0,0,0,0,0,0,0,0,0,0,0,0,0,0,0,0,0,0,0,0,0,0,0,0,0,0,0,0,0,0,0,0,0,0,0,0,0,0,0,0,0,0,0,0,0,{"$f":"UJL180+UJL174+UJL168+UJL155+UJL142+UJL131+UJL126+UJL110+UJL92+UJL76+UJL54+UJL22","v":0},0,0,0,0,0,0,0,0,0,0,0,0,0,0,0,0,0,0,0,0,0,0,0,0,0,0,0,0,0,0,0,0,0,0,0,0,0,0,0,0,0,0,0,0,0,0,0,0,0,0,0,0,0,0,0,0,0,0,0,0,0,0,0,{"$f":"ULX180+ULX174+ULX168+ULX155+ULX142+ULX131+ULX126+ULX110+ULX92+ULX76+ULX54+ULX22","v":0},0,0,0,0,0,0,0,0,0,0,0,0,0,0,0,0,0,0,0,0,0,0,0,0,0,0,0,0,0,0,0,0,0,0,0,0,0,0,0,0,0,0,0,0,0,0,0,0,0,0,0,0,0,0,0,0,0,0,0,0,0,0,0,{"$f":"UOJ180+UOJ174+UOJ168+UOJ155+UOJ142+UOJ131+UOJ126+UOJ110+UOJ92+UOJ76+UOJ54+UOJ22","v":0},0,0,0,0,0,0,0,0,0,0,0,0,0,0,0,0,0,0,0,0,0,0,0,0,0,0,0,0,0,0,0,0,0,0,0,0,0,0,0,0,0,0,0,0,0,0,0,0,0,0,0,0,0,0,0,0,0,0,0,0,0,0,0,{"$f":"UQV180+UQV174+UQV168+UQV155+UQV142+UQV131+UQV126+UQV110+UQV92+UQV76+UQV54+UQV22","v":0},0,0,0,0,0,0,0,0,0,0,0,0,0,0,0,0,0,0,0,0,0,0,0,0,0,0,0,0,0,0,0,0,0,0,0,0,0,0,0,0,0,0,0,0,0,0,0,0,0,0,0,0,0,0,0,0,0,0,0,0,0,0,0,{"$f":"UTH180+UTH174+UTH168+UTH155+UTH142+UTH131+UTH126+UTH110+UTH92+UTH76+UTH54+UTH22","v":0},0,0,0,0,0,0,0,0,0,0,0,0,0,0,0,0,0,0,0,0,0,0,0,0,0,0,0,0,0,0,0,0,0,0,0,0,0,0,0,0,0,0,0,0,0,0,0,0,0,0,0,0,0,0,0,0,0,0,0,0,0,0,0,{"$f":"UVT180+UVT174+UVT168+UVT155+UVT142+UVT131+UVT126+UVT110+UVT92+UVT76+UVT54+UVT22","v":0},0,0,0,0,0,0,0,0,0,0,0,0,0,0,0,0,0,0,0,0,0,0,0,0,0,0,0,0,0,0,0,0,0,0,0,0,0,0,0,0,0,0,0,0,0,0,0,0,0,0,0,0,0,0,0,0,0,0,0,0,0,0,0,{"$f":"UYF180+UYF174+UYF168+UYF155+UYF142+UYF131+UYF126+UYF110+UYF92+UYF76+UYF54+UYF22","v":0},0,0,0,0,0,0,0,0,0,0,0,0,0,0,0,0,0,0,0,0,0,0,0,0,0,0,0,0,0,0,0,0,0,0,0,0,0,0,0,0,0,0,0,0,0,0,0,0,0,0,0,0,0,0,0,0,0,0,0,0,0,0,0,{"$f":"VAR180+VAR174+VAR168+VAR155+VAR142+VAR131+VAR126+VAR110+VAR92+VAR76+VAR54+VAR22","v":0},0,0,0,0,0,0,0,0,0,0,0,0,0,0,0,0,0,0,0,0,0,0,0,0,0,0,0,0,0,0,0,0,0,0,0,0,0,0,0,0,0,0,0,0,0,0,0,0,0,0,0,0,0,0,0,0,0,0,0,0,0,0,0,{"$f":"VDD180+VDD174+VDD168+VDD155+VDD142+VDD131+VDD126+VDD110+VDD92+VDD76+VDD54+VDD22","v":0},0,0,0,0,0,0,0,0,0,0,0,0,0,0,0,0,0,0,0,0,0,0,0,0,0,0,0,0,0,0,0,0,0,0,0,0,0,0,0,0,0,0,0,0,0,0,0,0,0,0,0,0,0,0,0,0,0,0,0,0,0,0,0,{"$f":"VFP180+VFP174+VFP168+VFP155+VFP142+VFP131+VFP126+VFP110+VFP92+VFP76+VFP54+VFP22","v":0},0,0,0,0,0,0,0,0,0,0,0,0,0,0,0,0,0,0,0,0,0,0,0,0,0,0,0,0,0,0,0,0,0,0,0,0,0,0,0,0,0,0,0,0,0,0,0,0,0,0,0,0,0,0,0,0,0,0,0,0,0,0,0,{"$f":"VIB180+VIB174+VIB168+VIB155+VIB142+VIB131+VIB126+VIB110+VIB92+VIB76+VIB54+VIB22","v":0},0,0,0,0,0,0,0,0,0,0,0,0,0,0,0,0,0,0,0,0,0,0,0,0,0,0,0,0,0,0,0,0,0,0,0,0,0,0,0,0,0,0,0,0,0,0,0,0,0,0,0,0,0,0,0,0,0,0,0,0,0,0,0,{"$f":"VKN180+VKN174+VKN168+VKN155+VKN142+VKN131+VKN126+VKN110+VKN92+VKN76+VKN54+VKN22","v":0},0,0,0,0,0,0,0,0,0,0,0,0,0,0,0,0,0,0,0,0,0,0,0,0,0,0,0,0,0,0,0,0,0,0,0,0,0,0,0,0,0,0,0,0,0,0,0,0,0,0,0,0,0,0,0,0,0,0,0,0,0,0,0,{"$f":"VMZ180+VMZ174+VMZ168+VMZ155+VMZ142+VMZ131+VMZ126+VMZ110+VMZ92+VMZ76+VMZ54+VMZ22","v":0},0,0,0,0,0,0,0,0,0,0,0,0,0,0,0,0,0,0,0,0,0,0,0,0,0,0,0,0,0,0,0,0,0,0,0,0,0,0,0,0,0,0,0,0,0,0,0,0,0,0,0,0,0,0,0,0,0,0,0,0,0,0,0,{"$f":"VPL180+VPL174+VPL168+VPL155+VPL142+VPL131+VPL126+VPL110+VPL92+VPL76+VPL54+VPL22","v":0},0,0,0,0,0,0,0,0,0,0,0,0,0,0,0,0,0,0,0,0,0,0,0,0,0,0,0,0,0,0,0,0,0,0,0,0,0,0,0,0,0,0,0,0,0,0,0,0,0,0,0,0,0,0,0,0,0,0,0,0,0,0,0,{"$f":"VRX180+VRX174+VRX168+VRX155+VRX142+VRX131+VRX126+VRX110+VRX92+VRX76+VRX54+VRX22","v":0},0,0,0,0,0,0,0,0,0,0,0,0,0,0,0,0,0,0,0,0,0,0,0,0,0,0,0,0,0,0,0,0,0,0,0,0,0,0,0,0,0,0,0,0,0,0,0,0,0,0,0,0,0,0,0,0,0,0,0,0,0,0,0,{"$f":"VUJ180+VUJ174+VUJ168+VUJ155+VUJ142+VUJ131+VUJ126+VUJ110+VUJ92+VUJ76+VUJ54+VUJ22","v":0},0,0,0,0,0,0,0,0,0,0,0,0,0,0,0,0,0,0,0,0,0,0,0,0,0,0,0,0,0,0,0,0,0,0,0,0,0,0,0,0,0,0,0,0,0,0,0,0,0,0,0,0,0,0,0,0,0,0,0,0,0,0,0,{"$f":"VWV180+VWV174+VWV168+VWV155+VWV142+VWV131+VWV126+VWV110+VWV92+VWV76+VWV54+VWV22","v":0},0,0,0,0,0,0,0,0,0,0,0,0,0,0,0,0,0,0,0,0,0,0,0,0,0,0,0,0,0,0,0,0,0,0,0,0,0,0,0,0,0,0,0,0,0,0,0,0,0,0,0,0,0,0,0,0,0,0,0,0,0,0,0,{"$f":"VZH180+VZH174+VZH168+VZH155+VZH142+VZH131+VZH126+VZH110+VZH92+VZH76+VZH54+VZH22","v":0},0,0,0,0,0,0,0,0,0,0,0,0,0,0,0,0,0,0,0,0,0,0,0,0,0,0,0,0,0,0,0,0,0,0,0,0,0,0,0,0,0,0,0,0,0,0,0,0,0,0,0,0,0,0,0,0,0,0,0,0,0,0,0,{"$f":"WBT180+WBT174+WBT168+WBT155+WBT142+WBT131+WBT126+WBT110+WBT92+WBT76+WBT54+WBT22","v":0},0,0,0,0,0,0,0,0,0,0,0,0,0,0,0,0,0,0,0,0,0,0,0,0,0,0,0,0,0,0,0,0,0,0,0,0,0,0,0,0,0,0,0,0,0,0,0,0,0,0,0,0,0,0,0,0,0,0,0,0,0,0,0,{"$f":"WEF180+WEF174+WEF168+WEF155+WEF142+WEF131+WEF126+WEF110+WEF92+WEF76+WEF54+WEF22","v":0},0,0,0,0,0,0,0,0,0,0,0,0,0,0,0,0,0,0,0,0,0,0,0,0,0,0,0,0,0,0,0,0,0,0,0,0,0,0,0,0,0,0,0,0,0,0,0,0,0,0,0,0,0,0,0,0,0,0,0,0,0,0,0,{"$f":"WGR180+WGR174+WGR168+WGR155+WGR142+WGR131+WGR126+WGR110+WGR92+WGR76+WGR54+WGR22","v":0},0,0,0,0,0,0,0,0,0,0,0,0,0,0,0,0,0,0,0,0,0,0,0,0,0,0,0,0,0,0,0,0,0,0,0,0,0,0,0,0,0,0,0,0,0,0,0,0,0,0,0,0,0,0,0,0,0,0,0,0,0,0,0,{"$f":"WJD180+WJD174+WJD168+WJD155+WJD142+WJD131+WJD126+WJD110+WJD92+WJD76+WJD54+WJD22","v":0},0,0,0,0,0,0,0,0,0,0,0,0,0,0,0,0,0,0,0,0,0,0,0,0,0,0,0,0,0,0,0,0,0,0,0,0,0,0,0,0,0,0,0,0,0,0,0,0,0,0,0,0,0,0,0,0,0,0,0,0,0,0,0,{"$f":"WLP180+WLP174+WLP168+WLP155+WLP142+WLP131+WLP126+WLP110+WLP92+WLP76+WLP54+WLP22","v":0},0,0,0,0,0,0,0,0,0,0,0,0,0,0,0,0,0,0,0,0,0,0,0,0,0,0,0,0,0,0,0,0,0,0,0,0,0,0,0,0,0,0,0,0,0,0,0,0,0,0,0,0,0,0,0,0,0,0,0,0,0,0,0,{"$f":"WOB180+WOB174+WOB168+WOB155+WOB142+WOB131+WOB126+WOB110+WOB92+WOB76+WOB54+WOB22","v":0},0,0,0,0,0,0,0,0,0,0,0,0,0,0,0,0,0,0,0,0,0,0,0,0,0,0,0,0,0,0,0,0,0,0,0,0,0,0,0,0,0,0,0,0,0,0,0,0,0,0,0,0,0,0,0,0,0,0,0,0,0,0,0,{"$f":"WQN180+WQN174+WQN168+WQN155+WQN142+WQN131+WQN126+WQN110+WQN92+WQN76+WQN54+WQN22","v":0},0,0,0,0,0,0,0,0,0,0,0,0,0,0,0,0,0,0,0,0,0,0,0,0,0,0,0,0,0,0,0,0,0,0,0,0,0,0,0,0,0,0,0,0,0,0,0,0,0,0,0,0,0,0,0,0,0,0,0,0,0,0,0,{"$f":"WSZ180+WSZ174+WSZ168+WSZ155+WSZ142+WSZ131+WSZ126+WSZ110+WSZ92+WSZ76+WSZ54+WSZ22","v":0},0,0,0,0,0,0,0,0,0,0,0,0,0,0,0,0,0,0,0,0,0,0,0,0,0,0,0,0,0,0,0,0,0,0,0,0,0,0,0,0,0,0,0,0,0,0,0,0,0,0,0,0,0,0,0,0,0,0,0,0,0,0,0,{"$f":"WVL180+WVL174+WVL168+WVL155+WVL142+WVL131+WVL126+WVL110+WVL92+WVL76+WVL54+WVL22","v":0},0,0,0,0,0,0,0,0,0,0,0,0,0,0,0,0,0,0,0,0,0,0,0,0,0,0,0,0,0,0,0,0,0,0,0,0,0,0,0,0,0,0,0,0,0,0,0,0,0,0,0,0,0,0,0,0,0,0,0,0,0,0,0,{"$f":"WXX180+WXX174+WXX168+WXX155+WXX142+WXX131+WXX126+WXX110+WXX92+WXX76+WXX54+WXX22","v":0},0,0,0,0,0,0,0,0,0,0,0,0,0,0,0,0,0,0,0,0,0,0,0,0,0,0,0,0,0,0,0,0,0,0,0,0,0,0,0,0,0,0,0,0,0,0,0,0,0,0,0,0,0,0,0,0,0,0,0,0,0,0,0,{"$f":"XAJ180+XAJ174+XAJ168+XAJ155+XAJ142+XAJ131+XAJ126+XAJ110+XAJ92+XAJ76+XAJ54+XAJ22","v":0},0,0,0,0,0,0,0,0,0,0,0,0,0,0,0,0,0,0,0,0,0,0,0,0,0,0,0,0,0,0,0,0,0,0,0,0,0,0,0,0,0,0,0,0,0,0,0,0,0,0,0,0,0,0,0,0,0,0,0,0,0,0,0,{"$f":"XCV180+XCV174+XCV168+XCV155+XCV142+XCV131+XCV126+XCV110+XCV92+XCV76+XCV54+XCV22","v":0},0,0,0,0,0,0,0,0,0,0,0,0,0,0,0,0,0,0,0,0,0,0,0,0,0,0,0,0,0,0,0,0,0,0,0,0,0,0,0,0,0,0,0,0,0,0,0,0,0,0,0,0,0,0,0,0,0,0,0,0]
["Осуществление строительного контроля",null,{"$f":"(C181-L181-Z181)*0.0214","v":19225517.842093997}]
["Итого по Ленинградской области со строительным контролем",null,{"$f":"C181+C182","v":969072646.65729392},null,null,null,null,null,null,null,{"$f":"C182+L181","v":37533962.447293997}]
[]
[]
[]
[]
[]
[]
[]
[]
[]
[]
[]
[]
[]
[]
[]
[]
[]
[]
[]
[]
[]
[]
[]
[]
[]
[]
[]
[]
[]
[]
[]
[]
[]
[]
[]
[]
[]
[]
[]
[]
[]
[]
[]
[]
[]
[]
[]
[]
[]
[]
[]
[]
[]
[]
[]
[]
[]
[]
[]
[]
[]
[]
[]
[]
[]
[]
[]
[]
[]
[]
[]
[]
[]
[]
[]
[]
[]
[]
[]
[]
[]
[]
[]
[]
[]
[]
[]
[]
[]
[]
[]
[]
[]
[]
[]
[]
[]
[]
[]
[]
[]
[]
[]
[]
[]
[]
[]
[]
[]
[]
[]
[]
[]
[]
[]
[]
[]
[]
[]
[]
[]
[]
[]
[]
[]
[]
[]
[]
[]
[]
[]
[]
[]
[]
[]
[]
[]
[]
[]
[]
[]
[]
[]
[]
[]
[]
[]
[]
[]
[]
[]
[]
[]
[]
[]
[]
[]
[]
[]
[]
[]
[]
[]
[]
[]
[]
[]
[]
[]
[]
[]
[]
[]
[]
[]
[]
[]
[]
[]
[]
[]
[]
[]
[]
[]
[]
[]
[]
[]
[]
[]
[]
[]
[]
[]
[]
[]
[]
[]
[]
[]
[]
[]
[]
[]
[]
[]
[]
[]
[]
[]
[]
[]
[]
[]
[]
[]
[]
[]
[]
[]
[]
[]
[]
[]
[]
[]
[]
[]
[]
[]
[]
[]
[]
[]
[]
[]
[]
[]
[]
[]
[]
[]
[]
[]
[]
[]
[]
[]
[]
[]
[]
[]
[]
[]
[]
[]
[]
[]
[]
[]
[]
[]
[]
[]
[]
[]
[]
[]
[]
[]
[]
[]
[]
[]
[]
[]
[]
[]
[]
[]
[]
[]
[]
[]
[]
[]
[]
[]
[]
[]
[]
[]
[]
[]
[]
[]
[]
[]
[]
[]
[]
[]
[]
[]
[]
[]
[]
[]
[]
[]
[]
[]
[]
[]
[]
[]
[]
[]
[]
[]
[]
[]
[]
[]
[]
[]
[]
[]
[]
[]
[]
[]
[]
[]
[]
[]
[]
[]
[]
[]
[]
[]
[]
[]
[]
[]
[]
[]
[]
[]
[]
[]
[]
[]
[]
[]
[]
[]
[]
[]
[]
[]
[]
[]
[]
[]
[]
[]
[]
[]
[]
[]
[]
[]
[]
[]
[]
[]
[]
[]
[]
[]
[]
[]
[]
[]
[]
[]
[]
[]
[]
[]
[]
[]
[]
[]
[]
[]
[]
[]
[]
[]
[]
[]
[]
[]
[]
[]
[]
[]
[]
[]
[]
[]
[]
[]
[]
[]
[]
[]
[]
[]
[]
[]
[]
[]
[]
[]
[]
[]
[]
[]
[]
[]
[]
[]
[]
[]
[]
[]
[]
[]
[]
[]
[]
[]
[]
[]
[]
[]
[]
[]
[]
[]
[]
[]
[]
[]
[]
[]
[]
[]
[]
[]
[]
[]
[]
[]
[]
[]
[]
[]
[]
[]
[]
[]
[]
[]
[]
[]
[]
[]
[]
[]
[]
[]
[]
[]
[]
[]
[]
[]
[]
[]
[]
[]
[]
[]
[]
[]
[]
[]
[]
[]
[]
[]
[]
[]
[]
[]
[]
[]
[]
[]
[]
[]
[]
[]
[]
[]
[]
[]
[]
[]
[]
[]
[]
[]
[]
[]
[]
[]
[]
[]
[]
[]
[]
[]
[]
[]
[]
[]
[]
[]
[]
[]
[]
[]
[]
[]
[]
[]
[]
[]
[]
[]
[]
[]
[]
[]
[]
[]
[]
[]
[]
[]
[]
[]
[]
[]
[]
[]
[]
[]
[]
[]
[]
[]
[]
[]
[]
[]
[]
[]
[]
[]
[]
[]
[]
[]
[]
[]
[]
[]
[]
[]
[]
[]
[]
[]
[]
[]
[]
[]
[]
[]
[]
[]
[]
[]
[]
[]
[]
[]
[]
[]
[]
[]
[]
[]
[]
[]
[]
[]
[]
[]
[]
[]
[]
[]
[]
[]
[]
[]
[]
[]
[]
[]
[]
[]
[]
[]
[]
[]
[]
[]
[]
[]
[]
[]
[]
[]
[]
[]
[]
[]
[]
[]
[]
[]
[]
[]
[]
[]
[]
[]
[]
[]
[]
[]
[]
[]
[]
[]
[]
[]
[]
[]
[]
[]
[]
[]
[]
[]
[]
[]
[]
[]
[]
[]
[]
[]
[]
[]
[]
[]
[]
[]
[]
[]
[]
[]
[]
[]
[]
[]
[]
[]
[]
[]
[]
[]
[]
[]
[]
[]
[]
[]
[]
[]
[]
[]
[]
[]
[]
[]
[]
[]
[]
[]
[]
[]
[]
[]
[]
[]
[]
[]
[]
[]
[]
[]
[]
[]
[]
[]
[]
[]
[]
[]
[]
[]
[]
[]
[]
[]
[]
[]
[]
[]
[]
[]
[]
[]
[]
[]
[]
[]
[]
[]
[]
[]
[]
[]
[]
[]
[]
[]
[]
[]
[]
[]
[]
[]
[]
[]
[]
[]
[]
[]
[]
[]
[]
[]
[]
[]
[]
[]
[]
[]
[]
[]
[]
[]
[]
[]
[]
[]
[]
[]
[]
[]
[]
[]
[]
[]
[]
[]
[]
[]
[]
[]
[]
[]
[]
[]
[]
[]
[]
[]
[]
[]
[]
[]
[]
[]
[]
[]
[]
[]
[]
[]
[]
[]
[]
[]
[]
[]
[]
[]
[]
[]
[]
[]
[]
[]
[]
[]
[]
[]
[]
[]
[]
[]
[]
[]
[]
[]
[]
[]
[]
[]
[]
[]
[]
[]
[]
[]
[]
[]
[]
[]
[]
[]
[]
[]
[]
[]
[]
[]
[]
[]
[]
[]
[]
[]
[]
[]
[]
[]
[]
[]
[]
[]
[]
[null,null,null,null,null,null,null,null,null,null,null,null,null,null,null,null,null,null,null,null,null,null,null,null,null,{"$f":"#REF!-#REF!","v":{"$error":"#REF!"}}]
[null,null,null,null,null,null,null,null,null,null,null,null,null,null,null,null,null,null,null,null,null,null,null,null,null,{"$f":"#REF!-Z1090","v":{"$error":"#REF!"}}]
[]
[null,null,null,null,null,null,null,null,null,null,null,null,null,null,null,null,null,null,null,null,null,null,null,null,null,80325165.219999999]
[null,null,null,null,null,null,null,null,null,null,null,null,null,null,null,null,null,null,null,null,null,null,null,null,null,{"$f":"Z1090-Z1093","v":{"$error":"#REF!"}}]